BEGIN:VCALENDAR
VERSION:2.0
PRODID:IEEE vTools.Events//EN
CALSCALE:GREGORIAN
BEGIN:VTIMEZONE
TZID:Atlantic/Azores
BEGIN:DAYLIGHT
DTSTART:20250330T010000
TZOFFSETFROM:-0100
TZOFFSETTO:+0000
RRULE:FREQ=YEARLY;BYDAY=-1SU;BYMONTH=3
TZNAME:+00
END:DAYLIGHT
BEGIN:STANDARD
DTSTART:20251026T000000
TZOFFSETFROM:+0000
TZOFFSETTO:-0100
RRULE:FREQ=YEARLY;BYDAY=-1SU;BYMONTH=10
TZNAME:-01
END:STANDARD
END:VTIMEZONE
BEGIN:VEVENT
DTSTAMP:20251017T063527Z
UID:D293C8AE-2A3D-48E1-BD97-60F4060D1C76
DTSTART;TZID=Atlantic/Azores:20251008T103000
DTEND;TZID=Atlantic/Azores:20251008T133000
DESCRIPTION:IEEE Ghana Section 2025 IEEE DAY Celebration\n\nCo-sponsored by
 : Maxwell Darko Addison\n\nSpeaker(s): Dr. George Eduful \n\nAgenda: \n- A
 rrival /Registration / Networking\n- Opening Prayer\n- Welcoming Address\n
 - Special Message\n- IEEE Video Clip\n- About IEEE\n- (Membership\, Benefi
 ts and more)\n- How to Write a Research Paper\n- Q &amp; A\n- IEEE Recognition
  Awards\n- Closing remarks\n- Announcement\n- Closing Prayers\n- Group Pho
 tos\n- Refreshment / networking / Membership Registration\n\nRoom: BluCres
 t Auditorium\, Bldg: BluCrest Auditorium\, BluCrest University Colloge-Acc
 ra\, Ghana\, Accra\, Ghana\, Ghana\, 233\, Virtual: https://events.vtools.
 ieee.org/m/505778
LOCATION:Room: BluCrest Auditorium\, Bldg: BluCrest Auditorium\, BluCrest U
 niversity Colloge-Accra\, Ghana\, Accra\, Ghana\, Ghana\, 233\, Virtual: h
 ttps://events.vtools.ieee.org/m/505778
ORGANIZER:m.d.addison@ieee.org
SEQUENCE:75
SUMMARY:IEEE Ghana Section 2025 IEEE DAY Celebration
URL;VALUE=URI:https://events.vtools.ieee.org/m/505778
X-ALT-DESC:Description: &lt;br /&gt;&lt;p style=&quot;text-align: center\;&quot;&gt;&lt;strong&gt;&lt;span
  style=&quot;font-size: 18.0pt\; line-height: 107%\; font-family: &#39;Tahoma&#39;\,san
 s-serif\; mso-fareast-font-family: Calibri\; color: #4472c4\; mso-themecol
 or: accent1\; mso-font-kerning: 0pt\; mso-ligatures: none\; mso-ansi-langu
 age: EN-US\; mso-fareast-language: EN-US\; mso-bidi-language: AR-SA\;&quot;&gt;IEE
 E Ghana Section 2025 IEEE DAY Celebration&lt;/span&gt;&lt;/strong&gt;&lt;span style=&quot;font
 -size: 18.0pt\; line-height: 107%\; font-family: &#39;Tahoma&#39;\,sans-serif\; ms
 o-fareast-font-family: Calibri\; color: black\; mso-font-kerning: 0pt\; ms
 o-ligatures: none\; mso-ansi-language: EN-US\; mso-fareast-language: EN-US
 \; mso-bidi-language: AR-SA\;&quot;&gt;&lt;br style=&quot;mso-special-character: line-brea
 k\;&quot;&gt;&lt;!-- [if !supportLineBreakNewLine]--&gt;&lt;img src=&quot;https://events.vtools.
 ieee.org/vtools_ui/media/display/11af0b4d-d488-46f2-af77-4e9ce80a9da9&quot; wid
 th=&quot;871&quot; height=&quot;567&quot;&gt;&lt;br style=&quot;mso-special-character: line-break\;&quot;&gt;&lt;!--
 [endif]--&gt;&lt;/span&gt;&lt;/p&gt;&lt;br /&gt;&lt;br /&gt;Agenda: &lt;br /&gt;&lt;p style=&quot;text-align: left\
 ;&quot;&gt;&lt;strong&gt;&amp;nbsp\; &amp;nbsp\; &amp;nbsp\; &amp;nbsp\; &amp;nbsp\; &amp;nbsp\; &amp;nbsp\;&amp;nbsp\;&lt;
 /strong&gt;&lt;/p&gt;\n&lt;ul&gt;\n&lt;li class=&quot;MsoNormal&quot;&gt;Arrival /Registration / Networki
 ng&lt;/li&gt;\n&lt;li class=&quot;MsoNormal&quot;&gt;Opening Prayer&lt;/li&gt;\n&lt;li class=&quot;MsoNormal&quot;&gt;
 Welcoming Address&lt;/li&gt;\n&lt;li class=&quot;MsoNormal&quot;&gt;Special Message&lt;/li&gt;\n&lt;li cl
 ass=&quot;MsoNormal&quot;&gt;IEEE Video Clip&lt;/li&gt;\n&lt;li class=&quot;MsoNormal&quot;&gt;About IEEE&lt;/li
 &gt;\n&lt;li class=&quot;MsoNormal&quot;&gt;(Membership\, Benefits and more)&lt;/li&gt;\n&lt;li class=
 &quot;MsoNormal&quot;&gt;How to Write a Research Paper&lt;/li&gt;\n&lt;li class=&quot;MsoNormal&quot;&gt;Q &amp;a
 mp\; A&lt;/li&gt;\n&lt;li class=&quot;MsoNormal&quot;&gt;IEEE Recognition Awards&lt;/li&gt;\n&lt;li class
 =&quot;MsoNormal&quot;&gt;Closing remarks&lt;/li&gt;\n&lt;li class=&quot;MsoNormal&quot;&gt;Announcement&lt;/li&gt;
 \n&lt;li class=&quot;MsoNormal&quot;&gt;Closing Prayers&lt;/li&gt;\n&lt;li class=&quot;MsoNormal&quot;&gt;Group 
 Photos&lt;/li&gt;\n&lt;li class=&quot;MsoNormal&quot;&gt;Refreshment / networking / Membership R
 egistration&lt;/li&gt;\n&lt;/ul&gt;
END:VEVENT
END:VCALENDAR

