BEGIN:VCALENDAR
VERSION:2.0
PRODID:IEEE vTools.Events//EN
CALSCALE:GREGORIAN
BEGIN:VTIMEZONE
TZID:America/New_York
BEGIN:DAYLIGHT
DTSTART:20260308T030000
TZOFFSETFROM:-0500
TZOFFSETTO:-0400
RRULE:FREQ=YEARLY;BYDAY=2SU;BYMONTH=3
TZNAME:EDT
END:DAYLIGHT
BEGIN:STANDARD
DTSTART:20251102T010000
TZOFFSETFROM:-0400
TZOFFSETTO:-0500
RRULE:FREQ=YEARLY;BYDAY=1SU;BYMONTH=11
TZNAME:EST
END:STANDARD
END:VTIMEZONE
BEGIN:VEVENT
DTSTAMP:20251116T020058Z
UID:2A38AC3D-484C-4F06-9A67-20EA4CF6F491
DTSTART;TZID=America/New_York:20251112T190000
DTEND;TZID=America/New_York:20251112T213000
DESCRIPTION:Join us for a complimentary Lean Six Sigma White Belt Training 
 designed exclusively for IEEE engineers and members of the Toronto Chapter
 . This free introductory session will provide practical tools and insights
  into process improvement\, quality management\, and problem-solving—ski
 lls that are highly valuable in today’s competitive engineering and tech
 nology landscape.\n\nCo-sponsored by: Dr. Muthanna Al-Khishali\n\nSpeaker(
 s): Omar Malik\n\nVirtual: https://events.vtools.ieee.org/m/506217
LOCATION:Virtual: https://events.vtools.ieee.org/m/506217
ORGANIZER:dr.m.al-khishali@ieee.org
SEQUENCE:170
SUMMARY:Lean Six Sigma White Belt Training (Free)
URL;VALUE=URI:https://events.vtools.ieee.org/m/506217
X-ALT-DESC:Description: &lt;br /&gt;&lt;p class=&quot;MsoNormal&quot;&gt;Join us for a compliment
 ary &lt;strong&gt;Lean Six Sigma White Belt Training&lt;/strong&gt; designed exclusive
 ly for IEEE engineers and members of the Toronto Chapter. This free introd
 uctory session will provide practical tools and insights into process impr
 ovement\, quality management\, and problem-solving&amp;mdash\;skills that are 
 highly valuable in today&amp;rsquo\;s competitive engineering and technology l
 andscape.&lt;/p&gt;\n&lt;p class=&quot;MsoNormal&quot;&gt;&lt;img style=&quot;display: block\; margin-le
 ft: auto\; margin-right: auto\;&quot; src=&quot;https://events.vtools.ieee.org/vtool
 s_ui/media/display/e86dce4f-fdc1-45ec-ab8a-57e8b7ff563d&quot;&gt;&lt;/p&gt;
END:VEVENT
END:VCALENDAR

