BEGIN:VCALENDAR
VERSION:2.0
PRODID:IEEE vTools.Events//EN
CALSCALE:GREGORIAN
BEGIN:VTIMEZONE
TZID:America/Los_Angeles
BEGIN:DAYLIGHT
DTSTART:20250309T030000
TZOFFSETFROM:-0800
TZOFFSETTO:-0700
RRULE:FREQ=YEARLY;BYDAY=2SU;BYMONTH=3
TZNAME:PDT
END:DAYLIGHT
BEGIN:STANDARD
DTSTART:20251102T010000
TZOFFSETFROM:-0700
TZOFFSETTO:-0800
RRULE:FREQ=YEARLY;BYDAY=1SU;BYMONTH=11
TZNAME:PST
END:STANDARD
END:VTIMEZONE
BEGIN:VEVENT
DTSTAMP:20251030T015211Z
UID:FCCE3D09-4CE7-4E2C-A3AA-CAF4B14D12E2
DTSTART;TZID=America/Los_Angeles:20251028T173000
DTEND;TZID=America/Los_Angeles:20251028T193000
DESCRIPTION:📄 Resume Review Session - Get Career Fair Ready!\n\n[IEEE Yo
 ung Professionals of Las Vegas](https://linktr.ee/ieeeyplv) and the [IEEE 
 UNLV Student Chapter](https://linktr.ee/ieeeunlv) are teaming up with [UNL
 V College of Engineering Career Services](https://www.unlv.edu/engineering
 /jobs) to help you get ready for the upcoming [IEEE Career Fair](https://c
 areerfair.ieee.org/)!\n\n[]\n\nJoin us for a resume review workshop where 
 Career Services staff will share tips and feedback to help your resume sta
 nd out before the IEEE Virtual Career Fair on October 30.\n\nStep 1: [Sign
  up](https://careerfair.ieee.org/attend/) for the IEEE Career Fair\n\nStep
  2: [RSVP](https://forms.gle/cXr7DxjUJdv4KqDF6) for the Resume Review Sess
 ion\n\nDon’t miss this chance to get personalized advice and connect wit
 h professionals who can help you take the next step in your career!\n\n#ie
 ee #ieeeyp #unlv #ieeecareerfair\n\nRoom: Flexatorium (130)\, Bldg: AEB\, 
 4505 S Maryland Pkwy\, Las Vegas\, Nevada\, United States\, 89154
LOCATION:Room: Flexatorium (130)\, Bldg: AEB\, 4505 S Maryland Pkwy\, Las V
 egas\, Nevada\, United States\, 89154
ORGANIZER:ieeeyplv@gmail.com
SEQUENCE:5
SUMMARY:IEEE YP LV x IEEE UNLV Resume Review with UNLV Career Services
URL;VALUE=URI:https://events.vtools.ieee.org/m/506263
X-ALT-DESC:Description: &lt;br /&gt;&lt;p&gt;&lt;strong&gt;📄 Resume Review Session - Get C
 areer Fair Ready!&lt;/strong&gt;&lt;/p&gt;\n&lt;p&gt;&lt;a href=&quot;https://linktr.ee/ieeeyplv&quot;&gt;IE
 EE Young Professionals of Las Vegas&lt;/a&gt; and the &lt;a href=&quot;https://linktr.ee
 /ieeeunlv&quot;&gt;IEEE UNLV Student Chapter&lt;/a&gt; are teaming up with &lt;a href=&quot;http
 s://www.unlv.edu/engineering/jobs&quot;&gt;UNLV College of Engineering Career Serv
 ices&lt;/a&gt; to help you get ready for the upcoming &lt;a class=&quot;ql-mention&quot; spel
 lcheck=&quot;false&quot; href=&quot;https://careerfair.ieee.org/&quot; data-entity-urn=&quot;urn:li
 :fsd_company:106718418&quot; data-guid=&quot;2&quot; data-object-urn=&quot;urn:li:organization
 :106718418&quot; data-original-text=&quot;IEEE Career Fair&quot; data-test-ql-mention=&quot;tr
 ue&quot;&gt;IEEE Career Fair&lt;/a&gt;!&lt;/p&gt;\n&lt;p&gt;&lt;img src=&quot;https://events.vtools.ieee.org
 /vtools_ui/media/display/03f2dfdf-3688-40af-828b-e5e7f49c4ca8&quot; alt=&quot;&quot; widt
 h=&quot;560&quot; height=&quot;725&quot;&gt;&lt;/p&gt;\n&lt;p&gt;&amp;nbsp\;&lt;/p&gt;\n&lt;p&gt;Join us for a resume review 
 workshop where Career Services staff will share tips and feedback to help 
 your resume stand out before the IEEE Virtual Career Fair on October 30.&lt;/
 p&gt;\n&lt;p&gt;&amp;nbsp\;&lt;/p&gt;\n&lt;p&gt;Step 1: &lt;a href=&quot;https://careerfair.ieee.org/attend
 /&quot;&gt;Sign up&lt;/a&gt; for the IEEE Career Fair&lt;/p&gt;\n&lt;p&gt;Step 2: &lt;a href=&quot;https://f
 orms.gle/cXr7DxjUJdv4KqDF6&quot;&gt;RSVP&lt;/a&gt; for the Resume Review Session&lt;/p&gt;\n&lt;p
 &gt;&amp;nbsp\;&lt;/p&gt;\n&lt;p&gt;Don&amp;rsquo\;t miss this chance to get personalized advice 
 and connect with professionals who can help you take the next step in your
  career!&lt;/p&gt;\n&lt;p&gt;&lt;strong class=&quot;ql-hashtag&quot; data-test-ql-hashtag=&quot;true&quot;&gt;#i
 eee&lt;/strong&gt; &lt;strong class=&quot;ql-hashtag&quot; data-test-ql-hashtag=&quot;true&quot;&gt;#ieeey
 p&lt;/strong&gt; &lt;strong class=&quot;ql-hashtag&quot; data-test-ql-hashtag=&quot;true&quot;&gt;#unlv&lt;/s
 trong&gt; &lt;strong class=&quot;ql-hashtag&quot; data-test-ql-hashtag=&quot;true&quot;&gt;#ieeecareerf
 air&lt;/strong&gt;&lt;/p&gt;
END:VEVENT
END:VCALENDAR

