BEGIN:VCALENDAR
VERSION:2.0
PRODID:IEEE vTools.Events//EN
CALSCALE:GREGORIAN
BEGIN:VTIMEZONE
TZID:America/New_York
BEGIN:DAYLIGHT
DTSTART:20260308T030000
TZOFFSETFROM:-0500
TZOFFSETTO:-0400
RRULE:FREQ=YEARLY;BYDAY=2SU;BYMONTH=3
TZNAME:EDT
END:DAYLIGHT
BEGIN:STANDARD
DTSTART:20251102T010000
TZOFFSETFROM:-0400
TZOFFSETTO:-0500
RRULE:FREQ=YEARLY;BYDAY=1SU;BYMONTH=11
TZNAME:EST
END:STANDARD
END:VTIMEZONE
BEGIN:VEVENT
DTSTAMP:20260309T223230Z
UID:FF1E5E2D-1E45-4CA2-8826-7BF3A1875917
DTSTART;TZID=America/New_York:20251115T090000
DTEND;TZID=America/New_York:20251116T140000
DESCRIPTION:The IEEE Industry Academia Handshake Convention 2025 is a dynam
 ic two-day event that brings together students\, entrepreneurs\, and indus
 try professionals to bridge the gap between academic innovation and indust
 rial implementation.\n\nThis initiative is organized by Lakehead Universit
 y’s Barrie STEM Hub and the IEEE Lakehead University Student Branch.\n\n
 The event provides a collaborative platform where students can engage with
  industry professionals through keynote talks\, hands-on workshops\, hacka
 thons\, panel discussions\, and competitions. Participants will explore re
 al-world challenges and build professional networks that spark innovation 
 and future collaborations.\n\nTo support student participation\, IEEE is o
 ffering travel grants to selected attendees to help cover transportation a
 nd accommodation costs. Details about eligibility\, application deadlines\
 , and selection criteria can be found on the event website.\n\nAt its core
 \, the Industry Academia Handshake Convention 2025 embodies IEEE’s missi
 on to advance technology for humanity\, empowering the next generation of 
 innovators to transform ideas into impact through knowledge sharing\, ment
 orship\, and applied problem-solving.\n\n🌐 Event Website: www.ieee-iahc
 2025.ca\n\nAgenda: \nhttps://docs.google.com/document/d/e/2PACX-1vRSHbVW2v
 3QHOrv0ZtMNkQsNXf7qt62pheJd1-lUDBmJ9ctWodXroQePLUXjTrXNg/pub\n\nRoom: 229\
 , Bldg: K\, 1 Georgian Dr.\, Barrie\, Ontario\, Canada\, L4M 3X9
LOCATION:Room: 229\, Bldg: K\, 1 Georgian Dr.\, Barrie\, Ontario\, Canada\,
  L4M 3X9
ORGANIZER:sanasharif@ieee.org
SEQUENCE:139
SUMMARY:IEEE Industry Academia Handshake Convention 2025
URL;VALUE=URI:https://events.vtools.ieee.org/m/506388
X-ALT-DESC:Description: &lt;br /&gt;&lt;p dir=&quot;ltr&quot;&gt;The IEEE Industry Academia Hands
 hake Convention 2025 is a dynamic two-day event that brings together stude
 nts\, entrepreneurs\, and industry professionals to bridge the gap between
  academic innovation and industrial implementation.&lt;/p&gt;\n&lt;p&gt;This initiativ
 e is organized by Lakehead University&amp;rsquo\;s Barrie STEM Hub and the IEE
 E Lakehead University Student Branch.&lt;/p&gt;\n&lt;p&gt;The event provides a collabo
 rative platform where students can engage with industry professionals thro
 ugh keynote talks\, hands-on workshops\, hackathons\, panel discussions\, 
 and competitions. Participants will explore real-world challenges and buil
 d professional networks that spark innovation and future collaborations.&lt;/
 p&gt;\n&lt;p&gt;To support student participation\, IEEE is offering travel grants t
 o selected attendees to help cover transportation and accommodation costs.
  Details about eligibility\, application deadlines\, and selection criteri
 a can be found on the event website.&lt;/p&gt;\n&lt;p&gt;At its core\, the Industry Ac
 ademia Handshake Convention 2025 embodies IEEE&amp;rsquo\;s mission to advance
  technology for humanity\, empowering the next generation of innovators to
  transform ideas into impact through knowledge sharing\, mentorship\, and 
 applied problem-solving.&lt;/p&gt;\n&lt;p&gt;🌐 Event Website: &lt;a href=&quot;https://www.
 ieee-iahc2025.ca&quot;&gt;www.ieee-iahc2025.ca&lt;/a&gt;&lt;/p&gt;\n&lt;p&gt;&amp;nbsp\;&lt;/p&gt;&lt;br /&gt;&lt;br /&gt;
 Agenda: &lt;br /&gt;&lt;p&gt;&lt;a href=&quot;https://docs.google.com/document/d/e/2PACX-1vRSH
 bVW2v3QHOrv0ZtMNkQsNXf7qt62pheJd1-lUDBmJ9ctWodXroQePLUXjTrXNg/pub&quot;&gt;https:/
 /docs.google.com/document/d/e/2PACX-1vRSHbVW2v3QHOrv0ZtMNkQsNXf7qt62pheJd1
 -lUDBmJ9ctWodXroQePLUXjTrXNg/pub&lt;/a&gt;&lt;/p&gt;\n&lt;p&gt;&amp;nbsp\;&lt;/p&gt;
END:VEVENT
END:VCALENDAR

