BEGIN:VCALENDAR
VERSION:2.0
PRODID:IEEE vTools.Events//EN
CALSCALE:GREGORIAN
BEGIN:VTIMEZONE
TZID:America/New_York
BEGIN:DAYLIGHT
DTSTART:20250309T030000
TZOFFSETFROM:-0500
TZOFFSETTO:-0400
RRULE:FREQ=YEARLY;BYDAY=2SU;BYMONTH=3
TZNAME:EDT
END:DAYLIGHT
BEGIN:STANDARD
DTSTART:20251102T010000
TZOFFSETFROM:-0400
TZOFFSETTO:-0500
RRULE:FREQ=YEARLY;BYDAY=1SU;BYMONTH=11
TZNAME:EST
END:STANDARD
END:VTIMEZONE
BEGIN:VEVENT
DTSTAMP:20251019T002249Z
UID:0C62ED5E-1745-4604-8E73-753E0428E840
DTSTART;TZID=America/New_York:20251018T094500
DTEND;TZID=America/New_York:20251018T140000
DESCRIPTION:[Illustrated poster for the IEEE Young Professionals Fall Hike.
  Text reads: &quot;Fall Hike\, Bear Brook State Park\, Oct. 18 2025\, 9:45 AM.&quot;
  The artwork features a stylized forest scene with a bear\, deer\, and owl
  in shades of blue and green.]\nCome and join the IEEE New Hampshire Secti
 on&#39;s Women in Engineering (WIE) and Young Professionals (YP) for our annua
 l fall foliage hike at the beautiful Bear Brook State Park!\n\nThis is a f
 antastic opportunity to enjoy the crisp autumn air\, connect with colleagu
 es\, and see the best of New Hampshire&#39;s scenery. Friends and family are w
 elcome to join us.\n\nEvent Details\n\n- When: Saturday\, October 25\, 202
 5 | Meet at 9:45 AM\, hike begins promptly at 10:00 AM.\n- Where: Bear Bro
 ok State Park\, Allenstown\, NH. We will meet at the main parking lot for 
 Catamount Pond.\n- How to Find Us: Look for the blue IEEE banner near the 
 trailhead.\n\nAbout the Hike\nWe will be hiking the Bear Brook Cascade and
  Sentinel Pine Loop\, a scenic 3.6-mile trail known for its beautiful wood
 land views.\n\nThe trail is considered moderate\, so be prepared for some 
 rolling hills. We&#39;ll maintain a comfortable\, social pace so everyone can 
 enjoy the trail and the conversation.\n\nPost-Hike Picnic\n\nAfter our hik
 e\, let&#39;s gather in the picnic area by the pond to eat lunch and socialize
 . To warm us up\, I&#39;ll be bringing a large thermos of hot apple cider to s
 hare! Please pack a lunch for yourself\, and feel free to bring an extra s
 nack or dessert to share with the group.\n\nWhat to Bring\n\n- Good hiking
  boots or sturdy sneakers\n- A backpack with water and personal snacks\n- 
 Your packed lunch\n- Layers of clothing appropriate for the weather\n\nLog
 istics &amp; Planning\n\n- Rain Date:A final decision based on the weather for
 ecast will be emailed to all attendees by Friday evening.\n- Carpooling: W
 e encourage carpooling! If you can offer a ride or would like to find one\
 , please let me know to help coordinate.\n- Park Fee: Please be aware that
  Bear Brook State Park has a small entrance fee ($4 per adult). It&#39;s best 
 to bring cash.\n\nAgenda: \nTime	Place	Details\n9:45 a.m.	[Catamount Pond 
 Parking Lot](https://maps.app.goo.gl/S4MAB8gKz2nK8fFw8)	Meet\, greet\, and
  quick icebreaker.\n10:00 a.m.	—	Hike begins: [Cascade &amp; Sentinel Pine L
 oop](https://www.alltrails.com/trail/us/new-hampshire/bear-brook-cascade-s
 entinel-pine-hayes-farm-big-bear-loop)\nNoon – 2:00 p.m.	Picnic Area at 
 Catamount Pond	Social Picnic. Bring your own lunch! We&#39;ll have hot apple c
 ider.\n\nBldg: Catamount Pond Recreation Area\, Allenstown\, New Hampshire
 \, United States\, 03275
LOCATION:Bldg: Catamount Pond Recreation Area\, Allenstown\, New Hampshire\
 , United States\, 03275
ORGANIZER:haxtmayer@ieee.org
SEQUENCE:64
SUMMARY:WIE / YP Annual Fall Hike and Picnic 
URL;VALUE=URI:https://events.vtools.ieee.org/m/507246
X-ALT-DESC:Description: &lt;br /&gt;&lt;div style=&quot;font-family: Arial\, sans-serif\;
  line-height: 1.6\; color: #333333\;&quot;&gt;&lt;img src=&quot;https://events.vtools.ieee
 .org/vtools_ui/media/display/1e3215de-9439-49fc-8c37-ef7982001b54&quot; alt=&quot;Il
 lustrated poster for the IEEE Young Professionals Fall Hike. Text reads: &amp;
 quot\;Fall Hike\, Bear Brook State Park\, Oct. 18 2025\, 9:45 AM.&amp;quot\; T
 he artwork features a stylized forest scene with a bear\, deer\, and owl i
 n shades of blue and green.&quot; width=&quot;100%&quot; height=&quot;auto&quot;&gt;\n&lt;p&gt;Come and join
  the IEEE New Hampshire Section&#39;s Women in Engineering (WIE) and Young Pro
 fessionals (YP) for our annual fall foliage hike at the beautiful Bear Bro
 ok State Park!&lt;/p&gt;\n&lt;p&gt;This is a fantastic opportunity to enjoy the crisp 
 autumn air\, connect with colleagues\, and see the best of New Hampshire&#39;s
  scenery. Friends and family are welcome to join us.&lt;/p&gt;\n&lt;h3 style=&quot;borde
 r-bottom: 1px solid #eeeeee\; padding-bottom: 5px\;&quot;&gt;Event Details&lt;/h3&gt;\n&lt;
 ul&gt;\n&lt;li&gt;&lt;strong&gt;When:&lt;/strong&gt; Saturday\, October 25\, 2025 | Meet at 9:4
 5 AM\, hike begins promptly at 10:00 AM.&lt;/li&gt;\n&lt;li&gt;&lt;strong&gt;Where:&lt;/strong&gt;
  Bear Brook State Park\, Allenstown\, NH. We will meet at the &lt;strong&gt;main
  parking lot for Catamount Pond&lt;/strong&gt;.&lt;/li&gt;\n&lt;li&gt;&lt;strong&gt;How to Find Us
 :&lt;/strong&gt; Look for the blue IEEE banner near the trailhead.&lt;/li&gt;\n&lt;/ul&gt;\n
 &lt;h3 style=&quot;border-bottom: 1px solid #eeeeee\; padding-bottom: 5px\;&quot;&gt;About
  the Hike&lt;/h3&gt;\nWe will be hiking the &lt;strong&gt;Bear Brook Cascade and Senti
 nel Pine Loop&lt;/strong&gt;\, a scenic &lt;strong&gt;3.6-mile trail&lt;/strong&gt; known fo
 r its beautiful woodland views.&lt;br&gt;&lt;iframe class=&quot;alltrails&quot; title=&quot;AllTra
 ils: Trail Guides and Maps for Hiking\, Camping\, and Running&quot; src=&quot;https:
 //www.alltrails.com/widget/trail/us/new-hampshire/bear-brook-cascade-senti
 nel-pine-hayes-farm-big-bear-loop?u=i&amp;amp\;sh=8npwjj&quot; width=&quot;100%&quot; height=
 &quot;400&quot; frameborder=&quot;0&quot; marginwidth=&quot;0&quot; marginheight=&quot;0&quot; scrolling=&quot;no&quot;&gt;&lt;/if
 rame&gt;\n&lt;p&gt;The trail is considered &lt;strong&gt;moderate&lt;/strong&gt;\, so be prepar
 ed for some rolling hills. We&#39;ll maintain a comfortable\, social pace so e
 veryone can enjoy the trail and the conversation.&lt;/p&gt;\n&lt;h3 style=&quot;border-b
 ottom: 1px solid #eeeeee\; padding-bottom: 5px\;&quot;&gt;Post-Hike Picnic&lt;/h3&gt;\n&lt;
 p&gt;After our hike\, let&#39;s gather in the picnic area by the pond to eat lunc
 h and socialize. To warm us up\, I&#39;ll be bringing a large thermos of hot a
 pple cider to share! Please pack a lunch for yourself\, and feel free to b
 ring an extra snack or dessert to share with the group.&lt;/p&gt;\n&lt;h3 style=&quot;bo
 rder-bottom: 1px solid #eeeeee\; padding-bottom: 5px\;&quot;&gt;What to Bring&lt;/h3&gt;
 \n&lt;ul&gt;\n&lt;li&gt;Good hiking boots or sturdy sneakers&lt;/li&gt;\n&lt;li&gt;A backpack with
  water and personal snacks&lt;/li&gt;\n&lt;li&gt;Your packed lunch&lt;/li&gt;\n&lt;li&gt;Layers of
  clothing appropriate for the weather&lt;/li&gt;\n&lt;/ul&gt;\n&lt;h3 style=&quot;border-botto
 m: 1px solid #eeeeee\; padding-bottom: 5px\;&quot;&gt;Logistics &amp;amp\; Planning&lt;/h
 3&gt;\n&lt;ul&gt;\n&lt;li&gt;&lt;strong&gt;Rain Date:&lt;/strong&gt;A final decision based on the wea
 ther forecast will be emailed to all attendees by Friday evening.&lt;/li&gt;\n&lt;l
 i&gt;&lt;strong&gt;Carpooling:&lt;/strong&gt; We encourage carpooling! If you can offer a
  ride or would like to find one\, please let me know to help coordinate.&lt;/
 li&gt;\n&lt;li&gt;&lt;strong&gt;Park Fee:&lt;/strong&gt; Please be aware that Bear Brook State 
 Park has a small entrance fee ($4 per adult). It&#39;s best to bring cash.&lt;/li
 &gt;\n&lt;/ul&gt;\n&lt;/div&gt;&lt;br /&gt;&lt;br /&gt;Agenda: &lt;br /&gt;&lt;table style=&quot;border-collapse: c
 ollapse\; width: 100%\;&quot; border=&quot;1&quot;&gt;&lt;colgroup&gt; &lt;col style=&quot;width: 25%\;&quot;&gt; 
 &lt;col style=&quot;width: 35%\;&quot;&gt; &lt;col style=&quot;width: 40%\;&quot;&gt; &lt;/colgroup&gt;\n&lt;thead&gt;
 \n&lt;tr style=&quot;background-color: rgb(0\, 102\, 153)\; border-color: rgb(0\, 
 102\, 153)\; border-style: solid\;&quot;&gt;\n&lt;td style=&quot;padding: 8px\;&quot;&gt;&lt;span sty
 le=&quot;color: rgb(236\, 240\, 241)\;&quot;&gt;&lt;strong&gt;Time&lt;/strong&gt;&lt;/span&gt;&lt;/td&gt;\n&lt;td 
 style=&quot;text-align: center\; padding: 8px\;&quot;&gt;&lt;span style=&quot;color: rgb(236\, 
 240\, 241)\;&quot;&gt;&lt;strong&gt;Place&lt;/strong&gt;&lt;/span&gt;&lt;/td&gt;\n&lt;td style=&quot;padding: 8px\
 ;&quot;&gt;&lt;span style=&quot;color: rgb(236\, 240\, 241)\;&quot;&gt;&lt;strong&gt;Details&lt;/strong&gt;&lt;/s
 pan&gt;&lt;/td&gt;\n&lt;/tr&gt;\n&lt;/thead&gt;\n&lt;tbody&gt;\n&lt;tr&gt;\n&lt;td style=&quot;padding: 8px\;&quot;&gt;9:45
  a.m.&lt;/td&gt;\n&lt;td style=&quot;text-align: center\; padding: 8px\;&quot;&gt;&lt;a href=&quot;https
 ://maps.app.goo.gl/S4MAB8gKz2nK8fFw8&quot; target=&quot;_blank&quot; rel=&quot;noopener&quot;&gt;Catam
 ount Pond Parking Lot&lt;/a&gt;&lt;/td&gt;\n&lt;td style=&quot;padding: 8px\;&quot;&gt;Meet\, greet\, 
 and quick icebreaker.&lt;/td&gt;\n&lt;/tr&gt;\n&lt;tr&gt;\n&lt;td style=&quot;padding: 8px\;&quot;&gt;10:00 
 a.m.&lt;/td&gt;\n&lt;td style=&quot;text-align: center\; padding: 8px\;&quot;&gt;&amp;mdash\;&lt;/td&gt;\n
 &lt;td style=&quot;padding: 8px\;&quot;&gt;Hike begins: &lt;a href=&quot;https://www.alltrails.com
 /trail/us/new-hampshire/bear-brook-cascade-sentinel-pine-hayes-farm-big-be
 ar-loop&quot; target=&quot;_blank&quot; rel=&quot;noopener&quot;&gt;Cascade &amp;amp\; Sentinel Pine Loop&lt;
 /a&gt;&lt;/td&gt;\n&lt;/tr&gt;\n&lt;tr&gt;\n&lt;td style=&quot;padding: 8px\;&quot;&gt;Noon &amp;ndash\; 2:00 p.m.&lt;
 /td&gt;\n&lt;td style=&quot;text-align: center\; padding: 8px\;&quot;&gt;Picnic Area at Catam
 ount Pond&lt;/td&gt;\n&lt;td style=&quot;padding: 8px\;&quot;&gt;Social Picnic. Bring your own l
 unch! We&#39;ll have hot apple cider.&lt;/td&gt;\n&lt;/tr&gt;\n&lt;/tbody&gt;\n&lt;/table&gt;
END:VEVENT
END:VCALENDAR

