BEGIN:VCALENDAR
VERSION:2.0
PRODID:IEEE vTools.Events//EN
CALSCALE:GREGORIAN
BEGIN:VTIMEZONE
TZID:America/Los_Angeles
BEGIN:DAYLIGHT
DTSTART:20250309T030000
TZOFFSETFROM:-0800
TZOFFSETTO:-0700
RRULE:FREQ=YEARLY;BYDAY=2SU;BYMONTH=3
TZNAME:PDT
END:DAYLIGHT
BEGIN:STANDARD
DTSTART:20251102T010000
TZOFFSETFROM:-0700
TZOFFSETTO:-0800
RRULE:FREQ=YEARLY;BYDAY=1SU;BYMONTH=11
TZNAME:PST
END:STANDARD
END:VTIMEZONE
BEGIN:VEVENT
DTSTAMP:20251024T184045Z
UID:B7BD8218-DDC6-450A-8089-F3ECDE091E97
DTSTART;TZID=America/Los_Angeles:20251023T170000
DTEND;TZID=America/Los_Angeles:20251023T180000
DESCRIPTION:[]\n\nIn 2025\, your LinkedIn profile is more than a resume—i
 t’s your digital handshake\, your 24/7 marketing platform\, and the engi
 ne for your career growth. With 93% of recruiters using LinkedIn to vet ca
 ndidates and fierce competition for every role\, a powerful personal brand
  is no longer optional—it&#39;s essential for career success.\n\nAre you rea
 dy to transform your profile from a passive resume into a magnetic career-
 building tool?\n\nThis deep dive\, hosted by IEEE Young Professionals\, wi
 ll equip you with a comprehensive roadmap to build a standout personal bra
 nd. We&#39;ll move beyond the basics to show you how to tell your professional
  story\, showcase your unique value\, and attract the opportunities you de
 serve.\n\nIn this session\, you will learn how to:\n\n-\nCraft a Magnetic 
 First Impression: Optimize your profile picture\, background banner\, head
 line\, and About section to immediately capture attention.\n\n-\nShow Your
  Impact\, Not Just Your Duties: Transform your Experience section into a h
 ighlight reel of quantifiable achievements that prove your value.\n\n-\nDe
 fine Your Niche &amp; Brand Voice: Discover the power of specialization and de
 velop a consistent\, authentic voice that builds trust and authority.\n\n-
 \nCreate Content That Builds Your Brand: Learn proven strategies for conte
 nt creation\, including video and visuals\, that drive engagement and esta
 blish you as a thought leader.\n\n-\nNetwork Strategically &amp; Avoid Common 
 Pitfalls: Build a valuable network with intention and steer clear of the m
 istakes that can sabotage your brand.\n\nThis workshop is essential for ea
 rly-career professionals\, students\, and mid-career engineers looking to 
 command attention\, build credibility\, and unlock their full career poten
 tial.\n\nSpeaker(s): Sachin Hiriyanna\, Abiola Adams\n\nAgenda: \n5:00 PM 
 - Welcome &amp; Introduction (5 mins)\n\n-\nMeet the IEEE YP Foothill Co-Chair
 s\n\n-\nOur Vision: Helping Young Professionals Find the Path to Career Su
 ccess\n\n5:05 PM - Chapter 1: Why Personal Branding on LinkedIn Matters in
  2025 (10 mins)\n\n-\nThe Power of Your Digital Handshake in a Crowded Mar
 ket\n\n-\nKey Statistics: Why LinkedIn is Your Most Critical Career Tool\n
 \n5:15 PM - Chapter 2: Crafting a Magnetic LinkedIn Profile (20 mins)\n\n-
 \nVisual Identity: Your profile picture and background image.\n\n-\nCompel
 ling Copy: Writing a headline that’s more than a job title and an About 
 section that tells your story.\n\n-\nShow Your Impact: Detailing experienc
 e with quantifiable results.\n\n-\nBuild Credibility: Strategically using 
 Skills &amp; Endorsements.\n\n5:35 PM - Chapter 3 &amp; 4: Niche\, Voice\, and Con
 tent Strategy (10 mins)\n\n-\nDefining your niche to become a specialist\,
  not a generalist.\n\n-\nContent pillars\, post ideas\, and leveraging vid
 eo to boost engagement.\n\n-\nMastering LinkedIn SEO to ensure you get fou
 nd.\n\n5:45 PM - Chapter 5: Strategic Networking &amp; Best Practices (5 mins)
 \n\n-\nHow to build your network with intention and personalization.\n\n-\
 nReal-world success stories and common pitfalls to avoid.\n\n-\nBonus: Usi
 ng AI tools to enhance your brand.\n\n5:50 PM - Q&amp;A and Your Action Plan (
 10 mins)\n\n-\nOpen floor for your questions.\n\n-\nYour LinkedIn journey 
 starts now: Concrete next steps to take this week.\n\nVirtual: https://eve
 nts.vtools.ieee.org/m/507248
LOCATION:Virtual: https://events.vtools.ieee.org/m/507248
ORGANIZER:sachinh@ieee.org
SEQUENCE:59
SUMMARY:How to Optimize LinkedIn for Personal Branding: A Deep Dive for You
 ng Professionals
URL;VALUE=URI:https://events.vtools.ieee.org/m/507248
X-ALT-DESC:Description: &lt;br /&gt;&lt;p data-pm-slice=&quot;1 1 []&quot;&gt;&lt;img style=&quot;display
 : block\; margin-left: auto\; margin-right: auto\;&quot; src=&quot;https://events.vt
 ools.ieee.org/vtools_ui/media/display/1183ef24-b72f-4606-88e7-dffb1cb03372
 &quot; alt=&quot;&quot; width=&quot;499&quot; height=&quot;416&quot;&gt;&lt;/p&gt;\n&lt;p data-pm-slice=&quot;1 1 []&quot;&gt;&amp;nbsp\;&lt;
 /p&gt;\n&lt;p data-pm-slice=&quot;1 1 []&quot;&gt;In 2025\, your LinkedIn profile is more tha
 n a resume&amp;mdash\;it&amp;rsquo\;s your digital handshake\, your 24/7 marketing
  platform\, and the engine for your career growth. With &lt;strong&gt;93% of rec
 ruiters using LinkedIn to vet candidates&lt;/strong&gt; and fierce competition f
 or every role\, a powerful personal brand is no longer optional&amp;mdash\;it&#39;
 s essential for career success.&lt;/p&gt;\n&lt;p&gt;Are you ready to transform your pr
 ofile from a passive resume into a magnetic career-building tool?&lt;/p&gt;\n&lt;p&gt;
 This deep dive\, hosted by IEEE Young Professionals\, will equip you with 
 a comprehensive roadmap to build a standout personal brand. We&#39;ll move bey
 ond the basics to show you how to tell your professional story\, showcase 
 your unique value\, and attract the opportunities you deserve.&lt;/p&gt;\n&lt;p&gt;In 
 this session\, you will learn how to:&lt;/p&gt;\n&lt;ul&gt;\n&lt;li&gt;\n&lt;p&gt;&lt;strong&gt;Craft a 
 Magnetic First Impression:&lt;/strong&gt; Optimize your profile picture\, backgr
 ound banner\, headline\, and About section to immediately capture attentio
 n.&lt;/p&gt;\n&lt;/li&gt;\n&lt;li&gt;\n&lt;p&gt;&lt;strong&gt;Show Your Impact\, Not Just Your Duties:&lt;/
 strong&gt; Transform your Experience section into a highlight reel of quantif
 iable achievements that prove your value.&lt;/p&gt;\n&lt;/li&gt;\n&lt;li&gt;\n&lt;p&gt;&lt;strong&gt;Def
 ine Your Niche &amp;amp\; Brand Voice:&lt;/strong&gt; Discover the power of speciali
 zation and develop a consistent\, authentic voice that builds trust and au
 thority.&lt;/p&gt;\n&lt;/li&gt;\n&lt;li&gt;\n&lt;p&gt;&lt;strong&gt;Create Content That Builds Your Bran
 d:&lt;/strong&gt; Learn proven strategies for content creation\, including video
  and visuals\, that drive engagement and establish you as a thought leader
 .&lt;/p&gt;\n&lt;/li&gt;\n&lt;li&gt;\n&lt;p&gt;&lt;strong&gt;Network Strategically &amp;amp\; Avoid Common P
 itfalls:&lt;/strong&gt; Build a valuable network with intention and steer clear 
 of the mistakes that can sabotage your brand.&lt;/p&gt;\n&lt;/li&gt;\n&lt;/ul&gt;\n&lt;p&gt;This w
 orkshop is essential for early-career professionals\, students\, and mid-c
 areer engineers looking to command attention\, build credibility\, and unl
 ock their full career potential.&lt;/p&gt;&lt;br /&gt;&lt;br /&gt;Agenda: &lt;br /&gt;&lt;p data-pm-s
 lice=&quot;1 3 []&quot;&gt;&lt;strong&gt;5:00 PM - Welcome &amp;amp\; Introduction (5 mins)&lt;/stro
 ng&gt;&lt;/p&gt;\n&lt;ul&gt;\n&lt;li&gt;\n&lt;p&gt;Meet the IEEE YP Foothill Co-Chairs&lt;/p&gt;\n&lt;/li&gt;\n&lt;l
 i&gt;\n&lt;p&gt;Our Vision: Helping Young Professionals Find the Path to Career Suc
 cess&lt;/p&gt;\n&lt;/li&gt;\n&lt;/ul&gt;\n&lt;p&gt;&lt;strong&gt;5:05 PM - Chapter 1: Why Personal Brand
 ing on LinkedIn Matters in 2025 (10 mins)&lt;/strong&gt;&lt;/p&gt;\n&lt;ul&gt;\n&lt;li&gt;\n&lt;p&gt;The
  Power of Your Digital Handshake in a Crowded Market&lt;/p&gt;\n&lt;/li&gt;\n&lt;li&gt;\n&lt;p&gt;
 Key Statistics: Why LinkedIn is Your Most Critical Career Tool&lt;/p&gt;\n&lt;/li&gt;\
 n&lt;/ul&gt;\n&lt;p&gt;&lt;strong&gt;5:15 PM - Chapter 2: Crafting a Magnetic LinkedIn Profi
 le (20 mins)&lt;/strong&gt;&lt;/p&gt;\n&lt;ul&gt;\n&lt;li&gt;\n&lt;p&gt;&lt;strong&gt;Visual Identity:&lt;/strong
 &gt; Your profile picture and background image.&lt;/p&gt;\n&lt;/li&gt;\n&lt;li&gt;\n&lt;p&gt;&lt;strong&gt;
 Compelling Copy:&lt;/strong&gt; Writing a headline that&amp;rsquo\;s more than a job
  title and an About section that tells your story.&lt;/p&gt;\n&lt;/li&gt;\n&lt;li&gt;\n&lt;p&gt;&lt;s
 trong&gt;Show Your Impact:&lt;/strong&gt; Detailing experience with quantifiable re
 sults.&lt;/p&gt;\n&lt;/li&gt;\n&lt;li&gt;\n&lt;p&gt;&lt;strong&gt;Build Credibility:&lt;/strong&gt; Strategica
 lly using Skills &amp;amp\; Endorsements.&lt;/p&gt;\n&lt;/li&gt;\n&lt;/ul&gt;\n&lt;p&gt;&lt;strong&gt;5:35 P
 M - Chapter 3 &amp;amp\; 4: Niche\, Voice\, and Content Strategy (10 mins)&lt;/st
 rong&gt;&lt;/p&gt;\n&lt;ul&gt;\n&lt;li&gt;\n&lt;p&gt;Defining your niche to become a specialist\, not
  a generalist.&lt;/p&gt;\n&lt;/li&gt;\n&lt;li&gt;\n&lt;p&gt;Content pillars\, post ideas\, and lev
 eraging video to boost engagement.&lt;/p&gt;\n&lt;/li&gt;\n&lt;li&gt;\n&lt;p&gt;Mastering LinkedIn
  SEO to ensure you get found.&lt;/p&gt;\n&lt;/li&gt;\n&lt;/ul&gt;\n&lt;p&gt;&lt;strong&gt;5:45 PM - Chap
 ter 5: Strategic Networking &amp;amp\; Best Practices (5 mins)&lt;/strong&gt;&lt;/p&gt;\n&lt;
 ul&gt;\n&lt;li&gt;\n&lt;p&gt;How to build your network with intention and personalization
 .&lt;/p&gt;\n&lt;/li&gt;\n&lt;li&gt;\n&lt;p&gt;Real-world success stories and common pitfalls to a
 void.&lt;/p&gt;\n&lt;/li&gt;\n&lt;li&gt;\n&lt;p&gt;Bonus: Using AI tools to enhance your brand.&lt;/p
 &gt;\n&lt;/li&gt;\n&lt;/ul&gt;\n&lt;p&gt;&lt;strong&gt;5:50 PM - Q&amp;amp\;A and Your Action Plan (10 mi
 ns)&lt;/strong&gt;&lt;/p&gt;\n&lt;ul&gt;\n&lt;li&gt;\n&lt;p&gt;Open floor for your questions.&lt;/p&gt;\n&lt;/li&gt;
 \n&lt;li&gt;\n&lt;p&gt;Your LinkedIn journey starts now: Concrete next steps to take t
 his week.&lt;/p&gt;\n&lt;/li&gt;\n&lt;/ul&gt;
END:VEVENT
END:VCALENDAR

