BEGIN:VCALENDAR
VERSION:2.0
PRODID:IEEE vTools.Events//EN
CALSCALE:GREGORIAN
BEGIN:VTIMEZONE
TZID:America/New_York
BEGIN:DAYLIGHT
DTSTART:20260308T030000
TZOFFSETFROM:-0500
TZOFFSETTO:-0400
RRULE:FREQ=YEARLY;BYDAY=2SU;BYMONTH=3
TZNAME:EDT
END:DAYLIGHT
BEGIN:STANDARD
DTSTART:20251102T010000
TZOFFSETFROM:-0400
TZOFFSETTO:-0500
RRULE:FREQ=YEARLY;BYDAY=1SU;BYMONTH=11
TZNAME:EST
END:STANDARD
END:VTIMEZONE
BEGIN:VEVENT
DTSTAMP:20251110T175123Z
UID:351D2D1E-6398-4566-A395-30AE98F1A9CF
DTSTART;TZID=America/New_York:20251110T083000
DTEND;TZID=America/New_York:20251110T110000
DESCRIPTION:First DL Talk: []Basics of Asynchronous circuits design\n\n&amp;\n\
 nSecond DL Talk: Acceleration of Encryption Algorithms\, Elliptic Curve\, 
 Pairing\, Post Quantum Cryptoalgorithm (PQC)\, and Fully Homomorphic Encry
 ption (FHE)\n\n1st  Abstract: This lecture will overlook basics and variet
 y of asynchronous controlling\, from the view point of advantages for low-
 voltage &amp; variation rich conditions. This lecture takes two extreme exampl
 e of complete completion detection type asynchronous designs as examples a
 nd demonstrate details of operation and performance. In addition\, this ta
 lk will cover recent trial on design flow of random logic by the self-sync
 hronous circuits.\n\n2nd Abstract: This lecture will cover basics of publi
 c-key encryption\, and example design optimization of elliptic-curve based
  encryption algorithm\, including pairing operations\, and its security me
 asures. Then extend design optimization on lattice-based encryption algori
 thms including post quantum crypto-algorithm\, CRISTALS-Kyber/Dilithium\, 
 isogeny based encryption argorithms\, and fully homomorphic encryption alg
 orithm.\n\nSpeaker(s): Prof. Ikeda \, \n\nAgenda: \n8:30 AM - 9:00 AM – 
 Networking\, coffee\, and donuts\n\n9:00 AM - 9:45 AM – Basics of Asynch
 ronous circuits design\n\n9:45 AM -10:00 AM – Break\n\n10:00 AM - 10:45 
 AM - Acceleration of Post Quantum Encryption Algorithms\n\nRoom: 260\, Bld
 g: Dreese Labs\, 2015 Neil Ave\, Columbus\, Ohio\, United States\, 43210\,
  Virtual: https://events.vtools.ieee.org/m/507434
LOCATION:Room: 260\, Bldg: Dreese Labs\, 2015 Neil Ave\, Columbus\, Ohio\, 
 United States\, 43210\, Virtual: https://events.vtools.ieee.org/m/507434
ORGANIZER:ramy@senseics.com
SEQUENCE:34
SUMMARY:Distinguished Lecturer (DL) Talks: (1) Asynchronous circuits &amp; (2) 
 Acceleration of Post Quantum Encryption Algorithms
URL;VALUE=URI:https://events.vtools.ieee.org/m/507434
X-ALT-DESC:Description: &lt;br /&gt;&lt;p class=&quot;MsoNormal&quot; style=&quot;margin-bottom: 0i
 n\; text-align: center\; line-height: normal\;&quot; align=&quot;center&quot;&gt;&lt;strong sty
 le=&quot;mso-bidi-font-weight: normal\;&quot;&gt;&lt;span style=&quot;font-size: 14.0pt\; font-
 family: &#39;Calibri&#39;\,sans-serif\; mso-ascii-theme-font: major-latin\; mso-ha
 nsi-theme-font: major-latin\; mso-bidi-theme-font: major-latin\;&quot;&gt;First DL
  Talk: &lt;a name=&quot;_Hlk211364041&quot;&gt;&lt;/a&gt;&lt;span style=&quot;mso-bidi-font-weight: bold
 \;&quot;&gt;Basics of Asynchronous circuits design&lt;/span&gt;&lt;/span&gt;&lt;/strong&gt;&lt;/p&gt;\n&lt;p 
 class=&quot;MsoNormal&quot; style=&quot;margin-bottom: 0in\; text-align: center\; line-he
 ight: normal\;&quot; align=&quot;center&quot;&gt;&lt;strong style=&quot;mso-bidi-font-weight: normal
 \;&quot;&gt;&lt;span style=&quot;font-size: 14.0pt\; font-family: &#39;Calibri&#39;\,sans-serif\; 
 mso-ascii-theme-font: major-latin\; mso-hansi-theme-font: major-latin\; ms
 o-bidi-theme-font: major-latin\;&quot;&gt;&amp;amp\;&lt;/span&gt;&lt;/strong&gt;&lt;/p&gt;\n&lt;p class=&quot;Ms
 oNormal&quot; style=&quot;margin-bottom: 0in\; text-align: center\; line-height: nor
 mal\;&quot; align=&quot;center&quot;&gt;&lt;strong style=&quot;mso-bidi-font-weight: normal\;&quot;&gt;&lt;span
  style=&quot;font-size: 14.0pt\; font-family: &#39;Calibri&#39;\,sans-serif\; mso-ascii
 -theme-font: major-latin\; mso-hansi-theme-font: major-latin\; mso-bidi-th
 eme-font: major-latin\;&quot;&gt;Second DL Talk: Acceleration of Encryption Algori
 thms\, Elliptic Curve\, Pairing\, Post Quantum Cryptoalgorithm (PQC)\, and
  Fully Homomorphic Encryption (FHE)&lt;/span&gt;&lt;/strong&gt;&lt;/p&gt;\n&lt;p class=&quot;MsoNorm
 al&quot;&gt;&amp;nbsp\;&lt;/p&gt;\n&lt;p class=&quot;MsoNormal&quot;&gt;&lt;strong&gt;&lt;span style=&quot;font-size: 14.0
 pt\; line-height: 115%\; font-family: &#39;Calibri&#39;\,sans-serif\; mso-ascii-th
 eme-font: major-latin\; mso-hansi-theme-font: major-latin\; mso-bidi-theme
 -font: major-latin\;&quot;&gt;&lt;sup&gt;&lt;span style=&quot;font-family: &#39;Calibri&#39;\,sans-serif
 \; mso-ascii-theme-font: major-latin\; mso-hansi-theme-font: major-latin\;
  mso-bidi-theme-font: major-latin\;&quot;&gt;1st &lt;/span&gt;&amp;nbsp\;&lt;/sup&gt;Abstract: &lt;/s
 pan&gt;&lt;/strong&gt;&lt;span style=&quot;font-family: &#39;Calibri&#39;\,sans-serif\; mso-ascii-t
 heme-font: major-latin\; mso-hansi-theme-font: major-latin\; mso-bidi-them
 e-font: major-latin\;&quot;&gt;This lecture will overlook basics and variety of as
 ynchronous controlling\, from the view point of advantages for low-voltage
  &amp;amp\; variation rich conditions. This lecture takes two extreme example 
 of complete completion detection type asynchronous designs as examples and
  demonstrate details of operation and performance. In addition\, this talk
  will cover recent trial on design flow of random logic by the self-synchr
 onous circuits.&lt;/span&gt;&lt;/p&gt;\n&lt;p class=&quot;MsoNormal&quot;&gt;&lt;span style=&quot;font-family:
  &#39;Calibri&#39;\,sans-serif\; mso-ascii-theme-font: major-latin\; mso-hansi-the
 me-font: major-latin\; mso-bidi-theme-font: major-latin\;&quot;&gt;&lt;strong&gt;&lt;span s
 tyle=&quot;font-size: 14.0pt\; line-height: 115%\; font-family: &#39;Calibri&#39;\,sans
 -serif\; mso-ascii-theme-font: major-latin\; mso-hansi-theme-font: major-l
 atin\; mso-bidi-theme-font: major-latin\;&quot;&gt;2&lt;sup&gt;nd&lt;/sup&gt; Abstract: &lt;/span
 &gt;&lt;/strong&gt;This lecture will cover basics of public-key encryption\, and ex
 ample design optimization of elliptic-curve based encryption algorithm\, i
 ncluding pairing operations\, and its security measures. Then extend desig
 n optimization on lattice-based encryption algorithms including post quant
 um crypto-algorithm\, CRISTALS-Kyber/Dilithium\, isogeny based encryption 
 argorithms\, and fully homomorphic encryption algorithm.&lt;/span&gt;&lt;/p&gt;&lt;br /&gt;&lt;
 br /&gt;Agenda: &lt;br /&gt;&lt;p class=&quot;MsoNormal&quot;&gt;&lt;strong&gt;&lt;span style=&quot;font-size: 10
 .0pt\; line-height: 115%\; font-family: &#39;Calibri&#39;\,sans-serif\; mso-ascii-
 theme-font: major-latin\; mso-hansi-theme-font: major-latin\; mso-bidi-the
 me-font: major-latin\;&quot;&gt;8:30 AM - 9:00 AM &amp;ndash\; Networking\, coffee\, a
 nd donuts&lt;/span&gt;&lt;/strong&gt;&lt;/p&gt;\n&lt;p class=&quot;MsoNormal&quot;&gt;&lt;strong&gt;&lt;span style=&quot;f
 ont-size: 10.0pt\; line-height: 115%\; font-family: &#39;Calibri&#39;\,sans-serif\
 ; mso-ascii-theme-font: major-latin\; mso-hansi-theme-font: major-latin\; 
 mso-bidi-theme-font: major-latin\;&quot;&gt;9:00 AM - 9:45 AM &amp;ndash\; Basics of A
 synchronous circuits design&lt;/span&gt;&lt;/strong&gt;&lt;/p&gt;\n&lt;p class=&quot;MsoNormal&quot;&gt;&lt;str
 ong&gt;&lt;span style=&quot;font-size: 10.0pt\; line-height: 115%\; font-family: &#39;Cal
 ibri&#39;\,sans-serif\; mso-ascii-theme-font: major-latin\; mso-hansi-theme-fo
 nt: major-latin\; mso-bidi-theme-font: major-latin\;&quot;&gt;9:45 AM -10:00 AM &amp;n
 dash\; Break&lt;/span&gt;&lt;/strong&gt;&lt;/p&gt;\n&lt;p class=&quot;MsoNormal&quot;&gt;&lt;strong&gt;&lt;span style
 =&quot;font-size: 10.0pt\; line-height: 115%\; font-family: &#39;Calibri&#39;\,sans-ser
 if\; mso-ascii-theme-font: major-latin\; mso-hansi-theme-font: major-latin
 \; mso-bidi-theme-font: major-latin\;&quot;&gt;10:00 AM - 10:45 AM - Acceleration 
 of Post Quantum Encryption Algorithms&lt;/span&gt;&lt;/strong&gt;&lt;/p&gt;
END:VEVENT
END:VCALENDAR

