BEGIN:VCALENDAR
VERSION:2.0
PRODID:IEEE vTools.Events//EN
CALSCALE:GREGORIAN
BEGIN:VTIMEZONE
TZID:Australia/Melbourne
BEGIN:DAYLIGHT
DTSTART:20251005T030000
TZOFFSETFROM:+1000
TZOFFSETTO:+1100
RRULE:FREQ=YEARLY;BYDAY=1SU;BYMONTH=10
TZNAME:AEDT
END:DAYLIGHT
BEGIN:STANDARD
DTSTART:20260405T020000
TZOFFSETFROM:+1100
TZOFFSETTO:+1000
RRULE:FREQ=YEARLY;BYDAY=1SU;BYMONTH=4
TZNAME:AEST
END:STANDARD
END:VTIMEZONE
BEGIN:VEVENT
DTSTAMP:20251029T010941Z
UID:73416338-5E34-4A8E-960A-4831A1169BBC
DTSTART;TZID=Australia/Melbourne:20251022T141500
DTEND;TZID=Australia/Melbourne:20251022T151500
DESCRIPTION:We are invited to present our program to Year 9–12 students a
 t Bendigo South East College on 22 October 2025\, from 2:15 PM to 3:15 PM.
  The session will introduce IEEE and IEEE VIC SIGHT\, followed by a presen
 tation on our flagship initiative—the Virtual Work Experience Program. T
 he estimated audience is around 50 students\, and several IEEE VIC SIGHT m
 embers will attend and deliver the session in person.\n\nBendigo SouthEast
  College\, 56 Ellis Street\, Flora Hill VIC 3550 \, Bendigo\, Victoria\, A
 ustralia\, Virtual: https://events.vtools.ieee.org/m/507538
LOCATION:Bendigo SouthEast College\, 56 Ellis Street\, Flora Hill VIC 3550 
 \, Bendigo\, Victoria\, Australia\, Virtual: https://events.vtools.ieee.or
 g/m/507538
ORGANIZER:susmita.saha@ieee.org
SEQUENCE:34
SUMMARY:IEEE VIC SIGHT Presentation: Inspiring Regional Students through Vi
 rtual STEM Work Experience
URL;VALUE=URI:https://events.vtools.ieee.org/m/507538
X-ALT-DESC:Description: &lt;br /&gt;&lt;p&gt;We are invited to present our program to Y
 ear 9&amp;ndash\;12 students at &lt;strong data-start=&quot;63&quot; data-end=&quot;93&quot;&gt;Bendigo 
 South East College&lt;/strong&gt; on &lt;strong data-start=&quot;97&quot; data-end=&quot;116&quot;&gt;22 O
 ctober 2025&lt;/strong&gt;\, from &lt;strong data-start=&quot;123&quot; data-end=&quot;145&quot;&gt;2:15 P
 M to 3:15 PM&lt;/strong&gt;. The session will introduce &lt;strong data-start=&quot;174&quot;
  data-end=&quot;182&quot;&gt;IEEE&lt;/strong&gt; and &lt;strong data-start=&quot;187&quot; data-end=&quot;205&quot;&gt;
 IEEE VIC SIGHT&lt;/strong&gt;\, followed by a presentation on our flagship initi
 ative&amp;mdash\;the &lt;strong data-start=&quot;265&quot; data-end=&quot;300&quot;&gt;Virtual Work Expe
 rience Program&lt;/strong&gt;. The estimated audience is around &lt;strong data-sta
 rt=&quot;335&quot; data-end=&quot;350&quot;&gt;50 students&lt;/strong&gt;\, and several IEEE VIC SIGHT 
 members will attend and deliver the session in person.&lt;/p&gt;
END:VEVENT
END:VCALENDAR

