BEGIN:VCALENDAR
VERSION:2.0
PRODID:IEEE vTools.Events//EN
CALSCALE:GREGORIAN
BEGIN:VTIMEZONE
TZID:Asia/Karachi
BEGIN:STANDARD
DTSTART:20091031T230000
TZOFFSETFROM:+0600
TZOFFSETTO:+0500
TZNAME:PKT
END:STANDARD
END:VTIMEZONE
BEGIN:VEVENT
DTSTAMP:20251022T161317Z
UID:215D4783-68FF-471A-9C71-7487FDDAEE3E
DTSTART;TZID=Asia/Karachi:20251016T120000
DTEND;TZID=Asia/Karachi:20251016T133000
DESCRIPTION:Introduction\nIEEE Day commemorates the first global gathering 
 of engineers\, held in 1884\, to share technical ideas. The IEEE GCUF Stud
 ent Branch celebrated this occasion to honor innovation\, collaboration\, 
 and technology for the benefit of humanity\, uniting students\, faculty\, 
 and IEEE volunteers.\n\nObjectives\n\nThe event aimed to celebrate IEEE’
 s legacy\, promote student engagement\, highlight the value of IEEE member
 ship\, and foster interaction among students\, faculty\, and professionals
 .\n\n[]\n\nEvent Highlights\n\nThe celebration began with the Holy Quran r
 ecitation and the National Anthem\, followed by several engaging activitie
 s:\n\n• Recitation with Translation: Hafiz Muhammad Rehan and Ms. Mubash
 ara\n\n• Opening Remarks: Ms. Nimra Shahid emphasized IEEE’s vision an
 d global impact.\n\n• Technical Talk: Dr. Uzma Jamil spoke on “Advanci
 ng Technology for Humanity\,” highlighting the role of IEEE for students
 \, professionals and others and explained the benefits of IEEE.\n\n• Qui
 z Competition: Students enthusiastically participated in an IEEE-themed qu
 iz\, with winners receiving souvenirs.\n\n• Cake Cutting &amp; Interactive S
 ession: Marked unity and shared plans for IEEE initiatives.\n\n• Group P
 hoto: Captured the memorable moments.\n\nAcknowledgments Special thanks to
 :\n\n• Dr. Kashif Hanif\, Head\, Department of Computer Science\, for hi
 s constant support and encouragement.\n\n• The Department of Computer Sc
 ience\, GCUF\, for providing full support in organizing this successful ev
 ent.\n\n• Dr. Uzma Jamil\, In-Charge\, IEEE GCUF Student Branch\, for ev
 ent organization\, participation as speaker and continuous guidance.\n\n
 • Ms. Asma Sajid: For her enthusiastic support and guidance as IEEE Comp
 uter Society advisor.\n\n• IEEE Lahore Section\, for their financial sup
 port that contributed to the success of IEEE Day 2025.\n\nCo-sponsored by:
  IEEE GCUF Branch\n\nGCUF\, FSD\, Punjab\, Pakistan\, 37000
LOCATION:GCUF\, FSD\, Punjab\, Pakistan\, 37000
ORGANIZER:uzma_gcuf@yahoo.com
SEQUENCE:54
SUMMARY:IEEE Day 2025 Celebration – Advancing Technology for Humanity
URL;VALUE=URI:https://events.vtools.ieee.org/m/507809
X-ALT-DESC:Description: &lt;br /&gt;&lt;p class=&quot;MsoNormal&quot; style=&quot;mso-margin-top-al
 t: auto\; mso-margin-bottom-alt: auto\; line-height: normal\; mso-outline-
 level: 2\;&quot;&gt;&lt;strong data-start=&quot;42&quot; data-end=&quot;58&quot;&gt;Introduction&lt;/strong&gt;&lt;br
  data-start=&quot;58&quot; data-end=&quot;61&quot;&gt;IEEE Day commemorates the first global gath
 ering of engineers\, held in 1884\, to share technical ideas. The IEEE GCU
 F Student Branch celebrated this occasion to honor innovation\, collaborat
 ion\, and technology for the benefit of humanity\, uniting students\, facu
 lty\, and IEEE volunteers.&lt;/p&gt;\n&lt;p class=&quot;MsoNormal&quot;&gt;&lt;strong&gt;Objectives &lt;/
 strong&gt;&lt;/p&gt;\n&lt;p class=&quot;MsoNormal&quot;&gt;The event aimed to celebrate IEEE&amp;rsquo\
 ;s legacy\, promote student engagement\, highlight the value of IEEE membe
 rship\, and foster interaction among students\, faculty\, and professional
 s.&lt;/p&gt;\n&lt;h2 data-start=&quot;1170&quot; data-end=&quot;1196&quot;&gt;&lt;strong data-start=&quot;1173&quot; da
 ta-end=&quot;1196&quot;&gt;&lt;img src=&quot;https://events.vtools.ieee.org/vtools_ui/media/dis
 play/2e7f4d26-42e9-4705-9a5f-1d8f1d2a88c1&quot; alt=&quot;&quot; width=&quot;400&quot; height=&quot;500&quot;
 &gt;&lt;/strong&gt;&lt;/h2&gt;\n&lt;p class=&quot;MsoNormal&quot;&gt;&lt;strong&gt;Event Highlights &lt;/strong&gt;&lt;/
 p&gt;\n&lt;p class=&quot;MsoNormal&quot;&gt;The celebration began with the Holy Quran recitat
 ion and the National Anthem\, followed by several engaging activities:&lt;/p&gt;
 \n&lt;p class=&quot;MsoNormal&quot;&gt;&amp;bull\; &lt;strong&gt;Recitation with Translation:&lt;/stron
 g&gt; Hafiz Muhammad Rehan and Ms. Mubashara&lt;/p&gt;\n&lt;p class=&quot;MsoNormal&quot;&gt;&amp;bull\
 ; &lt;strong&gt;Opening Remarks:&lt;/strong&gt; Ms. Nimra Shahid emphasized IEEE&amp;rsquo
 \;s vision and global impact.&lt;/p&gt;\n&lt;p class=&quot;MsoNormal&quot;&gt;&amp;bull\; &lt;strong&gt;Te
 chnical Talk:&lt;/strong&gt; Dr. Uzma Jamil spoke on &amp;ldquo\;Advancing Technolog
 y for Humanity\,&amp;rdquo\; highlighting the role of IEEE for students\, prof
 essionals and others and explained the benefits of IEEE.&lt;/p&gt;\n&lt;p class=&quot;Ms
 oNormal&quot;&gt;&amp;bull\; &lt;strong&gt;Quiz Competition:&lt;/strong&gt; Students enthusiastica
 lly participated in an IEEE-themed quiz\, with winners receiving souvenirs
 .&lt;/p&gt;\n&lt;p class=&quot;MsoNormal&quot;&gt;&lt;strong&gt;&lt;span style=&quot;mso-spacerun: yes\;&quot;&gt;&amp;nbs
 p\;&lt;/span&gt;&lt;/strong&gt;&amp;bull\;&lt;strong&gt; Cake Cutting &amp;amp\; Interactive Session
 :&lt;/strong&gt; Marked unity and shared plans for IEEE initiatives.&lt;/p&gt;\n&lt;p cla
 ss=&quot;MsoNormal&quot;&gt;&lt;span style=&quot;mso-spacerun: yes\;&quot;&gt;&amp;nbsp\;&lt;/span&gt;&amp;bull\; &lt;st
 rong&gt;Group Photo:&lt;/strong&gt; Captured the memorable moments.&lt;/p&gt;\n&lt;p style=&quot;
 margin-left: .5in\; text-indent: -.25in\; mso-list: l0 level1 lfo1\; tab-s
 tops: list .5in\;&quot; data-start=&quot;2026&quot; data-end=&quot;2100&quot;&gt;&amp;nbsp\;&lt;/p&gt;\n&lt;p class
 =&quot;MsoNormal&quot;&gt;&lt;strong&gt;Acknowledgments Special thanks to: &lt;/strong&gt;&lt;/p&gt;\n&lt;p 
 class=&quot;MsoNormal&quot;&gt;&amp;bull\; &lt;strong&gt;Dr. Kashif Hanif\,&lt;/strong&gt; Head\, Depar
 tment of Computer Science\, for his constant support and encouragement.&lt;/p
 &gt;\n&lt;p class=&quot;MsoNormal&quot;&gt;&lt;span style=&quot;mso-spacerun: yes\;&quot;&gt;&amp;nbsp\;&lt;/span&gt;&amp;b
 ull\; &lt;strong&gt;The Department of Computer Science\, GCUF&lt;/strong&gt;\, for pro
 viding full support in organizing this successful event.&lt;/p&gt;\n&lt;p class=&quot;Ms
 oNormal&quot;&gt;&lt;span style=&quot;mso-spacerun: yes\;&quot;&gt;&amp;nbsp\;&lt;/span&gt;&amp;bull\; &lt;strong&gt;D
 r. Uzma Jamil&lt;/strong&gt;\, In-Charge\, IEEE GCUF Student Branch\, for event 
 organization\, participation as speaker and continuous guidance.&lt;/p&gt;\n&lt;p c
 lass=&quot;MsoNormal&quot;&gt;&amp;bull\; &lt;strong&gt;Ms. Asma Sajid:&lt;/strong&gt; For her enthusia
 stic support and guidance as IEEE Computer Society advisor.&lt;/p&gt;\n&lt;p class=
 &quot;MsoNormal&quot;&gt;&amp;bull\; &lt;strong&gt;IEEE Lahore Section\,&lt;/strong&gt; for their finan
 cial support that contributed to the success of IEEE Day 2025.&lt;/p&gt;\n&lt;p sty
 le=&quot;text-align: justify\;&quot; data-start=&quot;3919&quot; data-end=&quot;4313&quot;&gt;&amp;nbsp\;&lt;/p&gt;
END:VEVENT
END:VCALENDAR

