BEGIN:VCALENDAR
VERSION:2.0
PRODID:IEEE vTools.Events//EN
CALSCALE:GREGORIAN
BEGIN:VTIMEZONE
TZID:Africa/Casablanca
BEGIN:DAYLIGHT
DTSTART:20250406T030000
TZOFFSETFROM:+0000
TZOFFSETTO:+0100
RRULE:FREQ=YEARLY;BYDAY=1SU;BYMONTH=4
TZNAME:+01
END:DAYLIGHT
BEGIN:STANDARD
DTSTART:20260215T020000
TZOFFSETFROM:+0100
TZOFFSETTO:+0000
RRULE:FREQ=YEARLY;BYDAY=3SU;BYMONTH=2
TZNAME:+00
END:STANDARD
END:VTIMEZONE
BEGIN:VEVENT
DTSTAMP:20251116T010212Z
UID:2FBF136A-5047-4C67-97A9-05C9EF134488
DTSTART;TZID=Africa/Casablanca:20250905T213000
DTEND;TZID=Africa/Casablanca:20250906T030000
DESCRIPTION:📅Day 1: Gaming Night 3.0 🎮\n\nOrganized by:\n✨ IEEE CS 
 ENICarthage SBC\n✨ IEEE CS Esprit SBC\n✨ IEEE CS ISIMM SBC\n✨ IEEE C
 S ISSATM SBC\n✨ IEEE CS ENSIT SBC\n✨ IEEE CS ENET’Com SBC\n✨ IEEE 
 CS ISET Bizerte SBC\n\n🗓 Date: During Integration Days: The 5 of Septem
 ber\n💻 Platform: Discord\n\n🕹 Games: League of Legends &amp; Valorant\n\
 n📊 Participation:\n\n-\n138 participants joined the Discord server\n\n-
 \n8 teams for League of Legends\n\n-\n8 teams for Valorant\n\n🎤 Activit
 ies:\n\n-\nOpening ceremony with team matching via roulette\n\n-\nGaming t
 ournaments\n\n-\nLive streaming\n\n-\nEntertainment rooms (including karao
 ke 🎤)\n\n-\nPrizes for the winners\n\n💬 Impact:\nThe event created a
 n exciting and interactive atmosphere that brought together members from d
 ifferent Student Branches. It helped strengthen collaboration between SBCs
 \, encouraged new students to join IEEE\, and provided a fun\, inclusive s
 tart to the academic year.\n\n🌟 Feedback:\nParticipants really enjoyed 
 the night and appreciated the combination of competition\, entertainment\,
  and community spirit.\n\nVirtual: https://events.vtools.ieee.org/m/508481
LOCATION:Virtual: https://events.vtools.ieee.org/m/508481
ORGANIZER:enicarthage.ieee.cs@gmail.com
SEQUENCE:39
SUMMARY:Gaming Night 3.0 Day1
URL;VALUE=URI:https://events.vtools.ieee.org/m/508481
X-ALT-DESC:Description: &lt;br /&gt;&lt;h3 data-start=&quot;190&quot; data-end=&quot;238&quot;&gt;📅Day 1
 : &lt;em data-start=&quot;219&quot; data-end=&quot;236&quot;&gt;Gaming Night 3.0 🎮&lt;/em&gt;&lt;/h3&gt;\n&lt;p 
 data-start=&quot;239&quot; data-end=&quot;430&quot;&gt;&lt;strong data-start=&quot;239&quot; data-end=&quot;256&quot;&gt;Or
 ganized by:&lt;/strong&gt;&lt;br data-start=&quot;256&quot; data-end=&quot;259&quot;&gt;✨ IEEE CS ENICar
 thage SBC&lt;br data-start=&quot;284&quot; data-end=&quot;287&quot;&gt;✨ IEEE CS Esprit SBC&lt;br dat
 a-start=&quot;307&quot; data-end=&quot;310&quot;&gt;✨ IEEE CS ISIMM SBC&lt;br data-start=&quot;329&quot; dat
 a-end=&quot;332&quot;&gt;✨ IEEE CS ISSATM SBC&lt;br data-start=&quot;352&quot; data-end=&quot;355&quot;&gt;✨ 
 IEEE CS ENSIT SBC&lt;br data-start=&quot;374&quot; data-end=&quot;377&quot;&gt;✨ IEEE CS ENET&amp;rsqu
 o\;Com SBC&lt;br data-start=&quot;399&quot; data-end=&quot;402&quot;&gt;✨ IEEE CS ISET Bizerte SBC
 &lt;/p&gt;\n&lt;p data-start=&quot;432&quot; data-end=&quot;497&quot;&gt;&lt;strong data-start=&quot;432&quot; data-end
 =&quot;444&quot;&gt;🗓 Date:&lt;/strong&gt; During Integration Days: The 5 of September&lt;br 
 data-start=&quot;468&quot; data-end=&quot;471&quot;&gt;&lt;strong data-start=&quot;471&quot; data-end=&quot;487&quot;&gt;
 💻 Platform:&lt;/strong&gt; Discord&lt;/p&gt;\n&lt;p data-start=&quot;499&quot; data-end=&quot;547&quot;&gt;&lt;s
 trong data-start=&quot;499&quot; data-end=&quot;512&quot;&gt;🕹 Games:&lt;/strong&gt; &lt;em data-start=
 &quot;513&quot; data-end=&quot;532&quot;&gt;League of Legends&lt;/em&gt; &amp;amp\; &lt;em data-start=&quot;535&quot; da
 ta-end=&quot;545&quot;&gt;Valorant&lt;/em&gt;&lt;/p&gt;\n&lt;p data-start=&quot;549&quot; data-end=&quot;572&quot;&gt;&lt;strong
  data-start=&quot;549&quot; data-end=&quot;570&quot;&gt;📊 Participation:&lt;/strong&gt;&lt;/p&gt;\n&lt;ul dat
 a-start=&quot;573&quot; data-end=&quot;678&quot;&gt;\n&lt;li data-start=&quot;573&quot; data-end=&quot;619&quot;&gt;\n&lt;p da
 ta-start=&quot;575&quot; data-end=&quot;619&quot;&gt;138 participants joined the Discord server&lt;/
 p&gt;\n&lt;/li&gt;\n&lt;li data-start=&quot;620&quot; data-end=&quot;653&quot;&gt;\n&lt;p data-start=&quot;622&quot; data-
 end=&quot;653&quot;&gt;8 teams for League of Legends&lt;/p&gt;\n&lt;/li&gt;\n&lt;li data-start=&quot;654&quot; d
 ata-end=&quot;678&quot;&gt;\n&lt;p data-start=&quot;656&quot; data-end=&quot;678&quot;&gt;8 teams for Valorant&lt;/p
 &gt;\n&lt;/li&gt;\n&lt;/ul&gt;\n&lt;p data-start=&quot;680&quot; data-end=&quot;700&quot;&gt;&lt;strong data-start=&quot;68
 0&quot; data-end=&quot;698&quot;&gt;🎤 Activities:&lt;/strong&gt;&lt;/p&gt;\n&lt;ul data-start=&quot;701&quot; data
 -end=&quot;869&quot;&gt;\n&lt;li data-start=&quot;701&quot; data-end=&quot;753&quot;&gt;\n&lt;p data-start=&quot;703&quot; dat
 a-end=&quot;753&quot;&gt;Opening ceremony with team matching via roulette&lt;/p&gt;\n&lt;/li&gt;\n&lt;
 li data-start=&quot;754&quot; data-end=&quot;776&quot;&gt;\n&lt;p data-start=&quot;756&quot; data-end=&quot;776&quot;&gt;Ga
 ming tournaments&lt;/p&gt;\n&lt;/li&gt;\n&lt;li data-start=&quot;777&quot; data-end=&quot;795&quot;&gt;\n&lt;p data
 -start=&quot;779&quot; data-end=&quot;795&quot;&gt;Live streaming&lt;/p&gt;\n&lt;/li&gt;\n&lt;li data-start=&quot;796
 &quot; data-end=&quot;842&quot;&gt;\n&lt;p data-start=&quot;798&quot; data-end=&quot;842&quot;&gt;Entertainment rooms 
 (including karaoke 🎤)&lt;/p&gt;\n&lt;/li&gt;\n&lt;li data-start=&quot;843&quot; data-end=&quot;869&quot;&gt;\
 n&lt;p data-start=&quot;845&quot; data-end=&quot;869&quot;&gt;Prizes for the winners&lt;/p&gt;\n&lt;/li&gt;\n&lt;/u
 l&gt;\n&lt;p data-start=&quot;871&quot; data-end=&quot;1154&quot;&gt;&lt;strong data-start=&quot;871&quot; data-end=
 &quot;885&quot;&gt;💬 Impact:&lt;/strong&gt;&lt;br data-start=&quot;885&quot; data-end=&quot;888&quot;&gt;The event c
 reated an exciting and interactive atmosphere that brought together member
 s from different Student Branches. It helped strengthen collaboration betw
 een SBCs\, encouraged new students to join IEEE\, and provided a fun\, inc
 lusive start to the academic year.&lt;/p&gt;\n&lt;p data-start=&quot;1156&quot; data-end=&quot;129
 9&quot;&gt;&lt;strong data-start=&quot;1156&quot; data-end=&quot;1172&quot;&gt;🌟 Feedback:&lt;/strong&gt;&lt;br da
 ta-start=&quot;1172&quot; data-end=&quot;1175&quot;&gt;Participants really enjoyed the night and 
 appreciated the combination of competition\, entertainment\, and community
  spirit.&lt;/p&gt;
END:VEVENT
END:VCALENDAR

