BEGIN:VCALENDAR
VERSION:2.0
PRODID:IEEE vTools.Events//EN
CALSCALE:GREGORIAN
BEGIN:VTIMEZONE
TZID:America/St_Johns
BEGIN:DAYLIGHT
DTSTART:20250309T030000
TZOFFSETFROM:-0430
TZOFFSETTO:-0330
RRULE:FREQ=YEARLY;BYDAY=2SU;BYMONTH=3
TZNAME:NDT
END:DAYLIGHT
BEGIN:STANDARD
DTSTART:20251102T010000
TZOFFSETFROM:-0330
TZOFFSETTO:-0430
RRULE:FREQ=YEARLY;BYDAY=1SU;BYMONTH=11
TZNAME:NST
END:STANDARD
END:VTIMEZONE
BEGIN:VEVENT
DTSTAMP:20251118T143524Z
UID:FA4BF757-C98D-47A6-A5A3-C60840E6D221
DTSTART;TZID=America/St_Johns:20251028T120000
DTEND;TZID=America/St_Johns:20251028T130000
DESCRIPTION:🌟 The IEEE NL Section Women in Engineering (WIE) invites you
  to a special talk titled “Growing with STEM” by Kathryn Hong\, Coordi
 nator of Outreach Activities\, Faculty of Engineering and Applied Science\
 , Memorial University.\n\nDiscover why STEM experiences are valuable for y
 outh\, explore what makes outreach programs truly impactful\, and learn ab
 out the inspiring initiatives led by Memorial Engineering Outreach.\n\nThi
 s session aligns with the mission of [WIE MANGA](https://wie.ieee.org/publ
 ications/manga-story-contest/2025-ieee-wie-manga-stories/): motivating and
  engaging youth in STEM through creativity and storytelling.\n\n📸 Stay 
 tuned for our upcoming WIE Photo Contest in November\, promoting WIE MANGA
  Stories through creative photo sharing and engagement! More details will 
 be announced soon.\n\n[]\n\nSpeaker(s): Kathryn Hong\, \n\nRoom: Faculty L
 ounge (EN4000)\, Memorial University of Newfoundland\, St. John&#39;s\, Newfou
 ndland and Labrador\, Canada
LOCATION:Room: Faculty Lounge (EN4000)\, Memorial University of Newfoundlan
 d\, St. John&#39;s\, Newfoundland and Labrador\, Canada
ORGANIZER:vnherath@mun.ca
SEQUENCE:8
SUMMARY:IEEE NL WIE Lunch &amp; Learn - Growing with STEM
URL;VALUE=URI:https://events.vtools.ieee.org/m/509106
X-ALT-DESC:Description: &lt;br /&gt;&lt;div style=&quot;text-align: justify\;&quot;&gt;\n&lt;p data-
 start=&quot;116&quot; data-end=&quot;352&quot;&gt;🌟 &lt;strong data-start=&quot;119&quot; data-end=&quot;169&quot;&gt;Th
 e IEEE NL Section Women in Engineering (WIE)&lt;/strong&gt; invites you to a spe
 cial talk titled &lt;em data-start=&quot;207&quot; data-end=&quot;228&quot;&gt;&amp;ldquo\;&lt;strong&gt;Growi
 ng with STEM&lt;/strong&gt;&amp;rdquo\;&lt;/em&gt; by &lt;strong data-start=&quot;232&quot; data-end=&quot;2
 48&quot;&gt;Kathryn Hong&lt;/strong&gt;\, Coordinator of Outreach Activities\, Faculty o
 f Engineering and Applied Science\, Memorial University.&lt;/p&gt;\n&lt;p data-star
 t=&quot;359&quot; data-end=&quot;555&quot;&gt;Discover why STEM experiences are valuable for yout
 h\, explore what makes outreach programs truly impactful\, and learn about
  the inspiring initiatives led by&amp;nbsp\;&lt;strong data-start=&quot;519&quot; data-end=
 &quot;552&quot;&gt;Memorial Engineering Outreach&lt;/strong&gt;.&lt;/p&gt;\n&lt;p data-start=&quot;562&quot; dat
 a-end=&quot;780&quot;&gt;This session aligns with the mission of &lt;strong data-start=&quot;60
 2&quot; data-end=&quot;701&quot;&gt;&lt;a class=&quot;decorated-link&quot; href=&quot;https://wie.ieee.org/pub
 lications/manga-story-contest/2025-ieee-wie-manga-stories/&quot; data-start=&quot;60
 4&quot; data-end=&quot;699&quot;&gt;WIE MANGA&lt;/a&gt;&lt;/strong&gt;: motivating and engaging youth in
  STEM through creativity and storytelling.&lt;/p&gt;\n&lt;p data-start=&quot;787&quot; data-e
 nd=&quot;854&quot;&gt;📸 &lt;strong&gt;Stay tuned for our upcoming WIE Photo Contest in Nov
 ember\, promoting WIE MANGA Stories through creative photo sharing and eng
 agement! More details will be announced soon.&lt;/strong&gt;&lt;/p&gt;\n&lt;p data-start=
 &quot;787&quot; data-end=&quot;854&quot;&gt;&lt;strong&gt;&lt;img src=&quot;https://events.vtools.ieee.org/vtoo
 ls_ui/media/display/1551f290-7721-4d69-9051-a7eba6a27ca3&quot; alt=&quot;&quot; width=&quot;96
 0&quot; height=&quot;540&quot;&gt;&lt;/strong&gt;&lt;/p&gt;\n&lt;/div&gt;
END:VEVENT
END:VCALENDAR

