BEGIN:VCALENDAR
VERSION:2.0
PRODID:IEEE vTools.Events//EN
CALSCALE:GREGORIAN
BEGIN:VTIMEZONE
TZID:Europe/Paris
BEGIN:DAYLIGHT
DTSTART:20250330T030000
TZOFFSETFROM:+0100
TZOFFSETTO:+0200
RRULE:FREQ=YEARLY;BYDAY=-1SU;BYMONTH=3
TZNAME:CEST
END:DAYLIGHT
BEGIN:STANDARD
DTSTART:20251026T020000
TZOFFSETFROM:+0200
TZOFFSETTO:+0100
RRULE:FREQ=YEARLY;BYDAY=-1SU;BYMONTH=10
TZNAME:CET
END:STANDARD
END:VTIMEZONE
BEGIN:VEVENT
DTSTAMP:20251025T090759Z
UID:06957185-7335-4A99-B55E-1A4618A11FDA
DTSTART;TZID=Europe/Paris:20251018T090000
DTEND;TZID=Europe/Paris:20251018T090100
DESCRIPTION:Proudly representing our community\, IEEE ENET’Com SB took pa
 rt in the IEEE Day 2025 Video Contest\, narrating our celebration through 
 dynamic storytelling.\n\nThe video captured the heartbeat of our event tea
 m building\, workshops\, volunteering\, and smiles framed by our mission: 
 advancing technology for humanity. Members contributed scripts\, footage\,
  and edits to deliver an inspiring\, authentic message.\n\nOur submission 
 honored the dedication of volunteers and showcased the ENET’Com spirit
 —creative\, united\, and forward-looking—standing tall within the glob
 al IEEE family.\n\nVirtual: https://events.vtools.ieee.org/m/509270
LOCATION:Virtual: https://events.vtools.ieee.org/m/509270
ORGANIZER:jihenjabeur@ieee.org
SEQUENCE:8
SUMMARY: IEEE Day 2025 | Video Contest Participation |IEEE ENET’Com SB
URL;VALUE=URI:https://events.vtools.ieee.org/m/509270
X-ALT-DESC:Description: &lt;br /&gt;&lt;p dir=&quot;ltr&quot;&gt;&amp;nbsp\;Proudly representing our 
 community\, &lt;span style=&quot;background-color: rgb(53\, 152\, 219)\;&quot;&gt;&lt;strong&gt;
 IEEE ENET&amp;rsquo\;Com SB&lt;/strong&gt;&lt;/span&gt; took part in the IEEE Day 2025 Vid
 eo Contest\, narrating our celebration through dynamic storytelling.&lt;/p&gt;\n
 &lt;p dir=&quot;ltr&quot;&gt;&lt;br&gt;The video captured the heartbeat of our event team buildi
 ng\, workshops\, volunteering\, and smiles framed by our mission: advancin
 g technology for humanity. Members contributed scripts\, footage\, and edi
 ts to deliver an inspiring\, authentic message.&lt;/p&gt;\n&lt;p&gt;&lt;strong id=&quot;docs-i
 nternal-guid-99fb94a2-7fff-c2c3-674c-f20c7ca2916c&quot;&gt;&lt;br&gt;Our submission hono
 red the dedication of volunteers and showcased the ENET&amp;rsquo\;Com spirit&amp;
 mdash\;creative\, united\, and forward-looking&amp;mdash\;standing tall within
  the global IEEE family.&lt;/strong&gt;&lt;/p&gt;
END:VEVENT
END:VCALENDAR

