BEGIN:VCALENDAR
VERSION:2.0
PRODID:IEEE vTools.Events//EN
CALSCALE:GREGORIAN
BEGIN:VTIMEZONE
TZID:Asia/Kolkata
BEGIN:STANDARD
DTSTART:19451014T230000
TZOFFSETFROM:+0630
TZOFFSETTO:+0530
TZNAME:IST
END:STANDARD
END:VTIMEZONE
BEGIN:VEVENT
DTSTAMP:20251024T170023Z
UID:7AFFBBE4-E01F-4B6B-9BC0-A129A00C74E2
DTSTART;TZID=Asia/Kolkata:20250403T110000
DTEND;TZID=Asia/Kolkata:20250403T130000
DESCRIPTION:IEEE WIT Student Branch and IEEE WIT WIE Affinity Group Organiz
 ed Fusion Instrumental Mix on 03-04-2025 under supervision of IEEE UP Sect
 ion. A fusion instrumental mix blends diverse musical styles\, creating a 
 unique harmony of tradition and modernity. It showcases creativity through
  the seamless combination of rhythms\, melodies\, and instruments from dif
 ferent cultures.\n\nCo-sponsored by: IEEE UP Section &amp; IEEE WIT Student Br
 anch\n\nRoom: Suddhowala\, Bldg: Auditorium \, Women Institute of Technolo
 gy\, VMSBUTU\, Dehradun\, Uttaranchal\, India\, 248007
LOCATION:Room: Suddhowala\, Bldg: Auditorium \, Women Institute of Technolo
 gy\, VMSBUTU\, Dehradun\, Uttaranchal\, India\, 248007
ORGANIZER:krishanchandra.mishra@gmail.com
SEQUENCE:11
SUMMARY:Fusion Instrumental Mix
URL;VALUE=URI:https://events.vtools.ieee.org/m/509697
X-ALT-DESC:Description: &lt;br /&gt;&lt;article class=&quot;text-token-text-primary w-ful
 l focus:outline-none [--shadow-height:45px] has-data-writing-block:pointer
 -events-none has-data-writing-block:-mt-(--shadow-height) has-data-writing
 -block:pt-(--shadow-height) [&amp;amp\;:has([data-writing-block])&amp;gt\;*]:point
 er-events-auto [content-visibility:auto] supports-[content-visibility:auto
 ]:[contain-intrinsic-size:auto_100lvh] scroll-mt-[calc(var(--header-height
 )+min(200px\,max(70px\,20svh)))]&quot; dir=&quot;auto&quot; tabindex=&quot;-1&quot; data-turn-id=&quot;e
 349c0c9-64d8-4140-8430-d1ebec788b87&quot; data-testid=&quot;conversation-turn-20&quot; da
 ta-scroll-anchor=&quot;true&quot; data-turn=&quot;assistant&quot;&gt;\n&lt;div class=&quot;text-base my-a
 uto mx-auto pb-10 [--thread-content-margin:--spacing(4)] thread-sm:[--thre
 ad-content-margin:--spacing(6)] thread-lg:[--thread-content-margin:--spaci
 ng(16)] px-(--thread-content-margin)&quot;&gt;\n&lt;div class=&quot;[--thread-content-max-
 width:40rem] thread-lg:[--thread-content-max-width:48rem] mx-auto max-w-(-
 -thread-content-max-width) flex-1 group/turn-messages focus-visible:outlin
 e-hidden relative flex w-full min-w-0 flex-col agent-turn&quot; tabindex=&quot;-1&quot;&gt;\
 n&lt;div class=&quot;flex max-w-full flex-col grow&quot;&gt;\n&lt;div class=&quot;min-h-8 text-mes
 sage relative flex w-full flex-col items-end gap-2 text-start break-words 
 whitespace-normal [.text-message+&amp;amp\;]:mt-1&quot; dir=&quot;auto&quot; data-message-aut
 hor-role=&quot;assistant&quot; data-message-id=&quot;ee318457-88e9-4a5f-a77d-86ba53634bcb
 &quot; data-message-model-slug=&quot;gpt-5&quot;&gt;\n&lt;div class=&quot;flex w-full flex-col gap-1
  empty:hidden first:pt-[1px]&quot;&gt;\n&lt;div class=&quot;markdown prose dark:prose-inve
 rt w-full break-words dark markdown-new-styling&quot;&gt;\n&lt;p data-start=&quot;57&quot; data
 -end=&quot;169&quot;&gt;IEEE WIT Student Branch and IEEE WIT WIE Affinity Group Organiz
 ed Fusion Instrumental Mix on 03-04-2025 under supervision of IEEE UP Sect
 ion. A fusion instrumental mix blends diverse musical styles\, creating a 
 unique harmony of tradition and modernity. It showcases creativity through
  the seamless combination of rhythms\, melodies\, and instruments from dif
 ferent cultures.&lt;/p&gt;\n&lt;/div&gt;\n&lt;/div&gt;\n&lt;/div&gt;\n&lt;/div&gt;\n&lt;div class=&quot;z-0 flex
  min-h-[46px] justify-start&quot;&gt;&amp;nbsp\;&lt;/div&gt;\n&lt;/div&gt;\n&lt;/div&gt;\n&lt;/article&gt;\n&lt;d
 iv class=&quot;pointer-events-none h-px w-px&quot; aria-hidden=&quot;true&quot; data-edge=&quot;tru
 e&quot;&gt;&amp;nbsp\;&lt;/div&gt;
END:VEVENT
END:VCALENDAR

