BEGIN:VCALENDAR
VERSION:2.0
PRODID:IEEE vTools.Events//EN
CALSCALE:GREGORIAN
BEGIN:VTIMEZONE
TZID:Asia/Kolkata
BEGIN:STANDARD
DTSTART:19451014T230000
TZOFFSETFROM:+0630
TZOFFSETTO:+0530
TZNAME:IST
END:STANDARD
END:VTIMEZONE
BEGIN:VEVENT
DTSTAMP:20251113T122712Z
UID:5992AD46-9F55-49DA-9F03-6AE5893CB3F0
DTSTART;TZID=Asia/Kolkata:20251016T110000
DTEND;TZID=Asia/Kolkata:20251016T160000
DESCRIPTION:Event Title:\n“From Code to Simulation: A MATLAB Exploration 
 Workshop”\n\nOrganized by:\nIEEE Communication Society Student Chapter\,
  Department of Electronics &amp; Communication Engineering\, Ajay Kumar Garg E
 ngineering College\, Ghaziabad\n\nDate:\nOctober 16 \, 2025\n\nTime:\n11:0
 0 AM – 04:00 PM\n\nVenue:\nBB2\, Back Block\, ECE Department\, AKGEC\n\n
 Event Description:\n\nThe IEEE Student Branch\, Ajay Kumar Garg Engineerin
 g College (AKGEC) successfully organized a Technical Workshop on “From C
 ode to Simulation: A MATLAB Exploration Workshop” on 16th October 2025 t
 o conclude the activities which were being conducted as a part of the IEEE
  Day-2025 Celebrations.\n\nThis workshop was designed and organized with a
 n aim to enhance the technical abilities of ECE 2nd Year ECE students thro
 ugh the better understanding of concepts related to Basics of MATLAB\, App
 lications &amp; Scope of MATLAB in the Industry\, Programming Fundamentals\, I
 ntroduction to Machine Learning with MATLAB along with Hands-on Practice S
 ession.\n\nThe concluding session of the workshop was also graced by the p
 resence of IEEE Committee Chair UP Section\, Dr. Arun Kumar Singh (Dean Ac
 ademics &amp; HoD ECE) at REC Kannauj as Chief Guest. The winner students of w
 orkshop were awarded with prizes\, goodies and certificates by the Chief G
 uest Dr. Arun Kumar Singh and Dr. Neelesh Kumar Gupta (Professor &amp; HoD\, E
 CE Department\, AKGEC).\n\nThe event was successfully organized by the IEE
 E Communication Society Student Chapter Members under the guidance of Dr. 
 Neelesh Kumar Gupta (Professor &amp; HoD\, ECE Department / IEEE Branch Counse
 llor\, AKGEC)\, along with Dr. Naresh Kumar and Dr. Uma Sharma (Faculty Co
 ordinators\, IEEE Student Branch).\n\nAgenda: \n-\n11:00 AM – 11:15 AM: 
 Introduction &amp; Welcome – Opening remarks by IEEE Student Branch Coordina
 tors and introduction of the workshop objectives.\n\n-\n11:15 AM – 1:00 
 PM: Technical Sessions – Basics of MATLAB\, Applications &amp; Scope in Indu
 stry\, and Programming Fundamentals with hands-on practice.\n\n-\n1:00 PM 
 – 1:30 PM: Break / Refreshments\n\n-\n1:30 PM – 3:00 PM: Advanced Sess
 ion – Introduction to Machine Learning with MATLAB and further hands-on 
 practice.\n\n-\n3:00 PM – 3:30 PM: Interactive Quiz – Engaging quiz se
 ssion for students based on the workshop content.\n\n-\n3:30 PM – 4:00 P
 M: Prize &amp; Certificate Distribution – Winners of the quiz and workshop a
 ctivities were awarded prizes\, goodies\, and certificates by Chief Guest 
 Dr. Arun Kumar Singh and Dr. Neelesh Kumar Gupta\, followed by closing rem
 arks and vote of thanks.\n\nRoom: BB2\, Bldg: BB2\, Back Block\, ECE Depar
 tment\, AKGEC\, Ajay Kumar Garg Engineering College \, 201015 \,Ghaziabad\
 , Uttar Pradesh\, India\, Ghaziabad\, Uttar Pradesh\, India\, 201015
LOCATION:Room: BB2\, Bldg: BB2\, Back Block\, ECE Department\, AKGEC\, Ajay
  Kumar Garg Engineering College \, 201015 \,Ghaziabad\, Uttar Pradesh\, In
 dia\, Ghaziabad\, Uttar Pradesh\, India\, 201015
ORGANIZER:palak2231209@akgec.ac.in
SEQUENCE:24
SUMMARY:From Code to Simulation: A MATLAB Exploration Workshop
URL;VALUE=URI:https://events.vtools.ieee.org/m/509703
X-ALT-DESC:Description: &lt;br /&gt;&lt;p class=&quot;MsoNormal&quot; style=&quot;text-align: justi
 fy\; line-height: normal\;&quot;&gt;&lt;strong&gt;&lt;span style=&quot;font-size: 11.5pt\; font-
 family: &#39;Times New Roman&#39;\,serif\; mso-fareast-font-family: &#39;Times New Rom
 an&#39;\;&quot;&gt;Event Title:&lt;/span&gt;&lt;/strong&gt;&lt;span style=&quot;font-size: 11.5pt\; font-f
 amily: &#39;Times New Roman&#39;\,serif\; mso-fareast-font-family: &#39;Times New Roma
 n&#39;\;&quot;&gt;&lt;br&gt;&lt;strong style=&quot;mso-bidi-font-weight: normal\;&quot;&gt;&amp;ldquo\;&lt;em&gt;&lt;span
  style=&quot;font-size: 12.0pt\; line-height: 107%\; font-family: &#39;Times New Ro
 man&#39;\,serif\; mso-fareast-font-family: &#39;Times New Roman&#39;\; mso-font-kernin
 g: 0pt\; mso-ligatures: none\; mso-ansi-language: EN-IN\; mso-fareast-lang
 uage: EN-US\; mso-bidi-language: AR-SA\;&quot;&gt;From Code to Simulation: A MATLA
 B Exploration Workshop&lt;/span&gt;&lt;/em&gt;&amp;rdquo\;&amp;nbsp\;&lt;/strong&gt;&lt;/span&gt;&lt;/p&gt;\n&lt;p 
 class=&quot;MsoNormal&quot; style=&quot;text-align: justify\; line-height: normal\;&quot;&gt;&lt;str
 ong&gt;&lt;span style=&quot;font-size: 11.5pt\; font-family: &#39;Times New Roman&#39;\,serif
 \; mso-fareast-font-family: &#39;Times New Roman&#39;\;&quot;&gt;Organized by:&lt;/span&gt;&lt;/str
 ong&gt;&lt;span style=&quot;font-size: 11.5pt\; font-family: &#39;Times New Roman&#39;\,serif
 \; mso-fareast-font-family: &#39;Times New Roman&#39;\;&quot;&gt;&lt;br&gt;IEEE Communication So
 ciety Student Chapter\, Department of Electronics &amp;amp\; Communication Eng
 ineering\, Ajay Kumar Garg Engineering College\, Ghaziabad&lt;/span&gt;&lt;/p&gt;\n&lt;p 
 class=&quot;MsoNormal&quot; style=&quot;text-align: justify\; line-height: normal\;&quot;&gt;&lt;str
 ong&gt;&lt;span style=&quot;font-size: 11.5pt\; font-family: &#39;Times New Roman&#39;\,serif
 \; mso-fareast-font-family: &#39;Times New Roman&#39;\;&quot;&gt;Date:&lt;/span&gt;&lt;/strong&gt;&lt;spa
 n style=&quot;font-size: 11.5pt\; font-family: &#39;Times New Roman&#39;\,serif\; mso-f
 areast-font-family: &#39;Times New Roman&#39;\;&quot;&gt;&lt;br&gt;October 16 \, 2025&lt;/span&gt;&lt;/p&gt;
 \n&lt;p class=&quot;MsoNormal&quot; style=&quot;text-align: justify\; line-height: normal\;&quot;
 &gt;&lt;strong&gt;&lt;span style=&quot;font-size: 11.5pt\; font-family: &#39;Times New Roman&#39;\,
 serif\; mso-fareast-font-family: &#39;Times New Roman&#39;\;&quot;&gt;Time:&lt;/span&gt;&lt;/strong
 &gt;&lt;span style=&quot;font-size: 11.5pt\; font-family: &#39;Times New Roman&#39;\,serif\; 
 mso-fareast-font-family: &#39;Times New Roman&#39;\;&quot;&gt;&lt;br&gt;11:00 AM &amp;ndash\; 04:00 
 PM&lt;/span&gt;&lt;/p&gt;\n&lt;p class=&quot;MsoNormal&quot; style=&quot;text-align: justify\; line-heig
 ht: normal\;&quot;&gt;&lt;strong&gt;&lt;span style=&quot;font-size: 11.5pt\; font-family: &#39;Times
  New Roman&#39;\,serif\; mso-fareast-font-family: &#39;Times New Roman&#39;\;&quot;&gt;Venue:&lt;
 /span&gt;&lt;/strong&gt;&lt;span style=&quot;font-size: 11.5pt\; font-family: &#39;Times New Ro
 man&#39;\,serif\; mso-fareast-font-family: &#39;Times New Roman&#39;\;&quot;&gt;&lt;br&gt;BB2\, Back
  Block\, ECE Department\, AKGEC&lt;/span&gt;&lt;/p&gt;\n&lt;p class=&quot;MsoNormal&quot; style=&quot;te
 xt-align: justify\; line-height: normal\;&quot;&gt;&lt;strong&gt;&lt;span style=&quot;font-size:
  11.5pt\; font-family: &#39;Times New Roman&#39;\,serif\; mso-fareast-font-family:
  &#39;Times New Roman&#39;\;&quot;&gt;Event Description:&lt;/span&gt;&lt;/strong&gt;&lt;/p&gt;\n&lt;p class=&quot;Ms
 oNormal&quot; style=&quot;text-align: justify\; line-height: normal\;&quot;&gt;&lt;span style=&quot;
 font-size: 12.0pt\; font-family: &#39;Times New Roman&#39;\,serif\; mso-fareast-fo
 nt-family: &#39;Times New Roman&#39;\;&quot;&gt;The&amp;nbsp\;&lt;strong&gt;&lt;em&gt;IEEE Student Branch\
 , Ajay Kumar Garg Engineering College (AKGEC)&lt;/em&gt;&lt;/strong&gt;&amp;nbsp\;successf
 ully organized a &lt;strong&gt;&lt;em&gt;Technical Workshop&lt;/em&gt;&lt;/strong&gt; on&amp;nbsp\;&lt;st
 rong style=&quot;mso-bidi-font-weight: normal\;&quot;&gt;&lt;em&gt;&amp;ldquo\;From Code to Simul
 ation: A MATLAB Exploration Workshop&amp;rdquo\;&lt;/em&gt;&lt;/strong&gt;&amp;nbsp\;on&amp;nbsp\;
 &lt;strong&gt;16&lt;sup&gt;th&lt;/sup&gt; October 2025&lt;/strong&gt;&amp;nbsp\;to conclude the activi
 ties which were being conducted as a part of the IEEE Day-2025 Celebration
 s.&lt;/span&gt;&lt;/p&gt;\n&lt;p class=&quot;MsoNormal&quot; style=&quot;text-align: justify\;&quot;&gt;&lt;span st
 yle=&quot;font-size: 12.0pt\; line-height: 107%\; font-family: &#39;Times New Roman
 &#39;\,serif\;&quot;&gt;This workshop was designed and organized with an aim &lt;strong&gt;&lt;
 em&gt;to enhance the technical abilities of ECE 2&lt;sup&gt;nd&lt;/sup&gt; Year ECE stude
 nts&lt;/em&gt;&lt;/strong&gt; through the better understanding of concepts related to 
 Basics of MATLAB\, Applications &amp;amp\; Scope of MATLAB in the Industry\, P
 rogramming Fundamentals\, Introduction to Machine Learning with MATLAB alo
 ng &lt;strong&gt;&lt;em&gt;with Hands-on Practice Session&lt;/em&gt;&lt;/strong&gt;.&lt;/span&gt;&lt;/p&gt;\n&lt;
 p class=&quot;MsoNormal&quot; style=&quot;text-align: justify\; line-height: normal\;&quot;&gt;&lt;s
 pan style=&quot;font-size: 11.5pt\; font-family: &#39;Times New Roman&#39;\,serif\; mso
 -fareast-font-family: &#39;Times New Roman&#39;\;&quot;&gt;The concluding session of the w
 orkshop was also graced by the presence of &lt;strong&gt;&lt;em&gt;IEEE Committee Chai
 r UP Section\, Dr. Arun Kumar Singh (Dean Academics &amp;amp\; HoD ECE)&lt;/em&gt;&lt;/
 strong&gt; at &lt;strong&gt;&lt;em&gt;REC Kannauj&lt;/em&gt;&lt;/strong&gt; as &lt;strong&gt;Chief Guest&lt;/s
 trong&gt;. The winner students of workshop were awarded with prizes\, goodies
  and certificates by the Chief Guest &lt;strong&gt;&lt;em&gt;Dr. Arun Kumar Singh &lt;/em
 &gt;&lt;/strong&gt;&lt;em&gt;and&lt;strong&gt; Dr. Neelesh Kumar Gupta&lt;/strong&gt;&amp;nbsp\;&lt;strong&gt;(
 Professor &amp;amp\; HoD\, ECE Department\, AKGEC).&lt;/strong&gt;&lt;/em&gt;&lt;/span&gt;&lt;/p&gt;\n
 &lt;p class=&quot;MsoNormal&quot; style=&quot;text-align: justify\; line-height: normal\;&quot;&gt;&lt;
 span style=&quot;font-size: 11.5pt\; font-family: &#39;Times New Roman&#39;\,serif\; ms
 o-fareast-font-family: &#39;Times New Roman&#39;\;&quot;&gt;The event was successfully org
 anized by the &lt;strong&gt;&lt;em&gt;IEEE Communication Society Student Chapter&lt;/em&gt;&lt;
 /strong&gt;&lt;em&gt; &lt;strong&gt;Members&lt;/strong&gt;&lt;/em&gt; under the guidance of&amp;nbsp\;&lt;st
 rong&gt;&lt;em&gt;Dr. Neelesh Kumar Gupta&lt;/em&gt;&lt;/strong&gt;&amp;nbsp\;(Professor &amp;amp\; HoD
 \, ECE Department / IEEE Branch Counsellor\, AKGEC)\, along with&amp;nbsp\;&lt;st
 rong&gt;&lt;em&gt;Dr. Naresh Kumar&lt;/em&gt;&lt;/strong&gt;&amp;nbsp\;and&amp;nbsp\;&lt;strong&gt;&lt;em&gt;Dr. Um
 a Sharma&lt;/em&gt;&lt;/strong&gt;&amp;nbsp\;(Faculty Coordinators\, IEEE Student Branch).
 &lt;/span&gt;&lt;/p&gt;&lt;br /&gt;&lt;br /&gt;Agenda: &lt;br /&gt;&lt;ul&gt;\n&lt;li data-start=&quot;324&quot; data-end=&quot;
 474&quot;&gt;\n&lt;p data-start=&quot;326&quot; data-end=&quot;474&quot;&gt;&lt;strong data-start=&quot;326&quot; data-en
 d=&quot;350&quot;&gt;11:00 AM &amp;ndash\; 11:15 AM:&lt;/strong&gt; Introduction &amp;amp\; Welcome &amp;
 ndash\; Opening remarks by IEEE Student Branch Coordinators and introducti
 on of the workshop objectives.&lt;/p&gt;\n&lt;/li&gt;\n&lt;li data-start=&quot;475&quot; data-end=&quot;
 628&quot;&gt;\n&lt;p data-start=&quot;477&quot; data-end=&quot;628&quot;&gt;&lt;strong data-start=&quot;477&quot; data-en
 d=&quot;500&quot;&gt;11:15 AM &amp;ndash\; 1:00 PM:&lt;/strong&gt; Technical Sessions &amp;ndash\; Ba
 sics of MATLAB\, Applications &amp;amp\; Scope in Industry\, and Programming F
 undamentals with hands-on practice.&lt;/p&gt;\n&lt;/li&gt;\n&lt;li data-start=&quot;629&quot; data-
 end=&quot;676&quot;&gt;\n&lt;p data-start=&quot;631&quot; data-end=&quot;676&quot;&gt;&lt;strong data-start=&quot;631&quot; da
 ta-end=&quot;653&quot;&gt;1:00 PM &amp;ndash\; 1:30 PM:&lt;/strong&gt; Break / Refreshments&lt;/p&gt;\n
 &lt;/li&gt;\n&lt;li data-start=&quot;677&quot; data-end=&quot;798&quot;&gt;\n&lt;p data-start=&quot;679&quot; data-end=
 &quot;798&quot;&gt;&lt;strong data-start=&quot;679&quot; data-end=&quot;701&quot;&gt;1:30 PM &amp;ndash\; 3:00 PM:&lt;/s
 trong&gt; Advanced Session &amp;ndash\; Introduction to Machine Learning with MAT
 LAB and further hands-on practice.&lt;/p&gt;\n&lt;/li&gt;\n&lt;li data-start=&quot;799&quot; data-e
 nd=&quot;910&quot;&gt;\n&lt;p data-start=&quot;801&quot; data-end=&quot;910&quot;&gt;&lt;strong data-start=&quot;801&quot; dat
 a-end=&quot;823&quot;&gt;3:00 PM &amp;ndash\; 3:30 PM:&lt;/strong&gt; Interactive Quiz &amp;ndash\; E
 ngaging quiz session for students based on the workshop content.&lt;/p&gt;\n&lt;/li
 &gt;\n&lt;li data-start=&quot;911&quot; data-end=&quot;1188&quot;&gt;\n&lt;p data-start=&quot;913&quot; data-end=&quot;11
 88&quot;&gt;&lt;strong data-start=&quot;913&quot; data-end=&quot;935&quot;&gt;3:30 PM &amp;ndash\; 4:00 PM:&lt;/str
 ong&gt; Prize &amp;amp\; Certificate Distribution &amp;ndash\; Winners of the quiz an
 d workshop activities were awarded &lt;strong data-start=&quot;1028&quot; data-end=&quot;106
 5&quot;&gt;prizes\, goodies\, and certificates&lt;/strong&gt; by &lt;strong data-start=&quot;106
 9&quot; data-end=&quot;1105&quot;&gt;Chief Guest Dr. Arun Kumar Singh&lt;/strong&gt; and &lt;strong d
 ata-start=&quot;1110&quot; data-end=&quot;1137&quot;&gt;Dr. Neelesh Kumar Gupta&lt;/strong&gt;\, follow
 ed by closing remarks and vote of thanks.&lt;/p&gt;\n&lt;/li&gt;\n&lt;/ul&gt;\n&lt;p&gt;&amp;nbsp\;&lt;/p
 &gt;\n&lt;p&gt;&lt;img src=&quot;https://events.vtools.ieee.org/vtools_ui/media/display/8f5
 19c48-1796-4f20-8870-563ed9187f6b&quot;&gt;&lt;/p&gt;
END:VEVENT
END:VCALENDAR

