BEGIN:VCALENDAR
VERSION:2.0
PRODID:IEEE vTools.Events//EN
CALSCALE:GREGORIAN
BEGIN:VTIMEZONE
TZID:America/Los_Angeles
BEGIN:DAYLIGHT
DTSTART:20260308T030000
TZOFFSETFROM:-0800
TZOFFSETTO:-0700
RRULE:FREQ=YEARLY;BYDAY=2SU;BYMONTH=3
TZNAME:PDT
END:DAYLIGHT
BEGIN:STANDARD
DTSTART:20251102T010000
TZOFFSETFROM:-0700
TZOFFSETTO:-0800
RRULE:FREQ=YEARLY;BYDAY=1SU;BYMONTH=11
TZNAME:PST
END:STANDARD
END:VTIMEZONE
BEGIN:VEVENT
DTSTAMP:20251125T014906Z
UID:F8088484-C723-4649-9305-22013C3E2B58
DTSTART;TZID=America/Los_Angeles:20251116T100000
DTEND;TZID=America/Los_Angeles:20251116T120000
DESCRIPTION:A breakfast with club members to enjoy pancakes together and ta
 lk with each other\, professors\, and local alumni.\n\nCollege Place\, Was
 hington\, United States\, 99324
LOCATION:College Place\, Washington\, United States\, 99324
ORGANIZER:kolby.kriegelstein@wallawalla.edu
SEQUENCE:5
SUMMARY:Pancake Breackfast
URL;VALUE=URI:https://events.vtools.ieee.org/m/509772
X-ALT-DESC:Description: &lt;br /&gt;&lt;p&gt;A breakfast with club members to enjoy pan
 cakes together and talk with each other\, professors\, and local alumni.&amp;n
 bsp\;&lt;/p&gt;
END:VEVENT
END:VCALENDAR

