BEGIN:VCALENDAR
VERSION:2.0
PRODID:IEEE vTools.Events//EN
CALSCALE:GREGORIAN
BEGIN:VTIMEZONE
TZID:America/Los_Angeles
BEGIN:DAYLIGHT
DTSTART:20250309T030000
TZOFFSETFROM:-0800
TZOFFSETTO:-0700
RRULE:FREQ=YEARLY;BYDAY=2SU;BYMONTH=3
TZNAME:PDT
END:DAYLIGHT
BEGIN:STANDARD
DTSTART:20251102T010000
TZOFFSETFROM:-0700
TZOFFSETTO:-0800
RRULE:FREQ=YEARLY;BYDAY=1SU;BYMONTH=11
TZNAME:PST
END:STANDARD
END:VTIMEZONE
BEGIN:VEVENT
DTSTAMP:20260101T003631Z
UID:2BB29D6C-D58E-4928-8CB6-D087D89E46D5
DTSTART;TZID=America/Los_Angeles:20251030T080000
DTEND;TZID=America/Los_Angeles:20251030T170000
DESCRIPTION:We&#39;re thrilled to announce our partnership at the #Seattle/Bell
 evue @Official Cybersecurity Summit on October 30!\n\nJoin us for a full d
 ay of cutting-edge cybersecurity insights\, earn valuable CPE credits\, co
 nnect with top decision-makers\, and enjoy breakfast\, lunch\, and cocktai
 ls. Stop by the IEEE Seattle booth to explore cutting-edge tech\, connect 
 with local experts\, and unlock exclusive member benefits.\n\nhttps://cybe
 rsecuritysummit.com/summit/seattle25-oct/\n\nPlease register before Octobe
 r 27 12pm\n\nHyatt regency Bellevue 900 Bellevue Way NE\, bellevue \, Wash
 ington\, United States\, 98004
LOCATION:Hyatt regency Bellevue 900 Bellevue Way NE\, bellevue \, Washingto
 n\, United States\, 98004
ORGANIZER:swen@ieee.org
SEQUENCE:71
SUMMARY:Please join the Official Cybersecurity Summit at Hyatt Bellevue on 
 Oct 30 register by October 27 12pm 
URL;VALUE=URI:https://events.vtools.ieee.org/m/509784
X-ALT-DESC:Description: &lt;br /&gt;&lt;p class=&quot;MsoNormal&quot;&gt;&amp;nbsp\;&lt;/p&gt;\n&lt;p class=&quot;M
 soNormal&quot;&gt;&lt;span style=&quot;font-size: 14pt\;&quot;&gt;We&#39;re thrilled to announce our p
 artnership at the &lt;strong&gt;#Seattle/Bellevue @Official Cybersecurity Summit
 &lt;/strong&gt; on &lt;strong&gt;October 30&lt;/strong&gt;! &lt;/span&gt;&lt;/p&gt;\n&lt;p class=&quot;MsoNormal
 &quot;&gt;&lt;span style=&quot;font-size: 14pt\;&quot;&gt;Join us for a full day of cutting-edge c
 ybersecurity insights\, earn valuable CPE credits\, connect with top decis
 ion-makers\, and enjoy breakfast\, lunch\, and cocktails. Stop by the IEEE
  Seattle booth to explore cutting-edge tech\, connect with local experts\,
  and unlock exclusive member benefits.&lt;/span&gt;&lt;/p&gt;\n&lt;p class=&quot;MsoNormal&quot;&gt;&amp;n
 bsp\;&lt;/p&gt;\n&lt;p class=&quot;MsoNormal&quot;&gt;&amp;nbsp\;&lt;/p&gt;\n&lt;p class=&quot;MsoNormal&quot;&gt;&lt;img src
 =&quot;https://events.vtools.ieee.org/vtools_ui/media/display/5783f1eb-32f1-48f
 3-90a5-63db29eca4a2&quot;&gt;&lt;/p&gt;\n&lt;p class=&quot;MsoNormal&quot;&gt;&amp;nbsp\;&lt;/p&gt;\n&lt;p class=&quot;Mso
 Normal&quot;&gt;&amp;nbsp\;&lt;a title=&quot;Cybersecurity Summit&quot; href=&quot;https://cybersecurity
 summit.com/summit/seattle25-oct/&quot;&gt;https://cybersecuritysummit.com/summit/s
 eattle25-oct/&lt;/a&gt;&lt;/p&gt;\n&lt;p class=&quot;MsoNormal&quot;&gt;Please register before&amp;nbsp\; 
 October 27&amp;nbsp\; 12pm&amp;nbsp\;&lt;/p&gt;\n&lt;p class=&quot;MsoNormal&quot;&gt;&amp;nbsp\;&lt;/p&gt;
END:VEVENT
END:VCALENDAR

