BEGIN:VCALENDAR
VERSION:2.0
PRODID:IEEE vTools.Events//EN
CALSCALE:GREGORIAN
BEGIN:VTIMEZONE
TZID:Europe/Berlin
BEGIN:DAYLIGHT
DTSTART:20260329T030000
TZOFFSETFROM:+0100
TZOFFSETTO:+0200
RRULE:FREQ=YEARLY;BYDAY=-1SU;BYMONTH=3
TZNAME:CEST
END:DAYLIGHT
BEGIN:STANDARD
DTSTART:20251026T020000
TZOFFSETFROM:+0200
TZOFFSETTO:+0100
RRULE:FREQ=YEARLY;BYDAY=-1SU;BYMONTH=10
TZNAME:CET
END:STANDARD
END:VTIMEZONE
BEGIN:VEVENT
DTSTAMP:20251123T162207Z
UID:8C77C640-C755-4168-BA54-B0DA70A477A4
DTSTART;TZID=Europe/Berlin:20251120T170000
DTEND;TZID=Europe/Berlin:20251120T180000
DESCRIPTION:Electronic components are getting increasingly integrated into 
 mission-critical applications and are exposed to harsh environmental condi
 tions (e.g.\, elevated temperatures). New methods of reliability estimatio
 n focus on product-specific condition monitoring and component health asse
 ssment. Prognostics and Health Management (PHM) using the Digital Twin-bas
 ed framework is a promising way to achieve this. This webinar delves into 
 several aspects of a Digital Twin and showcases a systematic procedure to 
 prepare a continuously updated Digital Twin ‘Instance’ with a six-para
 meter material model reflecting thermo-oxidative ageing of Epoxy Moulding 
 Compounds (EMC) and its effects on the thermomechanical behaviour of an el
 ectronic package.\n\nSpeaker(s): Adwait\, \n\nAgenda: \n05:00 PM Introduct
 ion - A. Prisacaru\n\n05:05 PM Digital Twin Technology for Microelectronic
 s Reliability - Dr. Adwait Inamdar\n\n05:45 Q&amp;A\n\nVirtual: https://events
 .vtools.ieee.org/m/509932
LOCATION:Virtual: https://events.vtools.ieee.org/m/509932
ORGANIZER:alexandru.prisacaru@ieee.org
SEQUENCE:25
SUMMARY:Digital Twin Technology for Microelectronics Reliability
URL;VALUE=URI:https://events.vtools.ieee.org/m/509932
X-ALT-DESC:Description: &lt;br /&gt;&lt;p&gt;&lt;span style=&quot;font-size: 10.0pt\; font-fami
 ly: &#39;Arial&#39;\,sans-serif\; mso-fareast-font-family: Calibri\; mso-fareast-t
 heme-font: minor-latin\; mso-font-kerning: 0pt\; mso-ligatures: none\; mso
 -ansi-language: EN-US\; mso-fareast-language: EN-US\; mso-bidi-language: A
 R-SA\;&quot;&gt;Electronic components are getting increasingly integrated into mis
 sion-critical applications and are exposed to harsh environmental conditio
 ns (e.g.\, elevated temperatures). New methods of reliability estimation f
 ocus on product-specific condition monitoring and component health assessm
 ent. Prognostics and Health Management (PHM) using the Digital Twin-based 
 framework is a promising way to achieve this. This webinar delves into sev
 eral aspects of a Digital Twin and showcases a systematic procedure to pre
 pare a continuously updated Digital Twin &amp;lsquo\;Instance&amp;rsquo\; with a s
 ix-parameter material model reflecting thermo-oxidative ageing of Epoxy Mo
 ulding Compounds (EMC) and its effects on the thermomechanical behaviour o
 f an electronic package.&lt;/span&gt;&lt;/p&gt;&lt;br /&gt;&lt;br /&gt;Agenda: &lt;br /&gt;&lt;p&gt;05:00 PM I
 ntroduction - A. Prisacaru&lt;/p&gt;\n&lt;p&gt;05:05 PM &lt;span style=&quot;font-size: 10.0pt
 \; font-family: &#39;Arial&#39;\,sans-serif\; mso-fareast-font-family: Calibri\; m
 so-fareast-theme-font: minor-latin\; mso-font-kerning: 0pt\; mso-ligatures
 : none\; mso-ansi-language: EN-US\; mso-fareast-language: EN-US\; mso-bidi
 -language: AR-SA\;&quot;&gt;Digital Twin Technology for Microelectronics Reliabili
 ty - Dr. Adwait Inamdar&lt;/span&gt;&lt;/p&gt;\n&lt;p&gt;&lt;span style=&quot;font-size: 10.0pt\; fo
 nt-family: &#39;Arial&#39;\,sans-serif\; mso-fareast-font-family: Calibri\; mso-fa
 reast-theme-font: minor-latin\; mso-font-kerning: 0pt\; mso-ligatures: non
 e\; mso-ansi-language: EN-US\; mso-fareast-language: EN-US\; mso-bidi-lang
 uage: AR-SA\;&quot;&gt;05:45 Q&amp;amp\;A&lt;/span&gt;&lt;/p&gt;
END:VEVENT
END:VCALENDAR

