BEGIN:VCALENDAR
VERSION:2.0
PRODID:IEEE vTools.Events//EN
CALSCALE:GREGORIAN
BEGIN:VTIMEZONE
TZID:America/Bogota
BEGIN:DAYLIGHT
DTSTART:20380118T221407
TZOFFSETFROM:-0500
TZOFFSETTO:-0500
RRULE:FREQ=YEARLY;BYDAY=3MO;BYMONTH=1
TZNAME:-05
END:DAYLIGHT
BEGIN:STANDARD
DTSTART:19930206T230000
TZOFFSETFROM:-0400
TZOFFSETTO:-0500
RRULE:FREQ=YEARLY;BYDAY=1SA;BYMONTH=2
TZNAME:-05
END:STANDARD
END:VTIMEZONE
BEGIN:VEVENT
DTSTAMP:20251125T214226Z
UID:CD12E8CE-BA1A-4FF2-8A8A-40E1823635BC
DTSTART;TZID=America/Bogota:20251031T140000
DTEND;TZID=America/Bogota:20251031T153000
DESCRIPTION:Esta clase aborda los fundamentos teóricos y prácticos de la 
 evaluación multicriterio (EMC) y el análisis multimétodo (AMM) como her
 ramientas clave para la toma de decisiones en el ámbito energético. A tr
 avés de estudios de caso aplicados al contexto colombiano\, los estudiant
 es aprenderán a comparar alternativas de energías renovables —como la 
 solar\, eólica\, hidroeléctrica y biomasa— considerando criterios téc
 nicos\, económicos\, ambientales y sociales.\n\nSe explorarán metodolog
 ías como AHP (Analytic Hierarchy Process)\, TOPSIS\, PROMETHEE y enfoques
  híbridos que integran inteligencia artificial y modelado estadístico. A
 demás\, se discutirá cómo estos métodos contribuyen a optimizar la tra
 nsición energética en Colombia\, promoviendo un sistema más sostenible\
 , equitativo y resiliente frente a los desafíos climáticos y de desarrol
 lo territorial.\n\nCo-sponsored by: Universidad de Sucre\n\nSpeaker(s): Ch
 ristian Moreno \n\nRoom: Laboratorio de electronica  y control\, Bldg: UNI
 VERCIDAD DE SUCRE \, Sincelejo\, Sucre\, Colombia\, 700001
LOCATION:Room: Laboratorio de electronica  y control\, Bldg: UNIVERCIDAD DE
  SUCRE \, Sincelejo\, Sucre\, Colombia\, 700001
ORGANIZER:esteban_r.m@ieee.org
SEQUENCE:26
SUMMARY:IEEE TTT - IEEE MENTORING MEET Evaluación Multicriterio y Análisi
 s Multimétodo para la Selección de Energías Renovables y la Optimizaci
 ón de la Transición Energética en Colombia
URL;VALUE=URI:https://events.vtools.ieee.org/m/510056
X-ALT-DESC:Description: &lt;br /&gt;&lt;p data-start=&quot;287&quot; data-end=&quot;756&quot;&gt;Esta clase
  aborda los fundamentos te&amp;oacute\;ricos y pr&amp;aacute\;cticos de la &lt;strong
  data-start=&quot;348&quot; data-end=&quot;382&quot;&gt;evaluaci&amp;oacute\;n multicriterio (EMC)&lt;/s
 trong&gt; y el &lt;strong data-start=&quot;388&quot; data-end=&quot;418&quot;&gt;an&amp;aacute\;lisis multi
 m&amp;eacute\;todo (AMM)&lt;/strong&gt; como herramientas clave para la toma de deci
 siones en el &amp;aacute\;mbito energ&amp;eacute\;tico. A trav&amp;eacute\;s de estudi
 os de caso aplicados al contexto colombiano\, los estudiantes aprender&amp;aac
 ute\;n a &lt;strong data-start=&quot;587&quot; data-end=&quot;635&quot;&gt;comparar alternativas de 
 energ&amp;iacute\;as renovables&lt;/strong&gt; &amp;mdash\;como la solar\, e&amp;oacute\;lic
 a\, hidroel&amp;eacute\;ctrica y biomasa&amp;mdash\; considerando criterios t&amp;eacu
 te\;cnicos\, econ&amp;oacute\;micos\, ambientales y sociales.&lt;/p&gt;\n&lt;p data-sta
 rt=&quot;758&quot; data-end=&quot;1165&quot;&gt;Se explorar&amp;aacute\;n metodolog&amp;iacute\;as como &lt;
 strong data-start=&quot;790&quot; data-end=&quot;826&quot;&gt;AHP (Analytic Hierarchy Process)&lt;/s
 trong&gt;\, &lt;strong data-start=&quot;828&quot; data-end=&quot;838&quot;&gt;TOPSIS&lt;/strong&gt;\, &lt;strong
  data-start=&quot;840&quot; data-end=&quot;853&quot;&gt;PROMETHEE&lt;/strong&gt; y enfoques h&amp;iacute\;b
 ridos que integran inteligencia artificial y modelado estad&amp;iacute\;stico.
  Adem&amp;aacute\;s\, se discutir&amp;aacute\; c&amp;oacute\;mo estos m&amp;eacute\;todos 
 contribuyen a &lt;strong data-start=&quot;989&quot; data-end=&quot;1039&quot;&gt;optimizar la transi
 ci&amp;oacute\;n energ&amp;eacute\;tica en Colombia&lt;/strong&gt;\, promoviendo un sist
 ema m&amp;aacute\;s sostenible\, equitativo y resiliente frente a los desaf&amp;ia
 cute\;os clim&amp;aacute\;ticos y de desarrollo territorial.&lt;/p&gt;
END:VEVENT
END:VCALENDAR

