BEGIN:VCALENDAR
VERSION:2.0
PRODID:IEEE vTools.Events//EN
CALSCALE:GREGORIAN
BEGIN:VTIMEZONE
TZID:America/Denver
BEGIN:DAYLIGHT
DTSTART:20260308T030000
TZOFFSETFROM:-0700
TZOFFSETTO:-0600
RRULE:FREQ=YEARLY;BYDAY=2SU;BYMONTH=3
TZNAME:MDT
END:DAYLIGHT
BEGIN:STANDARD
DTSTART:20251102T010000
TZOFFSETFROM:-0600
TZOFFSETTO:-0700
RRULE:FREQ=YEARLY;BYDAY=1SU;BYMONTH=11
TZNAME:MST
END:STANDARD
END:VTIMEZONE
BEGIN:VEVENT
DTSTAMP:20251210T023943Z
UID:40EB5BE5-B901-443E-A122-CFF3E7DDD1B7
DTSTART;TZID=America/Denver:20251106T160000
DTEND;TZID=America/Denver:20251106T180000
DESCRIPTION:Join us for a social event at the View House (South Denver). A 
 joint social event with AOC Mile High Country Crows!!!!\n\nFood will be pr
 ovided!\nMenu: https://www.viewhouse.com/menu-centennial\n\nCo-sponsored b
 y: Viewhouse Social - An IEEE and AOC event!!!\n\nBldg: ViewHouse\, 7101 S
  Clinton St\, Centennial\, Colorado\, United States\, 80120
LOCATION:Bldg: ViewHouse\, 7101 S Clinton St\, Centennial\, Colorado\, Unit
 ed States\, 80120
ORGANIZER:dcareymtn@gmail.com
SEQUENCE:17
SUMMARY:ViewHouse Social - An AOC and IEEE Event
URL;VALUE=URI:https://events.vtools.ieee.org/m/510311
X-ALT-DESC:Description: &lt;br /&gt;&lt;p&gt;Join us for a social event at the View Hou
 se (South Denver).&amp;nbsp\; A joint social event with AOC Mile High Country 
 Crows!!!!&lt;/p&gt;\n&lt;p&gt;Food will be provided! &amp;nbsp\;&lt;/p&gt;\n&lt;div dir=&quot;auto&quot; styl
 e=&quot;font-size: 12pt\; font-family: Aptos\,Aptos_MSFontService\,-apple-syste
 m\,Roboto\,Arial\,Helvetica\,sans-serif\;&quot;&gt;Menu: &lt;a href=&quot;https://www.view
 house.com/menu-centennial&quot;&gt;https://www.viewhouse.com/menu-centennial&lt;/a&gt;&lt;/
 div&gt;\n&lt;p&gt;&amp;nbsp\;&lt;/p&gt;
END:VEVENT
END:VCALENDAR

