BEGIN:VCALENDAR
VERSION:2.0
PRODID:IEEE vTools.Events//EN
CALSCALE:GREGORIAN
BEGIN:VTIMEZONE
TZID:America/Chicago
BEGIN:DAYLIGHT
DTSTART:20250309T030000
TZOFFSETFROM:-0600
TZOFFSETTO:-0500
RRULE:FREQ=YEARLY;BYDAY=2SU;BYMONTH=3
TZNAME:CDT
END:DAYLIGHT
BEGIN:STANDARD
DTSTART:20251102T010000
TZOFFSETFROM:-0500
TZOFFSETTO:-0600
RRULE:FREQ=YEARLY;BYDAY=1SU;BYMONTH=11
TZNAME:CST
END:STANDARD
END:VTIMEZONE
BEGIN:VEVENT
DTSTAMP:20251028T010716Z
UID:25A361D0-1BDB-453B-AED6-7CC9FDDF7C14
DTSTART;TZID=America/Chicago:20251027T183000
DTEND;TZID=America/Chicago:20251027T200000
DESCRIPTION:Planning for upcoming R5 WIE initiatives.\n\nVirtual: https://e
 vents.vtools.ieee.org/m/510544
LOCATION:Virtual: https://events.vtools.ieee.org/m/510544
ORGANIZER:mpatrick@ieee.org
SEQUENCE:6
SUMMARY:R5 WIE Committee Planning meeting
URL;VALUE=URI:https://events.vtools.ieee.org/m/510544
X-ALT-DESC:Description: &lt;br /&gt;&lt;p&gt;Planning for upcoming R5 WIE&amp;nbsp\;initiat
 ives.&amp;nbsp\;&lt;/p&gt;\n&lt;div&gt;&amp;nbsp\;&lt;/div&gt;\n&lt;div class=&quot;GRl5yb a8pxAe&quot;&gt;\n&lt;div&gt;\n
 &lt;div class=&quot;wPNfjb&quot; data-sd-cp=&quot;wPNfjb&quot;&gt;\n&lt;div id=&quot;JTPWx&quot; role=&quot;tablist&quot; d
 ata-hveid=&quot;CB4QAA&quot;&gt;&lt;/div&gt;\n&lt;/div&gt;\n&lt;/div&gt;\n&lt;/div&gt;
END:VEVENT
END:VCALENDAR

