BEGIN:VCALENDAR
VERSION:2.0
PRODID:IEEE vTools.Events//EN
CALSCALE:GREGORIAN
BEGIN:VTIMEZONE
TZID:America/Guatemala
BEGIN:STANDARD
DTSTART:20060930T230000
TZOFFSETFROM:-0500
TZOFFSETTO:-0600
TZNAME:CST
END:STANDARD
END:VTIMEZONE
BEGIN:VEVENT
DTSTAMP:20251108T224831Z
UID:9FFD6999-D5FD-41D3-8246-051EC01D52C8
DTSTART;TZID=America/Guatemala:20251023T070000
DTEND;TZID=America/Guatemala:20251024T170000
DESCRIPTION:Bajo el lema:\n✨ “Tendencias actuales de la Ingeniería Bio
 médica para la transformación en el cuidado de la salud” 🏥\n\n📍 
 Universidad Don Bosco\n🗓 23 y 24 de octubre de 2025\n\nUn espacio para 
 quienes buscan innovar y aportar soluciones al sector salud\; con tecnolog
 ía\, ciencia y bienestar. 🤝🌎\n\n🔬 Este evento reunirá a profesi
 onales\, empresas y estudiantes que están transformando la manera en que 
 vivimos la salud.\n\n🗒 Descubre la agenda completa:\nhttps://www.instag
 ram.com/p/DPPCSFYkW-t/?utm_source=ig_web_copy_link&amp;igsh=MzRlODBiNWFlZA==\n
 \n¡Te esperamos! 💙⚙\n\nSpeaker(s): \, \, Cristina \, Carlos \, Rafae
 l \, Matías \, Josué \, Deysi\, Ivania \, Enrique \, Ester\, Manuel \, O
 tto\, Carmen \n\nCalle Plan Del Pino\, Soyapango\, San Salvador\, El Salva
 dor\, 1874
LOCATION:Calle Plan Del Pino\, Soyapango\, San Salvador\, El Salvador\, 187
 4
ORGANIZER:embs.ieee@udb.edu.sv
SEQUENCE:37
SUMMARY:Congreso Nacional de Ingeniería Biomédica (CNIB) 2025
URL;VALUE=URI:https://events.vtools.ieee.org/m/510840
X-ALT-DESC:Description: &lt;br /&gt;&lt;p&gt;Bajo el lema:&lt;br&gt;✨ &amp;ldquo\;Tendencias ac
 tuales de la Ingenier&amp;iacute\;a Biom&amp;eacute\;dica para la transformaci&amp;oac
 ute\;n en el cuidado de la salud&amp;rdquo\; 🏥&lt;/p&gt;\n&lt;p&gt;📍 Universidad Don
  Bosco&lt;br&gt;🗓 23 y 24 de octubre de 2025&lt;/p&gt;\n&lt;p&gt;Un espacio para quienes 
 buscan innovar y aportar soluciones al sector salud\; con tecnolog&amp;iacute\
 ;a\, ciencia y bienestar. 🤝🌎&lt;/p&gt;\n&lt;p&gt;🔬 Este evento reunir&amp;aacute\
 ; a profesionales\, empresas y estudiantes que est&amp;aacute\;n transformando
  la manera en que vivimos la salud.&lt;/p&gt;\n&lt;p&gt;🗒 Descubre la agenda comple
 ta:&lt;br&gt;https://www.instagram.com/p/DPPCSFYkW-t/?utm_source=ig_web_copy_lin
 k&amp;amp\;igsh=MzRlODBiNWFlZA==&lt;/p&gt;\n&lt;p&gt;&amp;iexcl\;Te esperamos! 💙⚙&lt;/p&gt;\n&lt;p
 &gt;&amp;nbsp\;&lt;/p&gt;\n&lt;p&gt;&lt;img src=&quot;https://events.vtools.ieee.org/vtools_ui/media/
 display/fe63881a-e562-4279-8fc6-bc4d186a86f4&quot;&gt;&lt;/p&gt;\n&lt;p&gt;&lt;img src=&quot;https://e
 vents.vtools.ieee.org/vtools_ui/media/display/b7a3d876-8ab9-4358-af3c-17f8
 b24b7f12&quot;&gt;&lt;/p&gt;
END:VEVENT
END:VCALENDAR

