BEGIN:VCALENDAR
VERSION:2.0
PRODID:IEEE vTools.Events//EN
CALSCALE:GREGORIAN
BEGIN:VTIMEZONE
TZID:Pacific/Honolulu
BEGIN:STANDARD
DTSTART:19470608T023000
TZOFFSETFROM:-1130
TZOFFSETTO:-1000
TZNAME:HST
END:STANDARD
END:VTIMEZONE
BEGIN:VEVENT
DTSTAMP:20251212T022102Z
UID:F940F04D-8BBD-4644-B7B5-135BCC6FE7BB
DTSTART;TZID=Pacific/Honolulu:20251210T183000
DTEND;TZID=Pacific/Honolulu:20251210T200000
DESCRIPTION:Ever have a frustrating or even bizarre conversation online? He
 lpdesk\, chatbot\, scammer - any of these can make you feel uncomfortable.
  Not knowing whether something is human or not can be uncanny. This is int
 eraction\, or discourse\, that structures power and control. We create a n
 ew concept\, Uncanny Discourse\, that frames computer and human interactio
 n\, informed by the reality-bending nature of AI.\n\nLearn how to face the
  challenging space of designing interactive systems in the age of AI by gr
 appling with Uncanny Discourse. Mitigate it or lean in and run with it. Bu
 t know that it is out there\, weird and waiting.\n\nCo-sponsored by: Mante
 ch\n\nSpeaker(s): David Conner\, \n\nRoom: Suite 103\, Bldg: SALT at Our K
 aka&#39;ako\, 680 Ala Moana Blvd\, #609\, Honolulu\, Hawaii\, United States\, 
 96822
LOCATION:Room: Suite 103\, Bldg: SALT at Our Kaka&#39;ako\, 680 Ala Moana Blvd\
 , #609\, Honolulu\, Hawaii\, United States\, 96822
ORGANIZER:eugene.chang@ieee.org
SEQUENCE:138
SUMMARY:Uncanny Discourse: A new perspective of reality-bending AI&#39;s impact
  on computer-human interaction
URL;VALUE=URI:https://events.vtools.ieee.org/m/511582
X-ALT-DESC:Description: &lt;br /&gt;&lt;p class=&quot;docData\;DOCY\;v5\;3822\;BQiAAgAAEY
 QCAAAGiAIAAANVDgAABWMOAAAAAAAAAAAAAAAAAAAAAAAAAAAAAAAAAAAAAAAAAAAAAAAAAAAA
 AAAAAAAAAAAAAAAAAAAAAAAAAAAAAAAAAAAAAAAAAAAAAAAAAAAAAAAAAAAAAAAAAAAAAAAAAA
 AAAAAAAAAAAAAAAAAAAAAAAAAAAAAAAAAAAAAAAAAAAAAAAAAAAAAAAAAAAAAAAAAAAAAAAAAA
 AAAAAAAAAAAAAAAAAAAAAAAAAAAAAAAAAAAAAAAAAAAAAAAAAAAAAAAAAAAAAAAAAAAAAAAAAA
 AAAAAAAAAAAAAAAAAAAAAAAAAAAAAAAAAAAAAAAAAAAAAAAAAAAAAAAAAAAAAAAAAAAAAAAAAA
 AAAAAAAAAAAAAAAAAAAAAAAAAAAAAAAAAAAAAAAAAAAAAAAAAAAAAAAAAAAAAAAAAAAAAAAAAA
 AAAAAAAAAAAAAAAAAAAAAAAAAAAAAAAAAAAAAAAAAAAAAAAAAAAAAAAAAAAAAAAAAAAAAAAAAA
 AAAAAAAAAAAAAAAAAAAAAAAAAAAAAAAAAAAAAAAAAAAAAAAAAAAAAAAAAAAAAAAAAAAAAAAAAA
 AAAAAAAAAAAAAAAAAAAAAAAAAAAAAAAAAAAAAAAAAAAAAAAAAAAAAAAAAAAAAAAAAAAAAAAAAA
 AAAAAAAAAAAAAAAAAAAAAAAAAAAAAAAAAAAAAAAAAAAAAAAAAAAAAAAAAAAAAAAAAAAAAAAAAA
 AAAAAAAAAAAAAAAAAAAAAAAAAAAAAAAAAAAAAAAAAAAAAAAAAAAAAAAAAAAAAAAAAAAAAAAAAA
 AAAAAAAAAAAAAAAAAAAAAAAAAAAAAAAAAAAAAAAAyQsAAACwBAAAAewAAAABBhIAAAAkBAAAAA
 AlBAAAAAAmBAAAAAAJBgAAAAAaBkYAAAAEBgoAAABUAGkAbQBlAHMABQYKAAAAVABpAG0AZQBz
 AAcGCgAAAFQAaQBtAGUAcwAGBgoAAABUAGkAbQBlAHMACAQVAAAAGwZ8AAAAABoAAAAAAwAAAA
 UEAAAAAAYEBAAAAAMB/wcE/////wEaAAAAAAMAAAAFBAAAAAAGBAQAAAADAf8HBP////8CGgAA
 AAADAAAABQQAAAAABgQEAAAAAwH/BwT/////AxoAAAAAAwAAAAUEAAAAAAYEBAAAAAMB/wcE//
 ///wK6AwAABVoCAAABSwAAAAQGCgAAAFQAaQBtAGUAcwAFBgoAAABUAGkAbQBlAHMABwYKAAAA
 VABpAG0AZQBzAAYGCgAAAFQAaQBtAGUAcwAIBBUAAAAJAwAAAAgFAgAAAAACAABFAHYAZQByAC
 AAaABhAHYAZQAgAGEAIABmAHIAdQBzAHQAcgBhAHQAaQBuAGcAIABvAHIAIABlAHYAZQBuACAA
 YgBpAHoAYQByAHIAZQAgAGMAbwBuAHYAZQByAHMAYQB0AGkAbwBuACAAbwBuAGwAaQBuAGUAPw
 AgAEgAZQBsAHAAZABlAHMAawAsACAAYwBoAGEAdABiAG8AdAAsACAAcwBjAGEAbQBtAGUAcgAg
 AC0AIABhAG4AeQAgAG8AZgAgAHQAaABlAHMAZQAgAGMAYQBuACAAbQBhAGsAZQAgAHkAbwB1AC
 AAZgBlAGUAbAAgAHUAbgBjAG8AbQBmAG8AcgB0AGEAYgBsAGUALgAgAKAAQQByAGUAIAB0AGgA
 ZQB5ACAAcgBlAGEAbAAgAG8AcgAgAG4AbwB0AD8AIABOAG8AdAAgAGsAbgBvAHcAaQBuAGcAIA
 B3AGgAZQB0AGgAZQByACAAcwBvAG0AZQB0AGgAaQBuAGcAIABpAHMAIABoAHUAbQBhAG4AIABv
 AHIAIABuAG8AdAAgAGMAYQBuACAAYgBlACAAdQBuAGMAYQBuAG4AeQAuACAAoABCAHUAdAAgAH
 QAaABpAHMAIABpAHMAIABpAG4AdABlAHIAYQBjAHQAaQBvAG4ALAAgAG8AcgAgAGQAaQBzAGMA
 bwB1AAWsAAAAAUsAAAAEBgoAAABUAGkAbQBlAHMABQYKAAAAVABpAG0AZQBzAAcGCgAAAFQAaQ
 BtAGUAcwAGBgoAAABUAGkAbQBlAHMACAQVAAAACQMAAAAIVwAAAABSAAAAcgBzAGUALAAgAGEA
 bgBkACAAaQB0ACAAcwB0AHIAdQBjAHQAdQByAGUAcwAgAHAAbwB3AGUAcgAgAGEAbgBkACAAYw
 BvAG4AdAByAG8AbAAuAAVQAAAAAUYAAAAEBgoAAABUAGkAbQBlAHMABQYKAAAAVABpAG0AZQBz
 AAcGCgAAAFQAaQBtAGUAcwAGBgoAAABUAGkAbQBlAHMACAQVAAAACAAAAAAFUAAAAAFGAAAABA
 YKAAAAVABpAG0AZQBzAAUGCgAAAFQAaQBtAGUAcwAHBgoAAABUAGkAbQBlAHMABgYKAAAAVABp
 AG0AZQBzAAgEFQAAAAgAAAAAAFcDAAAB7AAAAAEGEgAAACQEAAAAACUEAAAAACYEAAAAAAkGAA
 AAABoGRgAAAAQGCgAAAFQAaQBtAGUAcwAFBgoAAABUAGkAbQBlAHMABwYKAAAAVABpAG0AZQBz
 AAYGCgAAAFQAaQBtAGUAcwAIBBUAAAAbBnwAAAAAGgAAAAADAAAABQQAAAAABgQEAAAAAwH/Bw
 T/////ARoAAAAAAwAAAAUEAAAAAAYEBAAAAAMB/wcE/////wIaAAAAAAMAAAAFBAAAAAAGBAQA
 AAADAf8HBP////8DGgAAAAADAAAABQQAAAAABgQEAAAAAwH/BwT/////AmECAAAFsgEAAAFLAA
 AABAYKAAAAVABpAG0AZQBzAAUGCgAAAFQAaQBtAGUAcwAHBgoAAABUAGkAbQBlAHMABgYKAAAA
 VABpAG0AZQBzAAgEFQAAAAkDAAAACF0BAAAAWAEAAEIAcgBpAG4AZwAgAHQAbwBnAGUAdABoAG
 UAcgAgAEYAcgBlAHUAZAAsACAARgBvAHUAYwBhAHUAbAB0ACwAIABhAG4AZAAgAHQAaABlACAA
 ZgByAGUAYQBrAHkAIAB0AG8AIABnAGUAdAAgAFUAbgBjAGEAbgBuAHkAIABEAGkAcwBjAG8AdQ
 ByAHMAZQAsACAAYQAgAG4AZQB3ACAAYwBvAG4AYwBlAHAAdAAgAGYAcgBhAG0AaQBuAGcAIABj
 AG8AbQBwAHUAdABlAHIAIABhAG4AZAAgAGgAdQBtAGEAbgAgAGkAbgB0AGUAcgBhAGMAdABpAG
 8AbgAsACAAaQBuAGYAbwByAG0AZQBkACAAYgB5ACAAdABoAGUAIAByAGUAYQBsAGkAdAB5AC0A
 YgBlAG4AZABpAG4AZwAgAG4AYQB0AHUAcgBlACAAbwBmACAAQQBJAC4ABVAAAAABRgAAAAQGCg
 AAAFQAaQBtAGUAcwAFBgoAAABUAGkAbQBlAHMABwYKAAAAVABpAG0AZQBzAAYGCgAAAFQAaQBt
 AGUAcwAIBBUAAAAIAAAAAAVQAAAAAUYAAAAEBgoAAABUAGkAbQBlAHMABQYKAAAAVABpAG0AZQ
 BzAAcGCgAAAFQAaQBtAGUAcwAGBgoAAABUAGkAbQBlAHMACAQVAAAACAAAAAAAswMAAAHsAAAA
 AQYSAAAAJAQAAAAAJQQAAAAAJgQAAAAACQYAAAAAGgZGAAAABAYKAAAAVABpAG0AZQBzAAUGCg
 AAAFQAaQBtAGUAcwAHBgoAAABUAGkAbQBlAHMABgYKAAAAVABpAG0AZQBzAAgEFQAAABsGfAAA
 AAAaAAAAAAMAAAAFBAAAAAAGBAQAAAADAf8HBP////8BGgAAAAADAAAABQQAAAAABgQEAAAAAw
 H/BwT/////AhoAAAAAAwAAAAUEAAAAAAYEBAAAAAMB/wcE/////wMaAAAAAAMAAAAFBAAAAAAG
 BAQAAAADAf8HBP////8CvQIAAAUOAgAAAUsAAAAEBgoAAABUAGkAbQBlAHMABQYKAAAAVABpAG
 0AZQBzAAcGCgAAAFQAaQBtAGUAcwAGBgoAAABUAGkAbQBlAHMACAQVAAAACQMAAAAIuQEAAAC0
 AQAATABlAGEAcgBuACAAaABvAHcAIAB0AG8AIABmAGEAYwBlACAAdABoAGUAIABjAGgAYQBsAG
 wAZQBuAGcAaQBuAGcAIABzAHAAYQBjAGUAIABvAGYAIABkAGUAcwBpAGcAbgBpAG4AZwAgAGkA
 bgB0AGUAcgBhAGMAdABpAHYAZQAgAHMAeQBzAHQAZQBtAHMAIABpAG4AIAB0AGgAZQAgAGEAZw
 BlACAAbwBmACAAQQBJACAAYgB5ACAAZwByAGEAcABwAGwAaQBuAGcAIAB3AGkAdABoACAAVQBu
 AGMAYQBuAG4AeQAgAEQAaQBzAGMAbwB1AHIAcwBlAC4AIACgAE0AaQB0AGkAZwBhAHQAZQAgAG
 kAdAAgAG8AcgAgAGwAZQBhAG4AIABpAG4AIABhAG4AZAAgAHIAdQBuACAAdwBpAHQAaAAgAGkA
 dAAuACAAoABCAHUAdAAgAGsAbgBvAHcAIAB0AGgAYQB0ACAAaQB0ACAAaQBzACAAbwB1AHQAIA
 B0AGgAZQByAGUALAAgAHcAZQBpAHIAZAAgAGEAbgBkACAAdwBhAGkAdABpAG4AZwAuAAVQAAAA
 AUYAAAAEBgoAAABUAGkAbQBlAHMABQYKAAAAVABpAG0AZQBzAAcGCgAAAFQAaQBtAGUAcwAGBg
 oAAABUAGkAbQBlAHMACAQVAAAACAAAAAAFUAAAAAFGAAAABAYKAAAAVABpAG0AZQBzAAUGCgAA
 AFQAaQBtAGUAcwAHBgoAAABUAGkAbQBlAHMABgYKAAAAVABpAG0AZQBzAAgEFQAAAAgAAAAACg
 AAAAAAAAAAEQAAAACHAAAAAC0AAAABBgAAAAAJBhsAAAAnBBQBAAALAQEcAQAoBAAAAAAdAQAp
 BMgAAAAbBgAAAAABSwAAACgBBykBByoBBysBBRMBAQgEFgAAABYEFgAAABkGCgAAAGUAbgAtAF
 UAUwAaBgoAAABhAHIALQBTAEEAGwYKAAAAZQBuAC0AVQBTAAIAAAAA&quot;&gt;Ever have a frustr
 ating or even bizarre conversation online? Helpdesk\, chatbot\, scammer - 
 any of these can make you feel uncomfortable.&amp;nbsp\; Not knowing whether s
 omething is human or not can be uncanny. &amp;nbsp\;This is interaction\, or d
 iscourse\, that structures power and control. We create a new concept\, Un
 canny Discourse\, that frames&amp;nbsp\;computer and human interaction\, infor
 med by the reality-bending nature of AI.&lt;/p&gt;\n&lt;p&gt;Learn how to face the cha
 llenging space of designing interactive systems in the age of AI by grappl
 ing with Uncanny Discourse. &amp;nbsp\;Mitigate it or lean in and run with it.
  &amp;nbsp\;But know that it is out there\, weird and waiting.&lt;/p&gt;
END:VEVENT
END:VCALENDAR

