BEGIN:VCALENDAR
VERSION:2.0
PRODID:IEEE vTools.Events//EN
CALSCALE:GREGORIAN
BEGIN:VTIMEZONE
TZID:Europe/Rome
BEGIN:DAYLIGHT
DTSTART:20260329T030000
TZOFFSETFROM:+0100
TZOFFSETTO:+0200
RRULE:FREQ=YEARLY;BYDAY=-1SU;BYMONTH=3
TZNAME:CEST
END:DAYLIGHT
BEGIN:STANDARD
DTSTART:20251026T020000
TZOFFSETFROM:+0200
TZOFFSETTO:+0100
RRULE:FREQ=YEARLY;BYDAY=-1SU;BYMONTH=10
TZNAME:CET
END:STANDARD
END:VTIMEZONE
BEGIN:VEVENT
DTSTAMP:20251120T184634Z
UID:A973EF68-CFAE-4392-A1AC-28DDBB8F6FC8
DTSTART;TZID=Europe/Rome:20251114T143000
DTEND;TZID=Europe/Rome:20251114T190000
DESCRIPTION:PHD BRAINSTORMING DAY 2025 is a one-day event dedicated to fost
 er collaboration\, knowledge exchange\, and networking among students. The
  day will begin with presentations from PhD candidates approaching the end
  of their PhD journey\, who will share insights and outcomes from their re
 search. This will be followed by an introduction to the opportunities and 
 initiatives offered by the newly established IEEE Student Branch of the Un
 iversity of Catania\, a student hub designed to promote interdisciplinary 
 collaboration\, skill development\, and innovation. After a coffee break\,
  the event will feature a poster session where other PhD students will pre
 sent their ongoing research\, encouraging open discussion and idea sharing
  in a dynamic academic setting.\n\nAgenda: \n14:30 - 14:45 Welcome\nOral P
 resentations (PhD Candidates from the 38th Cycle\, soon completing their P
 hD)\n14:45 - 14:55 Allegra Martina - “Exploiting Artificial Intelligence
  in Volcanic Monitoring for Distributed Acoustic Sensing Analysis and GNSS
 -Based Source Inversion”\n14:55 - 15:05 Berlotti Mariaelena - “Machine
  Learning for Urban Intelligence: Building Predictive Smart Cities”\n15:
 05 - 15:15 Bua Giuseppe - “Thermo-Mechanical Modeling of Power Electroni
 cs Packages and Experimental-Numerical Characterization of Materials under
  Static and Dynamic Loadings”\n15:15 - 15:25 Cariello Simona - “Toward
 s Quantifying Volcanic and Climate Interactions Through AI-Enhanced Modeli
 ng and Satellite Remote Sensing”\n15:25 - 15:35 Cecconello Thomas - “T
 owards Scalable Scientific Discovery: AI Paradigms for Next-Generation Rad
 io Surveys”\n15:35 - 15:45 Corso Alessandra - “Methods for the Modelli
 ng and Control of Artificial and Natural Complex Networks”\n15:45 - 15:5
 5 Curto Claudio - “AI-Driven Software Security: From Static Vulnerabilit
 y Detection to Adversarially Robust Defense”\n15:55 - 16:05 Cutuli Emanu
 ela - “Automatic Label-Free System for Cell Viability On-a-Chip”\n16:0
 5 - 16:15 Di Grande Sarah - “Machine Learning for Computational Sustaina
 bility: Predictive Models for Energy\, Urban Mobility\, and Healthcare”\
 n16:15 - 16:25 Puglisi Gabriele - “Strategies and Systems for Modelling\
 , Real-Time Control and Data Acquisition in Magnetic Confinement Fusion”
 \n16:25 - 16:35 Russo Enrico - “Design Automation and Optimization for P
 ost-Moore Computing Architectures: Hardware Accelerators and Quantum Compu
 ters”\n16:35 - 16:45 Sgroi Roberta - “Procedure for Energy Management 
 and Optimization of Renewable Energy Integration for Public Administration
 s in Small and Medium-Sized Municipalities”\n16:45 - 17:00 IEEE Student 
 Branch of University of Catania: Opportunities\n(Counselor: Prof. Maide Bu
 colo\, Chair: Emanuela Cutuli)\n17:00 - 17:30 Coffee Break\n17:30 - 18:30 
 Poster Session (All the other PhD Students from 38th\, 39th\, and 40th Cyc
 les)\nIEEE Student Branch of the University of Catania: Info Point &amp; Regis
 tration\nPHD BRAINSTORMING DAY 2025 is a one-day event dedicated to foster
  collaboration\, knowledge exchange\, and netwo\n\nCatania\, Sicilia\, Ita
 ly\, 95123
LOCATION:Catania\, Sicilia\, Italy\, 95123
ORGANIZER:maide.bucolo@unict.it
SEQUENCE:17
SUMMARY:PHD BRAINSTORMING DAY 2025
URL;VALUE=URI:https://events.vtools.ieee.org/m/511903
X-ALT-DESC:Description: &lt;br /&gt;&lt;p&gt;PHD BRAINSTORMING DAY 2025 is a one-day ev
 ent dedicated to foster collaboration\, knowledge exchange\, and networkin
 g among students. The day will begin with presentations from PhD candidate
 s approaching the end of their PhD journey\, who will share insights and o
 utcomes from their research. This will be followed by an introduction to t
 he opportunities and initiatives offered by the newly established IEEE Stu
 dent Branch of the University of Catania\, a student hub designed to promo
 te interdisciplinary collaboration\, skill development\, and innovation. A
 fter a coffee break\, the event will feature a poster session where other 
 PhD students will present their ongoing research\, encouraging open discus
 sion and idea sharing in a dynamic academic setting.&lt;/p&gt;&lt;br /&gt;&lt;br /&gt;Agenda
 : &lt;br /&gt;&lt;p&gt;14:30 - 14:45 Welcome&lt;br&gt;Oral Presentations (PhD Candidates fro
 m the 38th Cycle\, soon completing their PhD)&lt;br&gt;14:45 - 14:55 Allegra Mar
 tina - &amp;ldquo\;Exploiting Artificial Intelligence in Volcanic Monitoring f
 or Distributed Acoustic Sensing Analysis and GNSS-Based Source Inversion&amp;r
 dquo\;&lt;br&gt;14:55 - 15:05 Berlotti Mariaelena - &amp;ldquo\;Machine Learning for
  Urban Intelligence: Building Predictive Smart Cities&amp;rdquo\;&lt;br&gt;15:05 - 1
 5:15 Bua Giuseppe - &amp;ldquo\;Thermo-Mechanical Modeling of Power Electronic
 s Packages and Experimental-Numerical Characterization of Materials under 
 Static and Dynamic Loadings&amp;rdquo\;&lt;br&gt;15:15 - 15:25 Cariello Simona - &amp;ld
 quo\;Towards Quantifying Volcanic and Climate Interactions Through AI-Enha
 nced Modeling and Satellite Remote Sensing&amp;rdquo\;&lt;br&gt;15:25 - 15:35 Ceccon
 ello Thomas - &amp;ldquo\;Towards Scalable Scientific Discovery: AI Paradigms 
 for Next-Generation Radio Surveys&amp;rdquo\;&lt;br&gt;15:35 - 15:45 Corso Alessandr
 a - &amp;ldquo\;Methods for the Modelling and Control of Artificial and Natura
 l Complex Networks&amp;rdquo\;&lt;br&gt;15:45 - 15:55 Curto Claudio - &amp;ldquo\;AI-Dri
 ven Software Security: From Static Vulnerability Detection to Adversariall
 y Robust Defense&amp;rdquo\;&lt;br&gt;15:55 - 16:05 Cutuli Emanuela - &amp;ldquo\;Automa
 tic Label-Free System for Cell Viability On-a-Chip&amp;rdquo\;&lt;br&gt;16:05 - 16:1
 5 Di Grande Sarah - &amp;ldquo\;Machine Learning for Computational Sustainabil
 ity: Predictive Models for Energy\, Urban Mobility\, and Healthcare&amp;rdquo\
 ;&lt;br&gt;16:15 - 16:25 Puglisi Gabriele - &amp;ldquo\;Strategies and Systems for M
 odelling\, Real-Time Control and Data Acquisition in Magnetic Confinement 
 Fusion&amp;rdquo\;&lt;br&gt;16:25 - 16:35 Russo Enrico - &amp;ldquo\;Design Automation a
 nd Optimization for Post-Moore Computing Architectures: Hardware Accelerat
 ors and Quantum Computers&amp;rdquo\;&lt;br&gt;16:35 - 16:45 Sgroi Roberta - &amp;ldquo\
 ;Procedure for Energy Management and Optimization of Renewable Energy Inte
 gration for Public Administrations in Small and Medium-Sized Municipalitie
 s&amp;rdquo\;&lt;br&gt;16:45 - 17:00 IEEE Student Branch of University of Catania: O
 pportunities&lt;br&gt;(Counselor: Prof. Maide Bucolo\, Chair: Emanuela Cutuli)&lt;b
 r&gt;17:00 - 17:30 Coffee Break&lt;br&gt;17:30 - 18:30 Poster Session (All the othe
 r PhD Students from 38th\, 39th\, and 40th Cycles)&lt;br&gt;IEEE Student Branch 
 of the University of Catania: Info Point &amp;amp\; Registration&lt;br&gt;PHD BRAINS
 TORMING DAY 2025 is a one-day event dedicated to foster collaboration\, kn
 owledge exchange\, and netwo&lt;/p&gt;
END:VEVENT
END:VCALENDAR

