BEGIN:VCALENDAR
VERSION:2.0
PRODID:IEEE vTools.Events//EN
CALSCALE:GREGORIAN
BEGIN:VTIMEZONE
TZID:Europe/Stockholm
BEGIN:DAYLIGHT
DTSTART:20260329T030000
TZOFFSETFROM:+0100
TZOFFSETTO:+0200
RRULE:FREQ=YEARLY;BYDAY=-1SU;BYMONTH=3
TZNAME:CEST
END:DAYLIGHT
BEGIN:STANDARD
DTSTART:20251026T020000
TZOFFSETFROM:+0200
TZOFFSETTO:+0100
RRULE:FREQ=YEARLY;BYDAY=-1SU;BYMONTH=10
TZNAME:CET
END:STANDARD
END:VTIMEZONE
BEGIN:VEVENT
DTSTAMP:20251130T210929Z
UID:8C745FD2-E0B6-41F5-9212-37472556C1FB
DTSTART;TZID=Europe/Stockholm:20251120T123000
DTEND;TZID=Europe/Stockholm:20251120T133000
DESCRIPTION:This session presents Ookla’s latest research on Europe’s t
 elecoms landscape. Luke will compare market competitiveness\, track the pe
 rformance of LEO broadband and early direct-to-device adoption\, and asses
 s network AI-readiness using crowdsourced Speedtest data. He will also pro
 file the current status of 5G Standalone (SA) deployment and legacy sunset
 s\, including observed spectrum strategies for SA in leading European mark
 ets based on controlled drive/walk testing data from RootMetrics. Addition
 al insights will cover how cellular conditions affect device battery life\
 , what the recent Iberian Peninsula grid event shows about the role of pow
 er autonomy in a network resilience context and the trajectory of mobile d
 ata traffic growth in an AI context.\n\nCo-sponsored by: R80019 - Sweden S
 ection - Industry Relations\n\nSpeaker(s): \, Luke Kehoe\n\nVirtual: https
 ://events.vtools.ieee.org/m/511983
LOCATION:Virtual: https://events.vtools.ieee.org/m/511983
ORGANIZER:anand.j@ieee.org
SEQUENCE:13
SUMMARY:[Webinar] The telecom landscape in Europe | Ookla
URL;VALUE=URI:https://events.vtools.ieee.org/m/511983
X-ALT-DESC:Description: &lt;br /&gt;&lt;p&gt;&lt;em&gt;This session presents Ookla&amp;rsquo\;s l
 atest research on Europe&amp;rsquo\;s telecoms landscape. Luke will compare ma
 rket competitiveness\, track the performance of LEO broadband and early di
 rect-to-device adoption\, and assess network AI-readiness using crowdsourc
 ed Speedtest data. He will also profile the current status of 5G Standalon
 e (SA) deployment and legacy sunsets\, including observed spectrum strateg
 ies for SA in leading European markets based on controlled drive/walk test
 ing data from RootMetrics. Additional insights will cover how cellular con
 ditions affect device battery life\, what the recent Iberian Peninsula gri
 d event shows about the role of power autonomy in a network resilience con
 text and the trajectory of mobile data traffic growth in an AI context.&lt;/e
 m&gt;&lt;/p&gt;
END:VEVENT
END:VCALENDAR

