BEGIN:VCALENDAR
VERSION:2.0
PRODID:IEEE vTools.Events//EN
CALSCALE:GREGORIAN
BEGIN:VTIMEZONE
TZID:Europe/Zurich
BEGIN:DAYLIGHT
DTSTART:20260329T030000
TZOFFSETFROM:+0100
TZOFFSETTO:+0200
RRULE:FREQ=YEARLY;BYDAY=-1SU;BYMONTH=3
TZNAME:CEST
END:DAYLIGHT
BEGIN:STANDARD
DTSTART:20251026T020000
TZOFFSETFROM:+0200
TZOFFSETTO:+0100
RRULE:FREQ=YEARLY;BYDAY=-1SU;BYMONTH=10
TZNAME:CET
END:STANDARD
END:VTIMEZONE
BEGIN:VEVENT
DTSTAMP:20251115T164611Z
UID:F5435972-5EA9-49FE-9877-8569238E8582
DTSTART;TZID=Europe/Zurich:20251109T163000
DTEND;TZID=Europe/Zurich:20251109T173000
DESCRIPTION:For the IEEE members attending the IEEE Swiss Computing History
  event and the Vintage Computer Festival at ENTER\, Derendingen on Sunday 
 9 November 2025. (*)\n\nHugo Wyss\, long time active IEEE Switzerland memb
 er\, invites you for an informal exchange of views on the attractiveness o
 f becoming a member of IEEE for residents of IEEE Region 8 and particularl
 y Switzerland.\n\nWhich IEEE benefits are worth the costs of becoming and 
 staying a member\, given the actual changes\, i.e. geopolitical and of the
  business model\, e.g. AI taking over administration\, review and access t
 o published information.\n\nIs IEEE just drifting to a specialized social 
 media? Is it superseded by LinkedIn?\n\n(*)\n\n[Vintage Computer Festival 
 | Enter Technikwelt Solothurn](https://enter.ch/en/events/vintage-computer
 -festival-nov-2025-en/)\n\n[Vintage Computer Festival | Enter Technikwelt 
 Solothurn](https://enter.ch/de/events/vintage-computer-festival/) (in Germ
 an)\n\n[Vintage Computer Festival Solothurn 2025](https://vintagecomputerf
 estival.ch/en/home-en/)\n\nRoom: Academy room\, 1st floor\, Bldg: ENTER\, 
 ENTER Technikwelt\, Gewerbestrasse 4\, Derendingen\, Switzerland\, Switzer
 land\, 4552
LOCATION:Room: Academy room\, 1st floor\, Bldg: ENTER\, ENTER Technikwelt\,
  Gewerbestrasse 4\, Derendingen\, Switzerland\, Switzerland\, 4552
ORGANIZER:michel.bron@ieee.org
SEQUENCE:17
SUMMARY:IEEE Section quo vadis
URL;VALUE=URI:https://events.vtools.ieee.org/m/512169
X-ALT-DESC:Description: &lt;br /&gt;&lt;p&gt;For the IEEE members attending the IEEE Sw
 iss Computing History event and the Vintage Computer Festival at ENTER\, D
 erendingen on Sunday 9 November 2025. (*)&lt;/p&gt;\n&lt;p&gt;Hugo Wyss\, long time ac
 tive IEEE Switzerland member\, invites you for an informal exchange of vie
 ws on the attractiveness of becoming a member of IEEE for residents of IEE
 E Region 8 and particularly Switzerland.&lt;/p&gt;\n&lt;p class=&quot;MsoPlainText&quot;&gt;Whic
 h IEEE benefits are worth the costs of becoming and staying a member\, giv
 en the actual changes\, i.e. geopolitical and of the business model\, e.g.
  AI taking over administration\, review and access to published informatio
 n.&lt;/p&gt;\n&lt;p class=&quot;MsoPlainText&quot;&gt;Is IEEE just drifting to a specialized soc
 ial media? Is it superseded by LinkedIn?&lt;/p&gt;\n&lt;p class=&quot;MsoPlainText&quot;&gt;&amp;nbs
 p\;&lt;/p&gt;\n&lt;p class=&quot;MsoPlainText&quot;&gt;(*)&amp;nbsp\;&lt;/p&gt;\n&lt;p class=&quot;MsoNormal&quot;&gt;&lt;a h
 ref=&quot;https://enter.ch/en/events/vintage-computer-festival-nov-2025-en/&quot;&gt;&lt;s
 pan lang=&quot;EN-US&quot; style=&quot;mso-ansi-language: EN-US\;&quot;&gt;Vintage Computer Festi
 val | Enter Technikwelt Solothurn&lt;/span&gt;&lt;/a&gt;&lt;/p&gt;\n&lt;p class=&quot;MsoNormal&quot;&gt;&lt;a 
 href=&quot;https://enter.ch/de/events/vintage-computer-festival/&quot;&gt;&lt;span lang=&quot;E
 N-US&quot; style=&quot;mso-ansi-language: EN-US\;&quot;&gt;Vintage Computer Festival | Enter
  Technikwelt Solothurn&lt;/span&gt;&lt;/a&gt;&lt;span lang=&quot;EN-US&quot; style=&quot;mso-ansi-langua
 ge: EN-US\;&quot;&gt; (in German)&lt;/span&gt;&lt;/p&gt;\n&lt;p class=&quot;MsoNormal&quot;&gt;&lt;span lang=&quot;EN-
 US&quot; style=&quot;mso-ansi-language: EN-US\;&quot;&gt;&lt;a href=&quot;https://vintagecomputerfes
 tival.ch/en/home-en/&quot;&gt;Vintage Computer Festival Solothurn 2025&lt;/a&gt;&lt;/span&gt;&lt;
 /p&gt;
END:VEVENT
END:VCALENDAR

