BEGIN:VCALENDAR
VERSION:2.0
PRODID:IEEE vTools.Events//EN
CALSCALE:GREGORIAN
BEGIN:VTIMEZONE
TZID:Asia/Shanghai
BEGIN:STANDARD
DTSTART:19910915T010000
TZOFFSETFROM:+0900
TZOFFSETTO:+0800
TZNAME:CST
END:STANDARD
END:VTIMEZONE
BEGIN:VEVENT
DTSTAMP:20251117T062742Z
UID:9D2E4121-0B80-40E7-B0FD-DE4204D27C65
DTSTART;TZID=Asia/Shanghai:20251107T133000
DTEND;TZID=Asia/Shanghai:20251107T153000
DESCRIPTION:The IEEE SMC Guangzhou chapter 2025 academic Seminar will be he
 ld in Shenzhen on Friday\, November 7\, 2025\, from 13:30 to 15:30.\n\nOrg
 anized by the IEEE SMC Guangzhou Chapter\, this seminar primarily focuses 
 on frontier artificial intelligence directions. Serving as a key platform 
 for presenting the latest research achievements in related fields\, the ev
 ent is dedicated to establishing a high-level academic exchange platform\,
  promoting the deepening and expansion of cross-disciplinary collaboration
 \, and facilitating in-depth discussions on new development pathways and c
 ore challenges of artificial intelligence in the new era\, thereby injecti
 ng new momentum into the field.\n\nSpeaker(s): Shanshan Wang\, Daojing He\
 , Baoyuan Wu\n\nShenZhen\, Guangdong\, China
LOCATION:ShenZhen\, Guangdong\, China
ORGANIZER:cschenwn@scut.edu.cn
SEQUENCE:13
SUMMARY:IEEE SMC Guangzhou Chapter 2025 Academic Seminar
URL;VALUE=URI:https://events.vtools.ieee.org/m/512309
X-ALT-DESC:Description: &lt;br /&gt;&lt;p class=&quot;MsoNormal&quot; style=&quot;text-indent: 21.0
 pt\;&quot;&gt;&lt;span lang=&quot;EN-US&quot; style=&quot;font-size: 12.0pt\; mso-bidi-font-size: 14
 .0pt\; font-family: &#39;Times New Roman&#39;\,serif\;&quot;&gt;The IEEE SMC Guangzhou cha
 pter 2025 academic Seminar will be held in Shenzhen on Friday\, November 7
 \, 2025\, from 13:30 to 15:30.&lt;/span&gt;&lt;/p&gt;\n&lt;p class=&quot;MsoNormal&quot; style=&quot;tex
 t-indent: 21.0pt\;&quot;&gt;&lt;span lang=&quot;EN-US&quot; style=&quot;font-size: 12.0pt\; mso-bidi
 -font-size: 14.0pt\; font-family: &#39;Times New Roman&#39;\,serif\;&quot;&gt;Organized by
  the IEEE SMC Guangzhou Chapter\, this seminar primarily focuses on fronti
 er artificial intelligence directions. Serving as a key platform for prese
 nting the latest research achievements in related fields\, the event is de
 dicated to establishing a high-level academic exchange platform\, promotin
 g the deepening and expansion of cross-disciplinary collaboration\, and fa
 cilitating in-depth discussions on new development pathways and core chall
 enges of artificial intelligence in the new era\, thereby injecting new mo
 mentum into the field.&lt;/span&gt;&lt;/p&gt;
END:VEVENT
END:VCALENDAR

