BEGIN:VCALENDAR
VERSION:2.0
PRODID:IEEE vTools.Events//EN
CALSCALE:GREGORIAN
BEGIN:VTIMEZONE
TZID:Europe/Paris
BEGIN:DAYLIGHT
DTSTART:20260329T030000
TZOFFSETFROM:+0100
TZOFFSETTO:+0200
RRULE:FREQ=YEARLY;BYDAY=-1SU;BYMONTH=3
TZNAME:CEST
END:DAYLIGHT
BEGIN:STANDARD
DTSTART:20251026T020000
TZOFFSETFROM:+0200
TZOFFSETTO:+0100
RRULE:FREQ=YEARLY;BYDAY=-1SU;BYMONTH=10
TZNAME:CET
END:STANDARD
END:VTIMEZONE
BEGIN:VEVENT
DTSTAMP:20260227T075307Z
UID:8969BDEA-1F8D-4A63-AB2D-B44F49EA74EB
DTSTART;TZID=Europe/Paris:20251125T102000
DTEND;TZID=Europe/Paris:20251125T120000
DESCRIPTION:Réunion Technique IEEE France -STB Bordeaux\n\nRoom: biblioth
 èque du laboratoire IMS\, Bldg: batiment A31 (Arrêt de tram Peixotto)\, 
 351 cours de la libération\, Bordeaux\, Midi-Pyrenees\, France\, 33400
LOCATION:Room: bibliothèque du laboratoire IMS\, Bldg: batiment A31 (Arrê
 t de tram Peixotto)\, 351 cours de la libération\, Bordeaux\, Midi-Pyrene
 es\, France\, 33400
ORGANIZER:serge.dossantos@insa-cvl.fr
SEQUENCE:21
SUMMARY:Réunion Technique IEEE France et Branche Etudiante IEEE Bordeaux
URL;VALUE=URI:https://events.vtools.ieee.org/m/512343
X-ALT-DESC:Description: &lt;br /&gt;&lt;p&gt;R&amp;eacute\;union Technique IEEE France -STB
  Bordeaux&lt;/p&gt;
END:VEVENT
END:VCALENDAR

