BEGIN:VCALENDAR
VERSION:2.0
PRODID:IEEE vTools.Events//EN
CALSCALE:GREGORIAN
BEGIN:VTIMEZONE
TZID:America/New_York
BEGIN:DAYLIGHT
DTSTART:20260308T030000
TZOFFSETFROM:-0500
TZOFFSETTO:-0400
RRULE:FREQ=YEARLY;BYDAY=2SU;BYMONTH=3
TZNAME:EDT
END:DAYLIGHT
BEGIN:STANDARD
DTSTART:20251102T010000
TZOFFSETFROM:-0400
TZOFFSETTO:-0500
RRULE:FREQ=YEARLY;BYDAY=1SU;BYMONTH=11
TZNAME:EST
END:STANDARD
END:VTIMEZONE
BEGIN:VEVENT
DTSTAMP:20251114T211502Z
UID:57F22E07-980E-4586-9110-1E44DCE2C3CC
DTSTART;TZID=America/New_York:20251113T180000
DTEND;TZID=America/New_York:20251113T200000
DESCRIPTION:Your IEEE Reliability Society is holding a town hall meeting on
  innovating the society.\n\nPlease join Dr. Jason Rupe\, your current Reli
 ability Society President\, and Reliability Boston Chapter Chair\, Dr. Dan
  Weidman\, for updates on activities in the society and the Boston chapter
 \, along with discussions with you about how the society can support chapt
 ers and members.\n\nWe plan to present some brief updates from both\, then
  turn it over to questions and ideas from you. The second of such townhall
 s this year\, the Boston chapter has volunteered to host this event with t
 he society\, so their questions and ideas will be live. If you are able to
  attend this meeting remotely live\, you will have a chance to submit ques
 tions and ideas via chat.\n\nThe meeting will also be recorded\, so you ca
 n catch up after if you like. Hopefully some ideas will resonate and maybe
  you find something you would like to contribute too. We look forward to y
 our engagement in this event!\n\nSpeaker(s): Dr. Jason Rupe\, Dan\n\nAgend
 a: \n6:00 pm Eastern Time\n\nBrief introductions and then presentations ab
 out Chapter status by Dan Weidman (&quot;IEEE Boston Reliability Chapter Status
 &quot;) and Jason Rupe\n\nOpen discussions\n\nPresentation by Dan Weidman &quot;Thou
 ghts on the Future of Fusion Energy and the Relevance of Reliability&quot;\n\n8
 :00 pm: expected end time\n\n.\n\nVirtual: https://events.vtools.ieee.org/
 m/512622
LOCATION:Virtual: https://events.vtools.ieee.org/m/512622
ORGANIZER:danweidman@ieee.org
SEQUENCE:14
SUMMARY:IEEE Reliability Society Town Hall on Innovating the Society with D
 r. Jason Rupe
URL;VALUE=URI:https://events.vtools.ieee.org/m/512622
X-ALT-DESC:Description: &lt;br /&gt;&lt;p&gt;Your IEEE Reliability Society is holding a
  town hall&amp;nbsp\;meeting on innovating the society.&lt;/p&gt;\n&lt;p&gt;Please join Dr
 . Jason Rupe\, your current Reliability Society President\, and Reliabilit
 y Boston Chapter Chair\, Dr. Dan Weidman\, for updates on activities in th
 e society and the Boston chapter\, along with discussions with you about h
 ow the society can support chapters and members.&lt;/p&gt;\n&lt;p&gt;We plan to presen
 t some brief updates from both\, then turn it over to questions and ideas 
 from you. &amp;nbsp\;The second of such townhalls this year\, the Boston chapt
 er has volunteered to host this event with the society\, so their question
 s and ideas will be live. If you are able to attend this meeting remotely 
 live\, you will have a chance to submit questions and ideas via chat.&amp;nbsp
 \;&lt;/p&gt;\n&lt;p&gt;The meeting will also be recorded\, so you can catch up after i
 f you like. Hopefully some ideas will resonate and maybe you find somethin
 g you would like to contribute too. We look forward to your engagement in 
 this event!&lt;/p&gt;&lt;br /&gt;&lt;br /&gt;Agenda: &lt;br /&gt;&lt;p&gt;6:00 pm Eastern Time&lt;/p&gt;\n&lt;p&gt;B
 rief introductions and then presentations about Chapter status by Dan Weid
 man (&quot;IEEE Boston Reliability Chapter Status&quot;) and Jason Rupe&lt;/p&gt;\n&lt;p&gt;Open
  discussions&lt;/p&gt;\n&lt;p&gt;Presentation by Dan Weidman &quot;Thoughts on the Future o
 f Fusion Energy and the Relevance of Reliability&quot;&lt;/p&gt;\n&lt;p&gt;8:00 pm: expecte
 d end time&lt;/p&gt;\n&lt;p&gt;.&lt;/p&gt;\n&lt;p&gt;&amp;nbsp\;&lt;/p&gt;
END:VEVENT
END:VCALENDAR

