BEGIN:VCALENDAR
VERSION:2.0
PRODID:IEEE vTools.Events//EN
CALSCALE:GREGORIAN
BEGIN:VTIMEZONE
TZID:Africa/Nairobi
BEGIN:STANDARD
DTSTART:19420801T001500
TZOFFSETFROM:+0245
TZOFFSETTO:+0300
TZNAME:EAT
END:STANDARD
END:VTIMEZONE
BEGIN:VEVENT
DTSTAMP:20251116T175602Z
UID:F1DE6A3B-E5BE-434B-B6FD-6AB1E4CCBCC1
DTSTART;TZID=Africa/Nairobi:20251108T080000
DTEND;TZID=Africa/Nairobi:20251108T180000
DESCRIPTION:[]\n\nJoin us on Saturday 8th November\, 2025 at Rustic Gardens
 \, Rongai\, for an SB Leadership &amp; SAC Retreat hosted by IEEE SAC Kenya in
  collaboration with IEEE YP Kenya. It&#39;s an day to connect\, relax\, networ
 k\, share ideas and activities\, and unwind. See you there!\n\nCo-sponsore
 d by: IEEE SAC Kenya\, IEEE R8 SAC\n\nRustic Gardens (Fireplace Entomoto D
 rive\, Maasai Lodge Road\, Ongata Rongai)\, Rongai\, Nairobi\, Kenya
LOCATION:Rustic Gardens (Fireplace Entomoto Drive\, Maasai Lodge Road\, Ong
 ata Rongai)\, Rongai\, Nairobi\, Kenya
ORGANIZER:muhuhu.ian@ieee.org
SEQUENCE:24
SUMMARY:IEEE Kenya SB Leadership &amp; SAC Retreat
URL;VALUE=URI:https://events.vtools.ieee.org/m/512653
X-ALT-DESC:Description: &lt;br /&gt;&lt;p&gt;&lt;img src=&quot;https://events.vtools.ieee.org/v
 tools_ui/media/display/3979ab3f-295c-4e6e-8473-d491512eb514&quot; alt=&quot;&quot; width=
 &quot;423&quot; height=&quot;423&quot;&gt;&lt;/p&gt;\n&lt;p&gt;Join us on Saturday 8th November\, 2025 at Rus
 tic Gardens\, Rongai\, for an SB Leadership &amp;amp\; SAC Retreat hosted by I
 EEE SAC Kenya in collaboration with IEEE YP Kenya. It&#39;s an day to connect\
 , relax\, network\, share ideas and activities\, and unwind. See you there
 !&lt;/p&gt;
END:VEVENT
END:VCALENDAR

