BEGIN:VCALENDAR
VERSION:2.0
PRODID:IEEE vTools.Events//EN
CALSCALE:GREGORIAN
BEGIN:VTIMEZONE
TZID:Europe/Stockholm
BEGIN:DAYLIGHT
DTSTART:20250330T030000
TZOFFSETFROM:+0100
TZOFFSETTO:+0200
RRULE:FREQ=YEARLY;BYDAY=-1SU;BYMONTH=3
TZNAME:CEST
END:DAYLIGHT
BEGIN:STANDARD
DTSTART:20251026T020000
TZOFFSETFROM:+0200
TZOFFSETTO:+0100
RRULE:FREQ=YEARLY;BYDAY=-1SU;BYMONTH=10
TZNAME:CET
END:STANDARD
END:VTIMEZONE
BEGIN:VEVENT
DTSTAMP:20251106T154219Z
UID:F93BA9FB-5743-4960-9538-F44435188C38
DTSTART;TZID=Europe/Stockholm:20251024T180000
DTEND;TZID=Europe/Stockholm:20251025T180000
DESCRIPTION:IEEEXtreme 19.0 Event Report\n\nIntroduction\n\nIEEEXtreme is a
  global 24-hour competitive programming challenge organized annually by IE
 EE\, gathering students and programming enthusiasts from around the world 
 to solve algorithmic problems. For the 19th edition\, IEEE ENSIT Student B
 ranch and IEEE ENSIT Computer Society Student Branch\, in collaboration wi
 th IEEE SUP’COM Student Branch and IEEE SUP’COM Computer Society Stude
 nt Branch\, hosted IEEEXtreme 19.0 on October 24th and 25th at the Higher 
 National Engineering School of Tunis (ENSIT).\n\nParticipation and Atmosph
 ere\n\nThis edition welcomed around one hundred participants from differen
 t IEEE Student Branches. The event not only provided an opportunity to com
 pete\, but also to connect\, network\, and build friendships among student
 s coming from diverse academic environments. The atmosphere throughout the
  pre-competition activities reflected this sense of community\, with parti
 cipants joining in card games\, karaoke sessions\, group discussions\, and
  a movie night. By the time the challenge officially began\, a strong sens
 e of camaraderie had already formed.\n\nTheme and Immersion\n\nThe theme f
 or this year was inspired by the renowned series Breaking Bad. The theme w
 as incorporated into the event’s identity\, decorations\, and welcoming 
 packs\, creating a fully immersive environment that participants genuinely
  appreciated. One of the highlights of the event was a surprise encrypted 
 challenge\, where attendees were tasked with discovering the hidden identi
 ty of one of the officers. The challenge sparked enthusiasm\, curiosity\, 
 and teamwork\, and the winner was awarded an IEEE Computer Society hoodie.
 \n\n[May be an image of ‎text that says &#39;‎IEEEXTREME&#39; TREME 19.0 PROGR
 AMMING COMPETITION LOS UNTUAN IEEEXTREME 19.0 IEEEXT TREME PROGRAMMING COM
 PET COMPETITION XTREMOS ESTEROT AIDA POLLOS P articipant Dautyia IEEE COMP
 UTER SOCIETY ENSIT STUDENT BRANCH Max ENSIT ENSIT IEEE Student Branch ensi
 t Dailyn FOODY SUPCOM EEE SILORnE Student בצ IEEE COMPUTER SOCIETY‎&#39;
 ‎]\n\nCompetition Phase\n\nAs soon as the countdown for IEEEXtreme began
 \, the participants gathered in the hackathon room\, fully focused and rea
 dy. Teams coded tirelessly\, coordinated strategies\, and pushed through t
 he full 24-hour duration with determination and impressive resilience. The
  atmosphere was one of both friendly competition and mutual support.\n\nRe
 sults and Achievement\n\nThis year\, many of our participants performed ex
 ceptionally well\, ranking among the top teams in Tunisia and standing out
  on the international leaderboard. Their achievements reflect not only tec
 hnical skill\, but also consistency\, collaboration\, and problem-solving 
 under pressure. Their performance is a point of pride for all the organizi
 ng student branches.\n\nConclusion\n\nIEEEXtreme 19.0 was a remarkable suc
 cess. The collaboration between IEEE ENSIT and IEEE SUP’COM Student Bran
 ches was strong and seamless\, the atmosphere was engaging\, the activitie
 s fostered real community\, and the participants’ results spoke for them
 selves. The event was not merely a competition\; it was a shared experienc
 e of learning\, challenge\, creativity\, and connection — and it stands 
 as one of the most memorable editions yet.\n\nBldg: Higher National Engine
 ering School of Tunis\, 05 Ave Taha Hussein \, Tunis\, Tunis\, Tunis\, Tun
 isia\, 1008
LOCATION:Bldg: Higher National Engineering School of Tunis\, 05 Ave Taha Hu
 ssein \, Tunis\, Tunis\, Tunis\, Tunisia\, 1008
ORGANIZER:sbc-ensit-cs@ieee.org
SEQUENCE:7
SUMMARY:IEEEXTREME 19.0 : ENSIT X SUP&#39;COM
URL;VALUE=URI:https://events.vtools.ieee.org/m/512836
X-ALT-DESC:Description: &lt;br /&gt;&lt;h2 data-start=&quot;86&quot; data-end=&quot;121&quot;&gt;&lt;strong da
 ta-start=&quot;89&quot; data-end=&quot;121&quot;&gt;IEEEXtreme 19.0 Event Report&lt;/strong&gt;&lt;/h2&gt;\n&lt;
 h3 data-start=&quot;123&quot; data-end=&quot;143&quot;&gt;&lt;strong data-start=&quot;127&quot; data-end=&quot;143&quot;
 &gt;Introduction&lt;/strong&gt;&lt;/h3&gt;\n&lt;p data-start=&quot;144&quot; data-end=&quot;640&quot;&gt;IEEEXtreme
  is a global 24-hour competitive programming challenge organized annually 
 by IEEE\, gathering students and programming enthusiasts from around the w
 orld to solve algorithmic problems. For the 19th edition\, IEEE ENSIT Stud
 ent Branch and IEEE ENSIT Computer Society Student Branch\, in collaborati
 on with IEEE SUP&amp;rsquo\;COM Student Branch and IEEE SUP&amp;rsquo\;COM Compute
 r Society Student Branch\, hosted IEEEXtreme 19.0 on October 24th and 25th
  at the Higher National Engineering School of Tunis (ENSIT).&lt;/p&gt;\n&lt;p data-
 start=&quot;144&quot; data-end=&quot;640&quot;&gt;&lt;img style=&quot;display: block\; margin-left: auto\
 ; margin-right: auto\;&quot; src=&quot;https://scontent.ftun10-1.fna.fbcdn.net/v/t39
 .30808-6/577313310_122159840792757988_7161969185521025774_n.jpg?stp=dst-jp
 g_s590x590_tt6&amp;amp\;_nc_cat=107&amp;amp\;ccb=1-7&amp;amp\;_nc_sid=aa7b47&amp;amp\;_nc_
 ohc=70EbQO5MiNoQ7kNvwE731JW&amp;amp\;_nc_oc=AdnLfu5IifnTxoGUkVVrbX3k-WoCNdNtUf
 Y3lAan9WFu8BksPQUZ97XYgQYqeimKG7k&amp;amp\;_nc_zt=23&amp;amp\;_nc_ht=scontent.ftun
 10-1.fna&amp;amp\;_nc_gid=8CEbv6nVPPxeF2CBTwR1tQ&amp;amp\;oh=00_AfjYpxCn_bbKIZzO8S
 opVoiQUAeKWCzVi0G8x0jsGpEWdA&amp;amp\;oe=69128A72&quot;&gt;&lt;/p&gt;\n&lt;h3 data-start=&quot;642&quot; 
 data-end=&quot;678&quot;&gt;&lt;strong data-start=&quot;646&quot; data-end=&quot;678&quot;&gt;Participation and A
 tmosphere&lt;/strong&gt;&lt;/h3&gt;\n&lt;p data-start=&quot;679&quot; data-end=&quot;1218&quot;&gt;This edition 
 welcomed around one hundred participants from different IEEE Student Branc
 hes. The event not only provided an opportunity to compete\, but also to c
 onnect\, network\, and build friendships among students coming from divers
 e academic environments. The atmosphere throughout the pre-competition act
 ivities reflected this sense of community\, with participants joining in c
 ard games\, karaoke sessions\, group discussions\, and a movie night. By t
 he time the challenge officially began\, a strong sense of camaraderie had
  already formed.&lt;/p&gt;\n&lt;p data-start=&quot;679&quot; data-end=&quot;1218&quot;&gt;&lt;img style=&quot;disp
 lay: block\; margin-left: auto\; margin-right: auto\;&quot; src=&quot;https://sconte
 nt.ftun10-2.fna.fbcdn.net/v/t39.30808-6/574614708_122159951336757988_57289
 56659409466211_n.jpg?stp=dst-jpg_s590x590_tt6&amp;amp\;_nc_cat=109&amp;amp\;ccb=1-
 7&amp;amp\;_nc_sid=aa7b47&amp;amp\;_nc_ohc=BPgB_ozy1cEQ7kNvwGANarL&amp;amp\;_nc_oc=Adm
 rsSVDoSaAFcgcFJmCPTckpU8SF4OfOHYgKeknihVRWqbh9hK4wXwISHTvBsZHHEM&amp;amp\;_nc_
 zt=23&amp;amp\;_nc_ht=scontent.ftun10-2.fna&amp;amp\;_nc_gid=E85eOA3crxb0WfpEp0tG-
 g&amp;amp\;oh=00_Afg9HdoUIeQuAoO6bMuP5TqYqwL5my_vC9_qhpefl97uZw&amp;amp\;oe=6912AB
 CA&quot;&gt;&lt;/p&gt;\n&lt;h3 data-start=&quot;1220&quot; data-end=&quot;1247&quot;&gt;&lt;strong data-start=&quot;1224&quot; 
 data-end=&quot;1247&quot;&gt;Theme and Immersion&lt;/strong&gt;&lt;/h3&gt;\n&lt;p data-start=&quot;1248&quot; da
 ta-end=&quot;1770&quot;&gt;The theme for this year was inspired by the renowned series 
 &lt;em data-start=&quot;1308&quot; data-end=&quot;1322&quot;&gt;Breaking Bad&lt;/em&gt;. The theme was inc
 orporated into the event&amp;rsquo\;s identity\, decorations\, and welcoming p
 acks\, creating a fully immersive environment that participants genuinely 
 appreciated. One of the highlights of the event was a surprise encrypted c
 hallenge\, where attendees were tasked with discovering the hidden identit
 y of one of the officers. The challenge sparked enthusiasm\, curiosity\, a
 nd teamwork\, and the winner was awarded an IEEE Computer Society hoodie.&lt;
 /p&gt;\n&lt;p data-start=&quot;1248&quot; data-end=&quot;1770&quot;&gt;&lt;img style=&quot;display: block\; mar
 gin-left: auto\; margin-right: auto\;&quot; src=&quot;https://scontent.ftun10-2.fna.
 fbcdn.net/v/t39.30808-6/576463926_122159840852757988_1587250592432365123_n
 .jpg?_nc_cat=102&amp;amp\;ccb=1-7&amp;amp\;_nc_sid=aa7b47&amp;amp\;_nc_ohc=NCvz36UWKKA
 Q7kNvwERyysd&amp;amp\;_nc_oc=AdkVEUxz44845yERGdtoyMra90TiKFLZgdUE5TolS82zat4FH
 GQjugqyOfaxDb0OEH4&amp;amp\;_nc_zt=23&amp;amp\;_nc_ht=scontent.ftun10-2.fna&amp;amp\;_
 nc_gid=E85eOA3crxb0WfpEp0tG-g&amp;amp\;oh=00_AficmdtvcRXnnqyL8mApGp5wmGufqqCCT
 D6JpDuiwpjORA&amp;amp\;oe=6912A4CD&quot; alt=&quot;May be an image of &amp;lrm\;text that sa
 ys &#39;&amp;lrm\;IEEEXTREME&#39; TREME 19.0 PROGRAMMING COMPETITION LOS UNTUAN IEEEXT
 REME 19.0 IEEEXT TREME PROGRAMMING COMPET COMPETITION XTREMOS ESTEROT AIDA
  POLLOS P articipant Dautyia IEEE COMPUTER SOCIETY ENSIT STUDENT BRANCH Ma
 x ENSIT ENSIT IEEE Student Branch ensit Dailyn FOODY SUPCOM EEE SILORnE St
 udent בצ IEEE COMPUTER SOCIETY&amp;lrm\;&#39;&amp;lrm\;&quot; width=&quot;537&quot; height=&quot;358&quot;&gt;&lt;/
 p&gt;\n&lt;h3 data-start=&quot;1772&quot; data-end=&quot;1797&quot;&gt;&lt;strong data-start=&quot;1776&quot; data-e
 nd=&quot;1797&quot;&gt;Competition Phase&lt;/strong&gt;&lt;/h3&gt;\n&lt;p data-start=&quot;1798&quot; data-end=&quot;
 2129&quot;&gt;As soon as the countdown for IEEEXtreme began\, the participants gat
 hered in the hackathon room\, fully focused and ready. Teams coded tireles
 sly\, coordinated strategies\, and pushed through the full 24-hour duratio
 n with determination and impressive resilience. The atmosphere was one of 
 both friendly competition and mutual support.&lt;/p&gt;\n&lt;p data-start=&quot;1798&quot; da
 ta-end=&quot;2129&quot;&gt;&lt;img style=&quot;display: block\; margin-left: auto\; margin-righ
 t: auto\;&quot; src=&quot;https://scontent.ftun10-2.fna.fbcdn.net/v/t39.30808-6/5763
 25886_122159951588757988_2181145209930690769_n.jpg?stp=dst-jpg_s590x590_tt
 6&amp;amp\;_nc_cat=111&amp;amp\;ccb=1-7&amp;amp\;_nc_sid=aa7b47&amp;amp\;_nc_ohc=qk9sDeFTV
 WwQ7kNvwHVZ5k8&amp;amp\;_nc_oc=AdnAs81ORapBfFpIYZJ7813Clb9MixmSHMhDz4VP1CcHyBD
 oDKSI5IWT2LhZc0q3IGc&amp;amp\;_nc_zt=23&amp;amp\;_nc_ht=scontent.ftun10-2.fna&amp;amp\
 ;_nc_gid=E85eOA3crxb0WfpEp0tG-g&amp;amp\;oh=00_AfhibTrg7Qx80h7p1BIpjc_n29588U_
 _xq4CzBPBxKn4zA&amp;amp\;oe=69128F3F&quot;&gt;&lt;/p&gt;\n&lt;h3 data-start=&quot;2131&quot; data-end=&quot;21
 62&quot;&gt;&lt;strong data-start=&quot;2135&quot; data-end=&quot;2162&quot;&gt;Results and Achievement&lt;/str
 ong&gt;&lt;/h3&gt;\n&lt;p data-start=&quot;2163&quot; data-end=&quot;2527&quot;&gt;This year\, many of our pa
 rticipants performed exceptionally well\, ranking among the &lt;strong data-s
 tart=&quot;2247&quot; data-end=&quot;2321&quot;&gt;top teams in Tunisia and standing out on the i
 nternational leaderboard&lt;/strong&gt;. Their achievements reflect not only tec
 hnical skill\, but also consistency\, collaboration\, and problem-solving 
 under pressure. Their performance is a point of pride for all the organizi
 ng student branches.&lt;/p&gt;\n&lt;h3 data-start=&quot;2529&quot; data-end=&quot;2547&quot;&gt;&lt;strong da
 ta-start=&quot;2533&quot; data-end=&quot;2547&quot;&gt;Conclusion&lt;/strong&gt;&lt;/h3&gt;\n&lt;p data-start=&quot;2
 548&quot; data-end=&quot;2983&quot;&gt;IEEEXtreme 19.0 was a remarkable success. The collabo
 ration between IEEE ENSIT and IEEE SUP&amp;rsquo\;COM Student Branches was str
 ong and seamless\, the atmosphere was engaging\, the activities fostered r
 eal community\, and the participants&amp;rsquo\; results spoke for themselves.
  The event was not merely a competition\; it was a shared experience of le
 arning\, challenge\, creativity\, and connection &amp;mdash\; and it stands as
  one of the most memorable editions yet.&lt;/p&gt;
END:VEVENT
END:VCALENDAR

