BEGIN:VCALENDAR
VERSION:2.0
PRODID:IEEE vTools.Events//EN
CALSCALE:GREGORIAN
BEGIN:VTIMEZONE
TZID:America/New_York
BEGIN:DAYLIGHT
DTSTART:20260308T030000
TZOFFSETFROM:-0500
TZOFFSETTO:-0400
RRULE:FREQ=YEARLY;BYDAY=2SU;BYMONTH=3
TZNAME:EDT
END:DAYLIGHT
BEGIN:STANDARD
DTSTART:20251102T010000
TZOFFSETFROM:-0400
TZOFFSETTO:-0500
RRULE:FREQ=YEARLY;BYDAY=1SU;BYMONTH=11
TZNAME:EST
END:STANDARD
END:VTIMEZONE
BEGIN:VEVENT
DTSTAMP:20251109T213918Z
UID:FB771ED6-125B-4C33-AEBD-11E446A71674
DTSTART;TZID=America/New_York:20251106T180000
DTEND;TZID=America/New_York:20251106T190000
DESCRIPTION:This event will be an opportunity to introduce the IEEE Student
  Branch and our executive board. We’ll also provide an overview of the e
 xciting events and opportunities that you can expect from the Main Branch 
 and our different societies such as Power and Energy Society\, Computer So
 ciety\, Robotics and Automation Society\, and HKN Society!\n\nRoom: 1002\,
  Bldg: IST\, 4700 Research Way\, Lakeland\, Florida\, United States
LOCATION:Room: 1002\, Bldg: IST\, 4700 Research Way\, Lakeland\, Florida\, 
 United States
ORGANIZER:colby.bradford@ieee.org
SEQUENCE:4
SUMMARY:IEEE at Florida Poly General Body Meeting 
URL;VALUE=URI:https://events.vtools.ieee.org/m/512896
X-ALT-DESC:Description: &lt;br /&gt;&lt;h5&gt;This event will be an opportunity to intr
 oduce the IEEE Student Branch and our executive board. We&amp;rsquo\;ll also p
 rovide an overview of the exciting events and opportunities that you can e
 xpect from the Main Branch and our different societies such as Power and E
 nergy Society\, Computer Society\, Robotics and Automation Society\, and H
 KN Society!&lt;/h5&gt;
END:VEVENT
END:VCALENDAR

