BEGIN:VCALENDAR
VERSION:2.0
PRODID:IEEE vTools.Events//EN
CALSCALE:GREGORIAN
BEGIN:VTIMEZONE
TZID:America/Chicago
BEGIN:DAYLIGHT
DTSTART:20260308T030000
TZOFFSETFROM:-0600
TZOFFSETTO:-0500
RRULE:FREQ=YEARLY;BYDAY=2SU;BYMONTH=3
TZNAME:CDT
END:DAYLIGHT
BEGIN:STANDARD
DTSTART:20251102T010000
TZOFFSETFROM:-0500
TZOFFSETTO:-0600
RRULE:FREQ=YEARLY;BYDAY=1SU;BYMONTH=11
TZNAME:CST
END:STANDARD
END:VTIMEZONE
BEGIN:VEVENT
DTSTAMP:20251124T014736Z
UID:601347C8-1416-4231-B8FE-8B0A12E9671B
DTSTART;TZID=America/Chicago:20251119T180000
DTEND;TZID=America/Chicago:20251119T200000
DESCRIPTION:You are invited to join us at the Pizza Payaa in Normal\, IL fo
 r an informal networking dinner organized by the IEEE Central Illinois Sec
 tion. This event is open to all IEEE member grades\, including students an
 d graduate students.\n\nREGISTER IF ATTENDING:\n\nRegistration is complime
 ntary. However\, please note that all attendees are responsible for their 
 own bills. Registration ends at noon before the event\, or when all spaces
  have filled.\n\nBRINGING AN ADDITIONAL GUEST?\n\nIf registering\, please 
 indicate if you plan to bring any guests. IEEE members may bring a nonmemb
 er guest.\n\nPARKING INFORMATION:\n\n2-hour parking is available in a free
  lot behind the restaurant. 1-hour street-level parking may be available i
 n the front.\n\nDRESS CODE:\n\nThis event has no explicit dress code\, how
 ever casual\, semi-casual\, and business casual are common in this event s
 eries\n\nABOUT US:\n\nFormed as part of the American Institute of Electric
 al Engineers (AIEE) on June 28th\, 1951\; the IEEE Central Illinois Sectio
 n serves members in Champaign\, Springfield\, Bloomington\, Peoria\, Quinc
 y\, Decatur\, and their surrounding areas.\n\nAgenda: \n6:00 PM - Networki
 ng begins\n\nPizza Payaa Restaurant\, 107 E Beaufort St.\, Normal\, Illino
 is\, United States\, 61761
LOCATION:Pizza Payaa Restaurant\, 107 E Beaufort St.\, Normal\, Illinois\, 
 United States\, 61761
ORGANIZER:mbsiems@ilstu.edu
SEQUENCE:24
SUMMARY:IEEE Central Illinois Networking Event in Normal
URL;VALUE=URI:https://events.vtools.ieee.org/m/512914
X-ALT-DESC:Description: &lt;br /&gt;&lt;p&gt;You are invited to join us at the Pizza Pa
 yaa in Normal\, IL for an informal networking dinner organized by the IEEE
  Central Illinois Section.&amp;nbsp\; This event is open to all IEEE member gr
 ades\, including students and graduate students.&lt;/p&gt;\n&lt;p&gt;&lt;strong&gt;REGISTER 
 IF ATTENDING:&lt;/strong&gt;&lt;/p&gt;\n&lt;p&gt;Registration is complimentary. &amp;nbsp\;Howev
 er\, please note that all attendees are responsible for their own bills. &amp;
 nbsp\;Registration ends at noon before the event\, or when all spaces have
  filled.&lt;/p&gt;\n&lt;p&gt;&lt;strong&gt;BRINGING AN ADDITIONAL GUEST?&lt;/strong&gt;&lt;/p&gt;\n&lt;p&gt;If
  registering\, please indicate if you plan to bring any guests. &amp;nbsp\;IEE
 E members may bring a nonmember guest.&lt;/p&gt;\n&lt;p&gt;&lt;strong&gt;PARKING INFORMATION
 :&lt;/strong&gt;&lt;/p&gt;\n&lt;p&gt;2-hour parking is available in a free lot behind the re
 staurant.&amp;nbsp\; 1-hour street-level parking may be available in the front
 .&lt;/p&gt;\n&lt;p&gt;&lt;strong&gt;DRESS CODE:&lt;/strong&gt;&lt;/p&gt;\n&lt;p&gt;This event has no explicit 
 dress code\, however casual\, semi-casual\, and business casual are common
  in this event series&lt;/p&gt;\n&lt;p&gt;&lt;strong&gt;ABOUT US:&lt;/strong&gt;&lt;/p&gt;\n&lt;p&gt;Formed as
  part of the American Institute of Electrical Engineers (AIEE) on June 28t
 h\, 1951\; the IEEE Central Illinois Section serves members in Champaign\,
  Springfield\, Bloomington\, Peoria\, Quincy\, Decatur\, and their surroun
 ding areas.&lt;/p&gt;&lt;br /&gt;&lt;br /&gt;Agenda: &lt;br /&gt;&lt;p&gt;6:00 PM - Networking begins&lt;/p
 &gt;
END:VEVENT
END:VCALENDAR

