BEGIN:VCALENDAR
VERSION:2.0
PRODID:IEEE vTools.Events//EN
CALSCALE:GREGORIAN
BEGIN:VTIMEZONE
TZID:America/Denver
BEGIN:DAYLIGHT
DTSTART:20260308T030000
TZOFFSETFROM:-0700
TZOFFSETTO:-0600
RRULE:FREQ=YEARLY;BYDAY=2SU;BYMONTH=3
TZNAME:MDT
END:DAYLIGHT
BEGIN:STANDARD
DTSTART:20251102T010000
TZOFFSETFROM:-0600
TZOFFSETTO:-0700
RRULE:FREQ=YEARLY;BYDAY=1SU;BYMONTH=11
TZNAME:MST
END:STANDARD
END:VTIMEZONE
BEGIN:VEVENT
DTSTAMP:20251121T163931Z
UID:D6EBEFCB-CBE6-468D-BD21-2FBB1D32C4EE
DTSTART;TZID=America/Denver:20251120T180000
DTEND;TZID=America/Denver:20251120T200000
DESCRIPTION:[]\n\nInstalling modern controls on a vintage machine enhances 
 reliability and control while\nkeeping costs significantly lower than a fu
 ll replacement. Increased opportunities to\nretrofit vintage steam turbine
  control systems are expected with the growing demand for\nelectricity in 
 the US. These multifaceted projects include engineering\, electrical\,\nwe
 lding\, machining\, and mechanical work. The projects can be challenging b
 ecause\ndesign details cannot be finalized until the machines are disassem
 bled. This\npresentation will begin with a general overview of a vintage s
 team turbine control\nsystem retrofit that took place earlier this year. W
 e will also discuss some technical\nproblems faced during the project\, an
 d solutions that were implemented.\n\nSpeaker(s): Mike Hovious\, \n\nAgend
 a: \nDoors Open 6:00 pm\n\nMeeting Starts 6:30 pm\n\nWelcome-Kris Waage\n\
 nDid You Hear- Scott Evans\n\nMain Presentation_ Mike Hovious\n\nEnd\n\nRo
 om: Collabortory\, Bldg:  The Forge Campus \, 815 14th St SW\, Loveland\,
  Colorado\, United States\, 80537
LOCATION:Room: Collabortory\, Bldg:  The Forge Campus \, 815 14th St SW\, 
 Loveland\, Colorado\, United States\, 80537
ORGANIZER:rtoftness@gmail.com
SEQUENCE:57
SUMMARY:Electronic Controls Retrofit on 1950s Vintage Steam Turbine at Powe
 r Station
URL;VALUE=URI:https://events.vtools.ieee.org/m/512927
X-ALT-DESC:Description: &lt;br /&gt;&lt;p&gt;&lt;img src=&quot;https://events.vtools.ieee.org/v
 tools_ui/media/display/0e176cbc-83a0-44eb-a625-1763fd79c4c0&quot; alt=&quot;&quot; width=
 &quot;201&quot; height=&quot;193&quot;&gt;&lt;/p&gt;\n&lt;p&gt;Installing modern controls on a vintage machin
 e enhances reliability and control while&lt;br&gt;keeping costs significantly lo
 wer than a full replacement. Increased opportunities to&lt;br&gt;retrofit vintag
 e steam turbine control systems are expected with the growing demand for&lt;b
 r&gt;electricity in the US. These multifaceted projects include engineering\,
  electrical\,&lt;br&gt;welding\, machining\, and mechanical work. The projects c
 an be challenging because&lt;br&gt;design details cannot be finalized until the 
 machines are disassembled. This&lt;br&gt;presentation will begin with a general 
 overview of a vintage steam turbine control&lt;br&gt;system retrofit that took p
 lace earlier this year. We will also discuss some technical&lt;br&gt;problems fa
 ced during the project\, and solutions that were implemented.&lt;/p&gt;\n&lt;p&gt;&amp;nbs
 p\;&lt;/p&gt;&lt;br /&gt;&lt;br /&gt;Agenda: &lt;br /&gt;&lt;p&gt;Doors Open 6:00 pm&lt;/p&gt;\n&lt;p&gt;Meeting Sta
 rts 6:30 pm&lt;/p&gt;\n&lt;p&gt;Welcome-Kris Waage&lt;/p&gt;\n&lt;p&gt;Did You Hear- Scott Evans&lt;/
 p&gt;\n&lt;p&gt;Main Presentation_ Mike Hovious&lt;/p&gt;\n&lt;p&gt;End&amp;nbsp\;&lt;/p&gt;
END:VEVENT
END:VCALENDAR

