BEGIN:VCALENDAR
VERSION:2.0
PRODID:IEEE vTools.Events//EN
CALSCALE:GREGORIAN
BEGIN:VTIMEZONE
TZID:Europe/Istanbul
BEGIN:DAYLIGHT
DTSTART:20380119T061407
TZOFFSETFROM:+0300
TZOFFSETTO:+0300
RRULE:FREQ=YEARLY;BYDAY=3TU;BYMONTH=1
TZNAME:+03
END:DAYLIGHT
BEGIN:STANDARD
DTSTART:20160907T000000
TZOFFSETFROM:+0300
TZOFFSETTO:+0300
RRULE:FREQ=YEARLY;BYDAY=1WE;BYMONTH=9
TZNAME:+03
END:STANDARD
END:VTIMEZONE
BEGIN:VEVENT
DTSTAMP:20251114T174628Z
UID:B38078D0-32E1-484E-B61A-357933AD0BCE
DTSTART;TZID=Europe/Istanbul:20251112T110000
DTEND;TZID=Europe/Istanbul:20251113T123000
DESCRIPTION:As part of the “[IEEE Circuits and Systems Society (CASS)](ht
 tps://www.linkedin.com/company/ieee-circuits-and-systems-society-cass/) Me
 ets Industry in Europe” seminar series — organized across France\, Den
 mark\, the United Kingdom\, Switzerland\, Italy\, Finland\, Greece\, and T
 ürkiye — we are pleased to invite you to the seminar to be held at Ista
 nbul Technical University (ITU) on November 12\, 2025.\n\n[]\n\nSpeaker(s)
 : Ates\, Tayyar\, Volkan\n\nRoom: Omer Korzay Konferans Salonu\, Bldg: Fac
 ulty of Electrical and Electronic Engineering\,  Istanbul Technical Univer
 sity (ITU)\, istanbul\, Istanbul\, Türkiye
LOCATION:Room: Omer Korzay Konferans Salonu\, Bldg: Faculty of Electrical a
 nd Electronic Engineering\,  Istanbul Technical University (ITU)\, istanbu
 l\, Istanbul\, Türkiye
ORGANIZER:mustak.yalcin@itu.edu.tr
SEQUENCE:21
SUMMARY:IEEE CAS Society Meets Industry in Türkiye
URL;VALUE=URI:https://events.vtools.ieee.org/m/512937
X-ALT-DESC:Description: &lt;br /&gt;&lt;p&gt;As part of the&amp;nbsp\;&amp;ldquo\;&lt;a class=&quot;TeL
 NUecZEHPriuYXxRKtwIMridORtI &quot; tabindex=&quot;0&quot; href=&quot;https://www.linkedin.com/
 company/ieee-circuits-and-systems-society-cass/&quot; target=&quot;_self&quot; data-test-
 app-aware-link=&quot;&quot;&gt;IEEE Circuits and Systems Society (CASS)&lt;/a&gt; Meets Indus
 try in Europe&amp;rdquo\; seminar series &amp;mdash\; organized across France\, De
 nmark\, the United Kingdom\, Switzerland\, Italy\, Finland\, Greece\, and 
 T&amp;uuml\;rkiye &amp;mdash\; we are pleased to invite you to the seminar to be h
 eld at Istanbul Technical University (ITU) on November 12\, 2025.&lt;/p&gt;\n&lt;p&gt;
 &amp;nbsp\;&lt;/p&gt;\n&lt;p&gt;&lt;img src=&quot;https://events.vtools.ieee.org/vtools_ui/media/d
 isplay/a3a07a67-5e91-424f-9c32-f26e2df6446f&quot; alt=&quot;&quot; width=&quot;1131&quot; height=&quot;1
 600&quot;&gt;&lt;/p&gt;
END:VEVENT
END:VCALENDAR

