BEGIN:VCALENDAR
VERSION:2.0
PRODID:IEEE vTools.Events//EN
CALSCALE:GREGORIAN
BEGIN:VTIMEZONE
TZID:Europe/Zagreb
BEGIN:DAYLIGHT
DTSTART:20260329T030000
TZOFFSETFROM:+0100
TZOFFSETTO:+0200
RRULE:FREQ=YEARLY;BYDAY=-1SU;BYMONTH=3
TZNAME:CEST
END:DAYLIGHT
BEGIN:STANDARD
DTSTART:20251026T020000
TZOFFSETFROM:+0200
TZOFFSETTO:+0100
RRULE:FREQ=YEARLY;BYDAY=-1SU;BYMONTH=10
TZNAME:CET
END:STANDARD
END:VTIMEZONE
BEGIN:VEVENT
DTSTAMP:20251111T165353Z
UID:06DD6A1D-0629-4B25-A6C1-2F006EBC496D
DTSTART;TZID=Europe/Zagreb:20251110T170000
DTEND;TZID=Europe/Zagreb:20251110T180000
DESCRIPTION:Predavanje se bavi načinima na koje se podaci konzumiraju iz s
 uvremenih podatkovnih platformi\, s naglaskom na demokratizaciju podataka 
 i omogućavanje pristupa širokom spektru korisnika unutar organizacije. O
 bjašnjavaju se tipični profili korisnika podataka te kako se podaci izla
 žu putem REST API-ja\, uz sigurnosne i standardizacijske aspekte. U konte
 kstu sve većeg trenda self-service pristupa\, razmatraju se i dodatni na
 čini konzumacije podataka koji podržavaju jednostavan i kontroliran pris
 tup\, poput direktnog pristupa skladištima\, korištenja data kataloga i 
 portala\, te fleksibilnih API pristupa kao što je GraphQL. Poseban naglas
 ak stavlja se na upravljanje pristupom putem korisničkih uloga (RBAC)\, 
 čime se osigurava da korisnici imaju pristup samo relevantnim podacima\, 
 u skladu s njihovim odgovornostima.\n\nSpeaker(s): Goran Šoškić\, \n\nR
 oom: A-201\, Bldg: A\, Faculty of Electrical Engineering and Computing\, U
 nska 3\, Zagreb\, Grad Zagreb\, Croatia\, HR-10000
LOCATION:Room: A-201\, Bldg: A\, Faculty of Electrical Engineering and Comp
 uting\, Unska 3\, Zagreb\, Grad Zagreb\, Croatia\, HR-10000
ORGANIZER:marko.horvat3@fer.hr
SEQUENCE:116
SUMMARY:Korištenje podataka iz platformi za raspodijeljenu obradu podataka
URL;VALUE=URI:https://events.vtools.ieee.org/m/512966
X-ALT-DESC:Description: &lt;br /&gt;&lt;p&gt;Predavanje se bavi načinima na koje se po
 daci konzumiraju iz suvremenih podatkovnih platformi\, s naglaskom na demo
 kratizaciju podataka i omogućavanje pristupa &amp;scaron\;irokom spektru kori
 snika unutar organizacije. Obja&amp;scaron\;njavaju se tipični profili korisn
 ika podataka te kako se podaci izlažu putem REST API-ja\, uz sigurnosne i
  standardizacijske aspekte. U kontekstu sve većeg trenda self-service pri
 stupa\, razmatraju se i dodatni načini konzumacije podataka koji podržav
 aju jednostavan i kontroliran pristup\, poput direktnog pristupa skladi&amp;sc
 aron\;tima\, kori&amp;scaron\;tenja data kataloga i portala\, te fleksibilnih 
 API pristupa kao &amp;scaron\;to je GraphQL. Poseban naglasak stavlja se na up
 ravljanje pristupom putem korisničkih uloga (RBAC)\, čime se osigurava d
 a korisnici imaju pristup samo relevantnim podacima\, u skladu s njihovim 
 odgovornostima.&lt;/p&gt;
END:VEVENT
END:VCALENDAR

