BEGIN:VCALENDAR
VERSION:2.0
PRODID:IEEE vTools.Events//EN
CALSCALE:GREGORIAN
BEGIN:VTIMEZONE
TZID:Europe/Sofia
BEGIN:DAYLIGHT
DTSTART:20260329T040000
TZOFFSETFROM:+0200
TZOFFSETTO:+0300
RRULE:FREQ=YEARLY;BYDAY=-1SU;BYMONTH=3
TZNAME:EEST
END:DAYLIGHT
BEGIN:STANDARD
DTSTART:20251026T030000
TZOFFSETFROM:+0300
TZOFFSETTO:+0200
RRULE:FREQ=YEARLY;BYDAY=-1SU;BYMONTH=10
TZNAME:EET
END:STANDARD
END:VTIMEZONE
BEGIN:VEVENT
DTSTAMP:20251117T185745Z
UID:E093B806-CAF0-4819-BAC3-8215C68646A0
DTSTART;TZID=Europe/Sofia:20251114T160000
DTEND;TZID=Europe/Sofia:20251114T170000
DESCRIPTION:Inspirational lecture “How to Create a Mind?”\, where Prof.
  Todor Ganchev will officially launch the TNT Mind project. This research 
 initiative unites ideas from artificial intelligence\, robotics\, and real
  life. The TNT Robotics Club hosts the lecture.\n\nWhat is TNT Mind?\nTNT 
 Mind is a joint initiative of the IEEE Bulgaria AI-Varna Group and TNT Rob
 otics\, aiming to engage high school and university students in AI researc
 h and technology development.\nThe project aims to create a model of intel
 ligence inspired by the processes of living organisms and to demonstrate t
 hese mechanisms using cutting-edge technologies. Within the project\, part
 icipants will collaboratively tackle complex problems by applying principl
 es typical of social beings.\nDetails: https://fb.me/e/6ZVsKPh2i\n\nCo-spo
 nsored by: TNT Robotics Club\n\nSpeaker(s): Todor Ganchev\, \n\nBldg: 21A\
 , str. Eulogi Georgiev \, Varna\, Varna\, Bulgaria\, 9010
LOCATION:Bldg: 21A\, str. Eulogi Georgiev \, Varna\, Varna\, Bulgaria\, 901
 0
ORGANIZER:tganchev@ieee.org
SEQUENCE:1
SUMMARY: Lecture “How to Create a Mind?”
URL;VALUE=URI:https://events.vtools.ieee.org/m/512979
X-ALT-DESC:Description: &lt;br /&gt;&lt;p&gt;Inspirational lecture &amp;ldquo\;How to Creat
 e a Mind?&amp;rdquo\;\, where Prof. Todor Ganchev will officially launch the T
 NT Mind project. This research initiative unites ideas from artificial int
 elligence\, robotics\, and real life. The TNT Robotics Club hosts the lect
 ure.&lt;br&gt;&lt;br&gt;What is TNT Mind?&lt;br&gt;TNT Mind is a joint initiative of the IEE
 E Bulgaria AI-Varna Group and TNT Robotics\, aiming to engage high school 
 and university students in AI research and technology development.&lt;br&gt;The 
 project aims to create a model of intelligence inspired by the processes o
 f living organisms and to demonstrate these mechanisms using cutting-edge 
 technologies. Within the project\, participants will collaboratively tackl
 e complex problems by applying principles typical of social beings.&lt;br&gt;Det
 ails: &lt;a class=&quot;TeLNUecZEHPriuYXxRKtwIMridORtI &quot; tabindex=&quot;0&quot; href=&quot;https:
 //fb.me/e/6ZVsKPh2i&quot; target=&quot;_self&quot; data-test-app-aware-link=&quot;&quot;&gt;https://fb
 .me/e/6ZVsKPh2i&lt;/a&gt;&lt;/p&gt;
END:VEVENT
END:VCALENDAR

