BEGIN:VCALENDAR
VERSION:2.0
PRODID:IEEE vTools.Events//EN
CALSCALE:GREGORIAN
BEGIN:VTIMEZONE
TZID:Asia/Kolkata
BEGIN:STANDARD
DTSTART:19451014T230000
TZOFFSETFROM:+0630
TZOFFSETTO:+0530
TZNAME:IST
END:STANDARD
END:VTIMEZONE
BEGIN:VEVENT
DTSTAMP:20260222T073915Z
UID:54873F50-5926-47AC-83D3-95738FB821F8
DTSTART;TZID=Asia/Kolkata:20251026T090000
DTEND;TZID=Asia/Kolkata:20251026T160000
DESCRIPTION:The Big Bang 2025 – Mega Science Festival was organized by LM
 ES Academy (Chitti) in collaboration with Sri Sairam Engineering College a
 nd Sairam Institutions on 26th October 2025 at the Leo Muthu Indoor Stadiu
 m\, Chennai. The event was designed to inspire scientific curiosity and in
 novation among school students from Grades 1 to 8 through interactive demo
 nstrations\, live experiments\, and hands-on learning activities.\n\nWith 
 around 1200 participants\, the festival aimed to make science engaging and
  accessible by promoting experiential learning beyond textbooks. The colla
 boration between LMES Academy and Sairam Institutions provided a unique pl
 atform combining educational innovation with institutional support.\n\nThe
  IEEE Student Branch of Sri Sairam Engineering College volunteered in the 
 event\, contributing to research and development activities\, stage demons
 trations\, and student engagement initiatives. This experience fostered te
 amwork\, communication\, and creativity among the volunteers.The festival 
 was graced by the leadership of Mr. Sai Prakash Leo Muthu (Chairman &amp; CEO\
 , Sairam Institutions)\, Dr. C.R. Rene Robin (Dean – Innovation)\, Raja 
 J (Principal)\, and Mr. Premanand Sethurajan (Founder\, LMES Academy)\, wh
 ose guidance reinforced the shared vision of promoting experiential STEM e
 ducation.Overall\, Big Bang 2025 successfully provided young learners with
  a vibrant platform to explore science in action\, encouraging innovation\
 , curiosity\, and a passion for discovery.\n\nBldg: Sri Sairam Engineering
  College\, Leo Muthu Stadium\, Chennai\, Tamil Nadu\, India\, 600044
LOCATION:Bldg: Sri Sairam Engineering College\, Leo Muthu Stadium\, Chennai
 \, Tamil Nadu\, India\, 600044
ORGANIZER:secieeesb@sairam.edu.in
SEQUENCE:12
SUMMARY:BigBang 2025 - Mega Science Festival
URL;VALUE=URI:https://events.vtools.ieee.org/m/513274
X-ALT-DESC:Description: &lt;br /&gt;&lt;p data-start=&quot;258&quot; data-end=&quot;703&quot;&gt;The &lt;em da
 ta-start=&quot;262&quot; data-end=&quot;301&quot;&gt;Big Bang 2025 &amp;ndash\; Mega Science Festival
 &lt;/em&gt; was organized by &lt;strong data-start=&quot;319&quot; data-end=&quot;344&quot;&gt;LMES Academ
 y (Chitti)&lt;/strong&gt; in collaboration with &lt;strong data-start=&quot;367&quot; data-en
 d=&quot;401&quot;&gt;Sri Sairam Engineering College&lt;/strong&gt; and &lt;strong data-start=&quot;40
 6&quot; data-end=&quot;429&quot;&gt;Sairam Institutions&lt;/strong&gt; on &lt;strong data-start=&quot;433&quot;
  data-end=&quot;454&quot;&gt;26th October 2025&lt;/strong&gt; at the &lt;strong data-start=&quot;462&quot;
  data-end=&quot;499&quot;&gt;Leo Muthu Indoor Stadium\, Chennai&lt;/strong&gt;. The event was
  designed to inspire scientific curiosity and innovation among school stud
 ents from &lt;strong data-start=&quot;598&quot; data-end=&quot;615&quot;&gt;Grades 1 to 8&lt;/strong&gt; t
 hrough interactive demonstrations\, live experiments\, and hands-on learni
 ng activities.&lt;/p&gt;\n&lt;p data-start=&quot;705&quot; data-end=&quot;1002&quot;&gt;With around &lt;stron
 g data-start=&quot;717&quot; data-end=&quot;738&quot;&gt;1200 participants&lt;/strong&gt;\, the festiva
 l aimed to make science engaging and accessible by promoting experiential 
 learning beyond textbooks. The collaboration between LMES Academy and Sair
 am Institutions provided a unique platform combining educational innovatio
 n with institutional support.&lt;/p&gt;\n&lt;p data-start=&quot;1004&quot; data-end=&quot;1289&quot;&gt;Th
 e &lt;strong data-start=&quot;1008&quot; data-end=&quot;1065&quot;&gt;IEEE Student Branch of Sri Sai
 ram Engineering College&lt;/strong&gt; volunteered in the event\, contributing t
 o research and development activities\, stage demonstrations\, and student
  engagement initiatives. This experience fostered teamwork\, communication
 \, and creativity among the volunteers.The festival was graced by the lead
 ership of &lt;strong data-start=&quot;1336&quot; data-end=&quot;1403&quot;&gt;Mr. Sai Prakash Leo Mu
 thu (Chairman &amp;amp\; CEO\, Sairam Institutions)&lt;/strong&gt;\, &lt;strong data-st
 art=&quot;1405&quot; data-end=&quot;1448&quot;&gt;Dr. C.R. Rene Robin (Dean &amp;ndash\; Innovation)&lt;
 /strong&gt;\, &lt;strong data-start=&quot;1450&quot; data-end=&quot;1472&quot;&gt;Raja J (Principal)&lt;/s
 trong&gt;\, and &lt;strong data-start=&quot;1478&quot; data-end=&quot;1530&quot;&gt;Mr. Premanand Sethu
 rajan (Founder\, LMES Academy)&lt;/strong&gt;\, whose guidance reinforced the sh
 ared vision of promoting experiential STEM education.Overall\, &lt;em data-st
 art=&quot;1630&quot; data-end=&quot;1645&quot;&gt;Big Bang 2025&lt;/em&gt; successfully provided young 
 learners with a vibrant platform to explore science in action\, encouragin
 g innovation\, curiosity\, and a passion for discovery.&lt;/p&gt;\n&lt;p data-start
 =&quot;1004&quot; data-end=&quot;1289&quot;&gt;&amp;nbsp\;&lt;/p&gt;\n&lt;p style=&quot;text-align: center\;&quot; data-
 start=&quot;1004&quot; data-end=&quot;1289&quot;&gt;&lt;img src=&quot;https://events.vtools.ieee.org/vtoo
 ls_ui/media/display/c085d3dd-f2f3-438b-bacd-27b5138a8d95&quot;&gt;&lt;/p&gt;
END:VEVENT
END:VCALENDAR

