BEGIN:VCALENDAR
VERSION:2.0
PRODID:IEEE vTools.Events//EN
CALSCALE:GREGORIAN
BEGIN:VTIMEZONE
TZID:Pacific/Auckland
BEGIN:DAYLIGHT
DTSTART:20250928T030000
TZOFFSETFROM:+1200
TZOFFSETTO:+1300
RRULE:FREQ=YEARLY;BYDAY=-1SU;BYMONTH=9
TZNAME:NZDT
END:DAYLIGHT
BEGIN:STANDARD
DTSTART:20260405T020000
TZOFFSETFROM:+1300
TZOFFSETTO:+1200
RRULE:FREQ=YEARLY;BYDAY=1SU;BYMONTH=4
TZNAME:NZST
END:STANDARD
END:VTIMEZONE
BEGIN:VEVENT
DTSTAMP:20251124T041128Z
UID:B7C7C811-2A9F-44B2-8B56-87498C41A580
DTSTART;TZID=Pacific/Auckland:20251124T100000
DTEND;TZID=Pacific/Auckland:20251124T140000
DESCRIPTION:This is an in-person free event for anyone interested in learni
 ng about autonomous vehicles (AVs) to be delivered by a trainer from indus
 try. It will cover the underlying technologies of AVs\, such as vision and
  LiDAR sensors\, artificial intelligence (AI)\, simultaneous localization 
 and mapping (SLAM)\, path planning and control\, among others\, through gu
 ided hands-on activities using programmable robotic car models. Knowledge 
 of programming is helpful but not compulsory.\n\nAs spaces are limited by 
 the number of AVs available\, priority may be given to those who are IEEE 
 Vehicular Technology Society (VTS) members. If you are already an IEEE Stu
 dent member\, [add VTS membership](https://www.ieee.org/membership-catalog
 /productdetail/showProductDetailPage.html?product=MEMVT006) for just US$1.
 00 to secure your spot in this event!\n\nLight lunch will be provided to p
 articipants. Registration is required.\n\nRoom: WZ118\, Bldg: WZ Building 
 (Ground Level)\, 6 St Paul Street\, AUT City Campus\, Auckland\, North Isl
 and\, New Zealand\, 1010
LOCATION:Room: WZ118\, Bldg: WZ Building (Ground Level)\, 6 St Paul Street\
 , AUT City Campus\, Auckland\, North Island\, New Zealand\, 1010
ORGANIZER:boon-chong.seet@aut.ac.nz
SEQUENCE:45
SUMMARY:Training Workshop on Autonomous Vehicles
URL;VALUE=URI:https://events.vtools.ieee.org/m/513462
X-ALT-DESC:Description: &lt;br /&gt;&lt;p class=&quot;MsoNormal&quot; style=&quot;margin-bottom: 0i
 n\; text-align: justify\; line-height: normal\; layout-grid-mode: char\;&quot;&gt;
 &lt;span lang=&quot;EN-US&quot; style=&quot;font-size: 12.0pt\; mso-ascii-font-family: Calib
 ri\; mso-hansi-font-family: Calibri\; mso-bidi-font-family: Calibri\; colo
 r: #242424\;&quot;&gt;This is an in-person free event for anyone interested in lea
 rning about autonomous vehicles (AVs) &lt;span style=&quot;letter-spacing: -.2pt\;
 &quot;&gt;to be delivered by a trainer from industry. It will cover the underlying
  technologies of AVs\, such as vision and LiDAR sensors\, artificial intel
 ligence (AI)\, simultaneous localization and mapping (SLAM)\,&lt;/span&gt; &lt;span
  style=&quot;letter-spacing: -.2pt\;&quot;&gt;path planning and control\, among others\
 , through guided hands-on activities using programmable&lt;/span&gt; robotic car
  models. Knowledge of programming is helpful but not compulsory.&lt;/span&gt;&lt;sp
 an lang=&quot;EN-US&quot;&gt;&amp;nbsp\;&lt;/span&gt;&lt;/p&gt;\n&lt;p class=&quot;MsoNormal&quot; style=&quot;margin-bot
 tom: 0in\; text-align: justify\; line-height: normal\; layout-grid-mode: c
 har\;&quot;&gt;&amp;nbsp\;&lt;/p&gt;\n&lt;p class=&quot;MsoNormal&quot; style=&quot;margin-bottom: 0in\; text-
 align: justify\; line-height: normal\; layout-grid-mode: char\;&quot;&gt;&lt;span lan
 g=&quot;EN-US&quot; style=&quot;font-size: 12.0pt\; mso-ascii-font-family: Calibri\; mso-
 hansi-font-family: Calibri\; mso-bidi-font-family: Calibri\; color: #24242
 4\; letter-spacing: -.1pt\;&quot;&gt;As spaces&lt;/span&gt;&lt;span lang=&quot;EN-US&quot; style=&quot;fon
 t-size: 12.0pt\; mso-ascii-font-family: Calibri\; mso-hansi-font-family: C
 alibri\; mso-bidi-font-family: Calibri\; color: #242424\;&quot;&gt; are limited by
  the number of AVs available\, priority may be given to those who are IEEE
  Vehicular Technology Society (VTS) members. If you are already an IEEE St
 udent member\, &lt;a href=&quot;https://www.ieee.org/membership-catalog/productdet
 ail/showProductDetailPage.html?product=MEMVT006&quot;&gt;add VTS membership&lt;/a&gt; fo
 r just US$1.00 to secure your spot in this event!&lt;/span&gt;&lt;/p&gt;\n&lt;p class=&quot;Ms
 oNormal&quot; style=&quot;margin-bottom: 0in\; text-align: justify\; line-height: no
 rmal\; layout-grid-mode: char\;&quot;&gt;&amp;nbsp\;&lt;/p&gt;\n&lt;p class=&quot;MsoNormal&quot; style=&quot;
 margin-bottom: 0in\; text-align: justify\; line-height: normal\; layout-gr
 id-mode: char\;&quot;&gt;&lt;span lang=&quot;EN-US&quot; style=&quot;font-size: 12.0pt\; mso-ascii-f
 ont-family: Calibri\; mso-hansi-font-family: Calibri\; mso-bidi-font-famil
 y: Calibri\; color: #242424\;&quot;&gt;Light lunch will be provided to participant
 s. Registration is required.&lt;/span&gt;&lt;/p&gt;
END:VEVENT
END:VCALENDAR

