BEGIN:VCALENDAR
VERSION:2.0
PRODID:IEEE vTools.Events//EN
CALSCALE:GREGORIAN
BEGIN:VTIMEZONE
TZID:America/New_York
BEGIN:DAYLIGHT
DTSTART:20260308T030000
TZOFFSETFROM:-0500
TZOFFSETTO:-0400
RRULE:FREQ=YEARLY;BYDAY=2SU;BYMONTH=3
TZNAME:EDT
END:DAYLIGHT
BEGIN:STANDARD
DTSTART:20251102T010000
TZOFFSETFROM:-0400
TZOFFSETTO:-0500
RRULE:FREQ=YEARLY;BYDAY=1SU;BYMONTH=11
TZNAME:EST
END:STANDARD
END:VTIMEZONE
BEGIN:VEVENT
DTSTAMP:20251210T014759Z
UID:6AC7F7AB-F4C8-4A7F-83DC-7F5D8F39605F
DTSTART;TZID=America/New_York:20251125T123000
DTEND;TZID=America/New_York:20251125T140000
DESCRIPTION:Talk Summary:\n\nThe evolution of the electric grid toward high
 er penetration of inverter-based resources (IBRs)\, renewable generation\,
  and distributed assets has increased the need for accurate modeling and v
 alidation techniques. This presentation introduces the New York Power Auth
 ority’s Advanced Grid Innovation Lab for Energy (AGILe) - a state-of-the
 -art facility enabling real-time simulation and testing of emerging grid t
 echnologies. The talk begins with an overview of NYPA’s innovation initi
 atives and AGILe’s mission\, followed by a technical discussion of the f
 oundations of electromagnetic transient (EMT) simulation\, real-time simul
 ation (RTS)\, and hardware-in-the-loop (HIL) testing. These methods bridge
  the gap between analytical models and field deployment\, allowing utiliti
 es to evaluate control strategies\, validate protection systems\, and de-r
 isk integration of new devices before they are connected to the actual gri
 d. The session concludes with practical examples demonstrating how such ad
 vanced testing environments accelerate research\, improve reliability\, an
 d support the transition toward a cleaner\, more resilient power system.\n
 \nSpeaker(s): Reza\n\nAgenda: \n- 12:15 pm - Pizza\n- 12:30 - 01:30 pm: Pr
 esentation\n- 01:30 - 02:00 pm: Q&amp;A with audience\n\nHow to get to the eve
 nt location?\n\nGPS location:\n\n85 Murray Hill Rd\,\n\nVestal\, NY 13850\
 n\nParking: Metered parking available ($1.5/hour) in front of the building
 \n\nRoom: ES 2008\, Bldg: Engineering &amp; Science Building\, 85 Murray Hill 
 Rd\, Vestal\, New York\, United States\, 13850
LOCATION:Room: ES 2008\, Bldg: Engineering &amp; Science Building\, 85 Murray H
 ill Rd\, Vestal\, New York\, United States\, 13850
ORGANIZER:mhasan21@binghamton.edu
SEQUENCE:50
SUMMARY:Binghamton Power &amp; Energy Seminar Series: Advancing Power System In
 novation through Real-Time Simulations &amp; Hardware-in-the-Loop Testing
URL;VALUE=URI:https://events.vtools.ieee.org/m/513653
X-ALT-DESC:Description: &lt;br /&gt;&lt;p&gt;&lt;strong&gt;Talk Summary:&amp;nbsp\;&lt;/strong&gt;&lt;/p&gt;\
 n&lt;p style=&quot;padding-left: 40px\;&quot;&gt;The evolution of the electric grid toward
  higher penetration of inverter-based resources (IBRs)\, renewable generat
 ion\, and distributed assets has increased the need for accurate modeling 
 and validation techniques. This presentation introduces the New York Power
  Authority&amp;rsquo\;s Advanced Grid Innovation Lab for Energy (AGILe) - a st
 ate-of-the-art facility enabling real-time simulation and testing of emerg
 ing grid technologies. The talk begins with an overview of NYPA&amp;rsquo\;s i
 nnovation initiatives and AGILe&amp;rsquo\;s mission\, followed by a technical
  discussion of the foundations of electromagnetic transient (EMT) simulati
 on\, real-time simulation (RTS)\, and hardware-in-the-loop (HIL) testing. 
 These methods bridge the gap between analytical models and field deploymen
 t\, allowing utilities to evaluate control strategies\, validate protectio
 n systems\, and de-risk integration of new devices before they are connect
 ed to the actual grid. The session concludes with practical examples demon
 strating how such advanced testing environments accelerate research\, impr
 ove reliability\, and support the transition toward a cleaner\, more resil
 ient power system.&lt;/p&gt;\n&lt;p&gt;&amp;nbsp\;&lt;/p&gt;&lt;br /&gt;&lt;br /&gt;Agenda: &lt;br /&gt;&lt;ul&gt;\n&lt;li&gt;
 12:15 pm - Pizza&lt;/li&gt;\n&lt;li class=&quot;MsoNormal&quot;&gt;12:30 - 01:30 pm: Presentatio
 n&lt;/li&gt;\n&lt;li class=&quot;MsoNormal&quot;&gt;01:30 - 02:00 pm: Q&amp;amp\;A with audience&lt;/li
 &gt;\n&lt;/ul&gt;\n&lt;p&gt;&lt;strong&gt;&lt;span style=&quot;color: rgb(224\, 62\, 45)\;&quot;&gt;How to get 
 to the event location?&lt;/span&gt;&lt;/strong&gt;&lt;/p&gt;\n&lt;p&gt;GPS location:&lt;/p&gt;\n&lt;p&gt;85 Mu
 rray Hill Rd\,&lt;/p&gt;\n&lt;p&gt;Vestal\, NY 13850&lt;/p&gt;\n&lt;p&gt;&amp;nbsp\;&lt;/p&gt;\n&lt;p&gt;Parking: 
 Metered parking available ($1.5/hour) in front of the building&amp;nbsp\;&lt;/p&gt;
END:VEVENT
END:VCALENDAR

