BEGIN:VCALENDAR
VERSION:2.0
PRODID:IEEE vTools.Events//EN
CALSCALE:GREGORIAN
BEGIN:VTIMEZONE
TZID:America/Los_Angeles
BEGIN:DAYLIGHT
DTSTART:20260308T030000
TZOFFSETFROM:-0800
TZOFFSETTO:-0700
RRULE:FREQ=YEARLY;BYDAY=2SU;BYMONTH=3
TZNAME:PDT
END:DAYLIGHT
BEGIN:STANDARD
DTSTART:20251102T010000
TZOFFSETFROM:-0700
TZOFFSETTO:-0800
RRULE:FREQ=YEARLY;BYDAY=1SU;BYMONTH=11
TZNAME:PST
END:STANDARD
END:VTIMEZONE
BEGIN:VEVENT
DTSTAMP:20251216T222335Z
UID:87CB8B72-1E1D-4DC2-91FD-0EAF3A26EC78
DTSTART;TZID=America/Los_Angeles:20251213T153000
DTEND;TZID=America/Los_Angeles:20251213T180000
DESCRIPTION:Please join us for the 2025 Oregon Section Chapter Chairs Award
 s Dinner\n\nChairs are welcome to attend with one guest or send a represen
 tative for your chapter.\n\n!Please limit to only Oregon Chapter Chairs an
 d their guest!\n\nDinner reservation is at 4:00 pm at the Lake Oswego Gril
 le in Beaverton\n\n3211 SW Cedar Hills Blvd\, Beaverton\, OR 97005\n\nCost
  will be covered by the Section\, Thank You for volunteering your time all
  year.\n\nChoose your Dinner entree from the 4 options or let us know if y
 ou have other dietary needs to accommodate prior to the dinner.\n\nCo-spon
 sored by: Sohrab Aftabjahani\, IEEE Oregon CS Chair \n\nAgenda: \n3:30 - A
 rrive early for drinks\n\n4:00 - Dinner reservation\n\n5:00 ish - Chapter 
 awards presented\n\n 3211 SW Cedar Hills Blvd\, Beaveront\, Oregon\, Unite
 d States\, 97005
LOCATION: 3211 SW Cedar Hills Blvd\, Beaveront\, Oregon\, United States\, 9
 7005
ORGANIZER:silverdave01@gmail.com
SEQUENCE:37
SUMMARY:2025 Oregon Section Chapter Awards Banquet
URL;VALUE=URI:https://events.vtools.ieee.org/m/513736
X-ALT-DESC:Description: &lt;br /&gt;&lt;p&gt;Please join us for the 2025 Oregon Section
  Chapter Chairs Awards Dinner&lt;/p&gt;\n&lt;p&gt;Chairs are welcome to attend with on
 e guest or send a representative for your chapter.&lt;/p&gt;\n&lt;p&gt;!Please limit t
 o only Oregon Chapter Chairs and their guest!&lt;/p&gt;\n&lt;p&gt;Dinner reservation i
 s at 4:00 pm at the Lake Oswego Grille in &lt;strong&gt;Beaverton&lt;/strong&gt;&lt;/p&gt;\n
 &lt;p&gt;3211 SW Cedar Hills Blvd\, Beaverton\, OR 97005&lt;/p&gt;\n&lt;p&gt;Cost will be co
 vered by the Section\, Thank You for volunteering your time all year.&lt;/p&gt;\
 n&lt;p&gt;Choose your Dinner entree from the 4 options or let us know if you hav
 e other dietary needs to accommodate prior to the dinner.&lt;/p&gt;&lt;br /&gt;&lt;br /&gt;A
 genda: &lt;br /&gt;&lt;p&gt;3:30 - Arrive early for drinks&lt;/p&gt;\n&lt;p&gt;4:00 - Dinner reser
 vation&lt;/p&gt;\n&lt;p&gt;5:00 ish - Chapter awards presented&lt;/p&gt;
END:VEVENT
END:VCALENDAR

