BEGIN:VCALENDAR
VERSION:2.0
PRODID:IEEE vTools.Events//EN
CALSCALE:GREGORIAN
BEGIN:VTIMEZONE
TZID:America/Los_Angeles
BEGIN:DAYLIGHT
DTSTART:20260308T030000
TZOFFSETFROM:-0800
TZOFFSETTO:-0700
RRULE:FREQ=YEARLY;BYDAY=2SU;BYMONTH=3
TZNAME:PDT
END:DAYLIGHT
BEGIN:STANDARD
DTSTART:20251102T010000
TZOFFSETFROM:-0700
TZOFFSETTO:-0800
RRULE:FREQ=YEARLY;BYDAY=1SU;BYMONTH=11
TZNAME:PST
END:STANDARD
END:VTIMEZONE
BEGIN:VEVENT
DTSTAMP:20251210T041052Z
UID:94687CB2-6E04-433F-92A4-598E365AA034
DTSTART;TZID=America/Los_Angeles:20251125T110000
DTEND;TZID=America/Los_Angeles:20251125T130000
DESCRIPTION:Come join our multi-club Thanksgiving-themed potluck event in U
 rsa Major and celebrate Thanksgiving with us! This will be a great opportu
 nity to unwind before finals and meet your fellow engineering students!\n\
 nRoom: 2611A/B\, Bldg: 35\, 3801 W Temple Ave\, Pomona\, California\, Unit
 ed States\, 91768
LOCATION:Room: 2611A/B\, Bldg: 35\, 3801 W Temple Ave\, Pomona\, California
 \, United States\, 91768
ORGANIZER:lui@cpp.edu
SEQUENCE:8
SUMMARY:Friendsgiving 2025
URL;VALUE=URI:https://events.vtools.ieee.org/m/513778
X-ALT-DESC:Description: &lt;br /&gt;&lt;p&gt;Come join our multi-club Thanksgiving-them
 ed potluck event in Ursa Major and celebrate Thanksgiving with us! This wi
 ll be a great opportunity to unwind before finals and meet your fellow eng
 ineering students!&lt;/p&gt;
END:VEVENT
END:VCALENDAR

