BEGIN:VCALENDAR
VERSION:2.0
PRODID:IEEE vTools.Events//EN
CALSCALE:GREGORIAN
BEGIN:VTIMEZONE
TZID:Europe/Istanbul
BEGIN:DAYLIGHT
DTSTART:20380119T061407
TZOFFSETFROM:+0300
TZOFFSETTO:+0300
RRULE:FREQ=YEARLY;BYDAY=3TU;BYMONTH=1
TZNAME:+03
END:DAYLIGHT
BEGIN:STANDARD
DTSTART:20160907T000000
TZOFFSETFROM:+0300
TZOFFSETTO:+0300
RRULE:FREQ=YEARLY;BYDAY=1WE;BYMONTH=9
TZNAME:+03
END:STANDARD
END:VTIMEZONE
BEGIN:VEVENT
DTSTAMP:20251120T053027Z
UID:F9BB67B4-BBDA-481F-A9B4-4CBF6D9E17AF
DTSTART;TZID=Europe/Istanbul:20251117T140000
DTEND;TZID=Europe/Istanbul:20251117T150000
DESCRIPTION:Counselor meeting with branch members to set 2026 plan and esta
 blish sub-committees.\n\nCo-sponsored by: Jordan section\n\nRoom: 9229\, B
 ldg: 9\, Applied Science University Jordan\, Amman\, Jordan\, Jordan\, 119
 31
LOCATION:Room: 9229\, Bldg: 9\, Applied Science University Jordan\, Amman\,
  Jordan\, Jordan\, 11931
ORGANIZER:nasser_abdellatif@asu.edu.jo
SEQUENCE:8
SUMMARY:Counselor meeting with branch members 
URL;VALUE=URI:https://events.vtools.ieee.org/m/514044
X-ALT-DESC:Description: &lt;br /&gt;&lt;p&gt;Counselor meeting with branch members to s
 et 2026 plan and establish sub-committees.&lt;/p&gt;
END:VEVENT
END:VCALENDAR

