BEGIN:VCALENDAR
VERSION:2.0
PRODID:IEEE vTools.Events//EN
CALSCALE:GREGORIAN
BEGIN:VTIMEZONE
TZID:America/Lima
BEGIN:DAYLIGHT
DTSTART:20380118T221407
TZOFFSETFROM:-0500
TZOFFSETTO:-0500
RRULE:FREQ=YEARLY;BYDAY=3MO;BYMONTH=1
TZNAME:-05
END:DAYLIGHT
BEGIN:STANDARD
DTSTART:19940331T230000
TZOFFSETFROM:-0400
TZOFFSETTO:-0500
RRULE:FREQ=YEARLY;BYDAY=-1TH;BYMONTH=3
TZNAME:-05
END:STANDARD
END:VTIMEZONE
BEGIN:VEVENT
DTSTAMP:20251201T184848Z
UID:87FBDA07-C2AE-44B6-B1A3-0D99798566CB
DTSTART;TZID=America/Lima:20251117T090000
DTEND;TZID=America/Lima:20251118T140000
DESCRIPTION:El Capítulo IEEE RAS UNP realizara su primera movilidad intern
 acional denominada RAS Tour 2025\, visitando la Escuela Superior Politécn
 ica del Litoral – Guayaquil en Ecuador. El objetivo fue fortalecer la vi
 nculación internacional\, realizar visitas técnicas a laboratorios de ro
 bótica y automatización\, y coordinar actividades conjuntas con las rama
 s estudiantiles IEEE de ambas instituciones. Participan 16 miembros y 2 do
 centes asesores\, representando oficialmente a la Universidad Nacional de 
 Piura.\n\nAvenida Principal de la ESPOL\, Guayaquil\, Ecuador\, Guayaquil\
 , Guayas\, Ecuador
LOCATION:Avenida Principal de la ESPOL\, Guayaquil\, Ecuador\, Guayaquil\, 
 Guayas\, Ecuador
ORGANIZER:rony.luis.theodore09@gmail.com
SEQUENCE:18
SUMMARY:RAS Tour 2025 (ESPOL) – Ecuador 🇪🇨
URL;VALUE=URI:https://events.vtools.ieee.org/m/514305
X-ALT-DESC:Description: &lt;br /&gt;&lt;p&gt;El &lt;strong data-start=&quot;3836&quot; data-end=&quot;386
 1&quot;&gt;Cap&amp;iacute\;tulo IEEE RAS UNP&lt;/strong&gt; realizara su primera movilidad i
 nternacional denominada&amp;nbsp\;&lt;strong data-start=&quot;3916&quot; data-end=&quot;3933&quot;&gt;RA
 S Tour 2025&lt;/strong&gt;\, visitando la&amp;nbsp\;&lt;strong&gt;&lt;span style=&quot;font-size: 
 12pt\;&quot;&gt;Escuela Superior Polit&amp;eacute\;cnica del Litoral &lt;/span&gt;&lt;/strong&gt;&lt;
 strong data-start=&quot;3963&quot; data-end=&quot;3979&quot;&gt;&amp;ndash\; Guayaquil&lt;/strong&gt;&amp;nbsp\
 ;en Ecuador. El objetivo fue fortalecer la vinculaci&amp;oacute\;n internacion
 al\, realizar visitas t&amp;eacute\;cnicas a laboratorios de rob&amp;oacute\;tica 
 y automatizaci&amp;oacute\;n\, y coordinar actividades conjuntas con las ramas
  estudiantiles IEEE de ambas instituciones. Participan 16 miembros y 2 doc
 entes asesores\, representando oficialmente a la &lt;strong data-start=&quot;4315&quot;
  data-end=&quot;4348&quot;&gt;Universidad Nacional de Piura&lt;/strong&gt;.&lt;/p&gt;
END:VEVENT
END:VCALENDAR

