BEGIN:VCALENDAR
VERSION:2.0
PRODID:IEEE vTools.Events//EN
CALSCALE:GREGORIAN
BEGIN:VTIMEZONE
TZID:America/New_York
BEGIN:DAYLIGHT
DTSTART:20260308T030000
TZOFFSETFROM:-0500
TZOFFSETTO:-0400
RRULE:FREQ=YEARLY;BYDAY=2SU;BYMONTH=3
TZNAME:EDT
END:DAYLIGHT
BEGIN:STANDARD
DTSTART:20251102T010000
TZOFFSETFROM:-0400
TZOFFSETTO:-0500
RRULE:FREQ=YEARLY;BYDAY=1SU;BYMONTH=11
TZNAME:EST
END:STANDARD
END:VTIMEZONE
BEGIN:VEVENT
DTSTAMP:20251120T165734Z
UID:81BA9BEF-671A-4F24-AF3C-BA4241884E41
DTSTART;TZID=America/New_York:20251119T110000
DTEND;TZID=America/New_York:20251119T120000
DESCRIPTION:WE20041 - WIE officers will hold the Qtrly officers&#39; luncheon/ 
 working meeting at 11 am on Wednesday Nov. 19th\, 2025\, at the Petals and
  Pour restaurant in Linwood\, NJ. All WE20041 members are welcome to join.
  If you wish to attend\, contact the WIE Chair Lauire at LDobbs@ieee.org.\
 n\nAgenda: \n- Review completed events\, discuss event opportunities for t
 he following year\n- Discussion on Membership drives held in 2025 and poss
 ibility of future events\n- Upcoming AVstem/STEM opportunities\n- WIE fina
 nces and 2026 involvement in community STEM activities\n\nBldg: 12\, 199 n
 ew rd \, linwood \, New Jersey\, United States\, 08221
LOCATION:Bldg: 12\, 199 new rd \, linwood \, New Jersey\, United States\, 0
 8221
ORGANIZER:ldobbs@ieee.org
SEQUENCE:46
SUMMARY:WE20041 - WIE officers quarterly mtg 
URL;VALUE=URI:https://events.vtools.ieee.org/m/514410
X-ALT-DESC:Description: &lt;br /&gt;&lt;p&gt;WE20041 - WIE officers will hold the&amp;nbsp\
 ; Qtrly officers&#39; luncheon/ working meeting at 11 am on Wednesday Nov. 19t
 h\, 2025\, at the Petals and Pour restaurant in Linwood\, NJ.&amp;nbsp\; All W
 E20041 members are welcome to join.&amp;nbsp\; If you wish to attend\, contact
  the WIE Chair Lauire at &lt;a href=&quot;mailto:LDobbs@ieee.org&quot;&gt;LDobbs@ieee.org&lt;
 /a&gt;.&amp;nbsp\;&lt;/p&gt;&lt;br /&gt;&lt;br /&gt;Agenda: &lt;br /&gt;&lt;ul&gt;\n&lt;li&gt;Review completed events
 \, discuss event opportunities for the following year&lt;/li&gt;\n&lt;li&gt;Discussion
  on Membership drives held in 2025 and possibility of future events&lt;/li&gt;\n
 &lt;li&gt;Upcoming AVstem/STEM opportunities&amp;nbsp\;&lt;/li&gt;\n&lt;li&gt;WIE finances and 2
 026 involvement in community STEM activities&amp;nbsp\;&lt;/li&gt;\n&lt;/ul&gt;\n&lt;p&gt;&amp;nbsp\
 ;&lt;/p&gt;\n&lt;p&gt;&amp;nbsp\;&lt;/p&gt;
END:VEVENT
END:VCALENDAR

