BEGIN:VCALENDAR
VERSION:2.0
PRODID:IEEE vTools.Events//EN
CALSCALE:GREGORIAN
BEGIN:VTIMEZONE
TZID:Europe/Berlin
BEGIN:DAYLIGHT
DTSTART:20260329T030000
TZOFFSETFROM:+0100
TZOFFSETTO:+0200
RRULE:FREQ=YEARLY;BYDAY=-1SU;BYMONTH=3
TZNAME:CEST
END:DAYLIGHT
BEGIN:STANDARD
DTSTART:20251026T020000
TZOFFSETFROM:+0200
TZOFFSETTO:+0100
RRULE:FREQ=YEARLY;BYDAY=-1SU;BYMONTH=10
TZNAME:CET
END:STANDARD
END:VTIMEZONE
BEGIN:VEVENT
DTSTAMP:20251208T164454Z
UID:38B4CA96-3714-4D18-9054-61F155B04C4D
DTSTART;TZID=Europe/Berlin:20251207T180000
DTEND;TZID=Europe/Berlin:20251207T193000
DESCRIPTION:Information technologies have been driving major changes in alm
 ost every sphere of life for decades. The development of these technologie
 s is constantly accelerating and innovations are catching up with each oth
 er faster than ever before. The slowdown of Moore&#39;s law has not yet had a 
 particularly negative impact on the further development of traditional gen
 eral and special-purpose processors\, or classical computing. We are witne
 ssing the breakneck dynamics of the development of artificial intelligence
 \, which has the potential to change the way we work and live. Quantum com
 puters are no longer just theoretical considerations\, but concrete comput
 er systems that we can already try out.\n\nWhat this means for IT professi
 onals and business leaders\, and how to prepare for a time when these IT d
 evelopment directions are even converging\, is the topic of the lecture: &quot;
 The Future of Information Technologies&quot;.\n\nSpeaker(s): Namik Hrle\n\nVirt
 ual: https://events.vtools.ieee.org/m/514434
LOCATION:Virtual: https://events.vtools.ieee.org/m/514434
ORGANIZER:mbhattac@gmx.de
SEQUENCE:23
SUMMARY:Webinar: The Future of Information Technologies
URL;VALUE=URI:https://events.vtools.ieee.org/m/514434
X-ALT-DESC:Description: &lt;br /&gt;&lt;p class=&quot;MsoNormal&quot;&gt;&lt;span lang=&quot;EN-US&quot;&gt;Infor
 mation technologies have been driving major changes in almost every sphere
  of life for decades. The development of these technologies is constantly 
 accelerating and innovations are catching up with each other faster than e
 ver before. The slowdown of Moore&#39;s law has not yet had a particularly neg
 ative impact on the further development of traditional general and special
 -purpose processors\, or classical computing. We are witnessing the breakn
 eck dynamics of the development of artificial intelligence\, which has the
  potential to change the way we work and live. Quantum computers are no lo
 nger just theoretical considerations\, but concrete computer systems that 
 we can already try out.&lt;/span&gt;&lt;/p&gt;\n&lt;p&gt;&lt;span lang=&quot;EN-US&quot; style=&quot;font-size
 : 12.0pt\; line-height: 115%\; font-family: &#39;Aptos&#39;\,sans-serif\; mso-asci
 i-theme-font: minor-latin\; mso-fareast-font-family: Aptos\; mso-fareast-t
 heme-font: minor-latin\; mso-hansi-theme-font: minor-latin\; mso-bidi-font
 -family: &#39;Times New Roman&#39;\; mso-bidi-theme-font: minor-bidi\; mso-ansi-la
 nguage: EN-US\; mso-fareast-language: EN-US\; mso-bidi-language: AR-SA\;&quot;&gt;
 What this means for IT professionals and business leaders\, and how to pre
 pare for a time when these IT development directions are even converging\,
  is the topic of the lecture: &quot;The Future of Information Technologies&quot;.&lt;/s
 pan&gt;&lt;/p&gt;
END:VEVENT
END:VCALENDAR

