BEGIN:VCALENDAR
VERSION:2.0
PRODID:IEEE vTools.Events//EN
CALSCALE:GREGORIAN
BEGIN:VTIMEZONE
TZID:Europe/Amsterdam
BEGIN:DAYLIGHT
DTSTART:20260329T030000
TZOFFSETFROM:+0100
TZOFFSETTO:+0200
RRULE:FREQ=YEARLY;BYDAY=-1SU;BYMONTH=3
TZNAME:CEST
END:DAYLIGHT
BEGIN:STANDARD
DTSTART:20251026T020000
TZOFFSETFROM:+0200
TZOFFSETTO:+0100
RRULE:FREQ=YEARLY;BYDAY=-1SU;BYMONTH=10
TZNAME:CET
END:STANDARD
END:VTIMEZONE
BEGIN:VEVENT
DTSTAMP:20251126T151022Z
UID:6823CFF6-7424-48B8-ADA3-AB9477E99008
DTSTART;TZID=Europe/Amsterdam:20251126T143000
DTEND;TZID=Europe/Amsterdam:20251126T153000
DESCRIPTION:--Technical Webinar Series by IEEE Benelux Section Transportati
 on Electrification Council Chapter--\n\nTopic: Turboprop Aircraft Electrif
 ication - from Mild Hybridisation to Electric Propulsion\n\nSpeaker: Dr. T
 ao Yang\, Full Professor\, University of Nottingham\, UK\n\nBio:\n\nDr. Ta
 o Yang is a full professor of aerospace electrical systems at the Power El
 ectronics\, Machines\, and Control Institute within the University of Nott
 ingham\, UK\, and a leading global expert in aviation electrification. His
  pioneering work in power electronic systems and high-speed motor drives f
 or next-generation aircraft has led to impactful collaborations with indus
 try leaders like Safran\, Leonardo Aircraft\, and Dassault Aviation. Dr. Y
 ang&#39;s contributions are extensive and influential with over 120 peer-revie
 wed journal and conference papers and five book chapters.\n\nDr. Yang is a
 n esteemed Industrial Fellow of the Royal Academy of Engineering and an IE
 T Fellow. He is also a very active IEEE member. As the Chair of Technical 
 Committee on Aerospace Power in IEEE Power Electronics Society and the Ina
 ugural Chair of Technical Committee on Emerging Technologies for Transport
 ation in the IEEE Transportation Electrification Council\, Dr. Yang plays 
 a key role in shaping the future of aerospace power electronics and digita
 l twinning for transportation electrification. He also contributes to indu
 stry standards as an SAE AE-7M Standards Committee member.\n\nSUMMARY:\n\n
 In this talk\, Dr. Yang will present the latest research advancements from
  his team on aviation electrification\, with a focus on contributions with
 in the EU CleanSky &amp; Clean Aviation programme. The discussion will span cu
 tting-edge developments\, from high-speed integrated motor drive systems f
 or a turboprop engine mild-hybridisation to development of MW-level electr
 ical propulsion. Emphasising key technological breakthroughs\, challenges\
 , and future directions\, this talk will provide insights into how these i
 nnovations shape the next generation of sustainable aviation.\n\nContact: 
 Dr. Zian Qin\, IEEE Benelux TEC Chair\, z.qin-2@tudelft.nl\n\nVirtual: htt
 ps://events.vtools.ieee.org/m/514647
LOCATION:Virtual: https://events.vtools.ieee.org/m/514647
ORGANIZER:z.qin-2@tudelft.nl
SEQUENCE:23
SUMMARY:Turboprop Aircraft Electrification - from Mild Hybridisation to Ele
 ctric Propulsion
URL;VALUE=URI:https://events.vtools.ieee.org/m/514647
X-ALT-DESC:Description: &lt;br /&gt;&lt;p class=&quot;MsoNormal&quot;&gt;&lt;strong&gt;--Technical Webi
 nar Series by IEEE Benelux Section Transportation Electrification Council 
 Chapter--&lt;/strong&gt;&lt;/p&gt;\n&lt;p class=&quot;MsoNormal&quot;&gt;&lt;strong&gt;Topic: Turboprop Airc
 raft Electrification - from Mild Hybridisation to Electric Propulsion&lt;/str
 ong&gt;&lt;/p&gt;\n&lt;p class=&quot;MsoNormal&quot;&gt;&lt;strong&gt;Speaker: Dr. Tao Yang&lt;span lang=&quot;EN
 -US&quot;&gt;\, Full Professor\, University of Nottingham\, UK&lt;/span&gt;&lt;/strong&gt;&lt;/p&gt;
 \n&lt;p class=&quot;MsoNormal&quot;&gt;&lt;span lang=&quot;EN-GB&quot;&gt;&lt;img src=&quot;https://events.vtools.
 ieee.org/vtools_ui/media/display/d1e3e6ca-ab8f-489c-890b-fecc7dba4f5e&quot; wid
 th=&quot;172&quot; height=&quot;215&quot;&gt;&lt;/span&gt;&lt;/p&gt;\n&lt;p class=&quot;MsoNormal&quot;&gt;&lt;span lang=&quot;EN-GB&quot;
 &gt;&lt;strong&gt;Bio:&lt;/strong&gt;&amp;nbsp\;&lt;/span&gt;&lt;/p&gt;\n&lt;p class=&quot;MsoNormal&quot;&gt;Dr. Tao Yan
 g is a full professor of aerospace electrical systems at the Power Electro
 nics\, Machines\, and Control Institute within the University of Nottingha
 m\, UK\, and a leading global expert in aviation electrification. His pion
 eering work in power electronic systems and high-speed motor drives for ne
 xt-generation aircraft has led to impactful collaborations with industry l
 eaders like Safran\, Leonardo Aircraft\, and Dassault Aviation. Dr. Yang&#39;s
  contributions are extensive and influential with over 120 peer-reviewed j
 ournal and conference papers and five book chapters.&lt;/p&gt;\n&lt;p class=&quot;MsoNor
 mal&quot;&gt;Dr. Yang is an esteemed Industrial Fellow of the Royal Academy of Eng
 ineering and an IET Fellow. He is also a very active IEEE member. As the&amp;n
 bsp\;&lt;strong&gt;Chair of Technical Committee on Aerospace Power&lt;/strong&gt;&amp;nbsp
 \;in IEEE Power Electronics Society and the Inaugural &lt;strong&gt;Chair of Tec
 hnical Committee on Emerging Technologies for Transportation&lt;/strong&gt; in t
 he IEEE Transportation Electrification Council\, Dr. Yang plays a key role
  in shaping the future of aerospace power electronics and digital twinning
  for transportation electrification. He also contributes to industry stand
 ards as an SAE AE-7M Standards Committee member.&lt;/p&gt;\n&lt;p class=&quot;MsoNormal&quot;
 &gt;&lt;strong&gt;&lt;span lang=&quot;EN-GB&quot;&gt;SUMMARY&lt;/span&gt;&lt;/strong&gt;&lt;span lang=&quot;EN-GB&quot;&gt;:&amp;nb
 sp\;&lt;/span&gt;&lt;/p&gt;\n&lt;p class=&quot;MsoNormal&quot;&gt;In this talk\, Dr. Yang will present
  the latest research advancements from his team on aviation electrificatio
 n\, with a focus on contributions within the EU CleanSky &amp;amp\; Clean Avia
 tion programme. The discussion will span cutting-edge developments\, from 
 high-speed integrated motor drive systems for a turboprop engine mild-hybr
 idisation to development of MW-level electrical propulsion. Emphasising ke
 y technological breakthroughs\, challenges\, and future directions\, this 
 talk will provide insights into how these innovations shape the next gener
 ation of sustainable aviation.&lt;/p&gt;\n&lt;p class=&quot;MsoNormal&quot;&gt;&lt;strong&gt;Contact:&amp;
 nbsp\;&lt;/strong&gt;Dr. Zian Qin\, IEEE Benelux TEC Chair\, z.qin-2@tudelft.nl&lt;
 /p&gt;
END:VEVENT
END:VCALENDAR

