BEGIN:VCALENDAR
VERSION:2.0
PRODID:IEEE vTools.Events//EN
CALSCALE:GREGORIAN
BEGIN:VTIMEZONE
TZID:America/Bogota
BEGIN:DAYLIGHT
DTSTART:20380118T221407
TZOFFSETFROM:-0500
TZOFFSETTO:-0500
RRULE:FREQ=YEARLY;BYDAY=3MO;BYMONTH=1
TZNAME:-05
END:DAYLIGHT
BEGIN:STANDARD
DTSTART:19930206T230000
TZOFFSETFROM:-0400
TZOFFSETTO:-0500
RRULE:FREQ=YEARLY;BYDAY=1SA;BYMONTH=2
TZNAME:-05
END:STANDARD
END:VTIMEZONE
BEGIN:VEVENT
DTSTAMP:20251221T020351Z
UID:A23D0A24-7FEA-4385-8BDE-A6D954BE8441
DTSTART;TZID=America/Bogota:20251217T180000
DTEND;TZID=America/Bogota:20251217T203000
DESCRIPTION:IEEE Jamaica Section Social.\n\nAll members are expected to att
 end.\n\nCo-sponsored by: IEEE Jamaica  Section\n\nRoom: Conference Room\, 
 Bldg: Mona Campus\, School of Engineering (SOE) Conference Room\, Kingston
 \, Kingston\, Jamaica\, +1876
LOCATION:Room: Conference Room\, Bldg: Mona Campus\, School of Engineering 
 (SOE) Conference Room\, Kingston\, Kingston\, Jamaica\, +1876
ORGANIZER:udeaghac@gmail.com
SEQUENCE:22
SUMMARY:&quot;IEEE Jamaica Section Social Wednesday 17 December 2025 @ SOE Confe
 rence Room&quot; 
URL;VALUE=URI:https://events.vtools.ieee.org/m/515138
X-ALT-DESC:Description: &lt;br /&gt;&lt;p&gt;IEEE Jamaica Section Social.&lt;/p&gt;\n&lt;p&gt;All m
 embers are expected to attend.&lt;/p&gt;\n&lt;p&gt;&amp;nbsp\;&lt;/p&gt;\n&lt;p&gt;&amp;nbsp\;&lt;/p&gt;
END:VEVENT
END:VCALENDAR

