BEGIN:VCALENDAR
VERSION:2.0
PRODID:IEEE vTools.Events//EN
CALSCALE:GREGORIAN
BEGIN:VTIMEZONE
TZID:Australia/Sydney
BEGIN:DAYLIGHT
DTSTART:20251005T030000
TZOFFSETFROM:+1000
TZOFFSETTO:+1100
RRULE:FREQ=YEARLY;BYDAY=1SU;BYMONTH=10
TZNAME:AEDT
END:DAYLIGHT
BEGIN:STANDARD
DTSTART:20260405T020000
TZOFFSETFROM:+1100
TZOFFSETTO:+1000
RRULE:FREQ=YEARLY;BYDAY=1SU;BYMONTH=4
TZNAME:AEST
END:STANDARD
END:VTIMEZONE
BEGIN:VEVENT
DTSTAMP:20251116T072343Z
UID:45FF6E4C-ED4A-4225-8F0D-C2B5960BA634
DTSTART;TZID=Australia/Sydney:20251206T110000
DTEND;TZID=Australia/Sydney:20251206T120000
DESCRIPTION:Technical session - TBD\n\nVirtual: https://events.vtools.ieee.
 org/m/515205
LOCATION:Virtual: https://events.vtools.ieee.org/m/515205
ORGANIZER:naila.mukhtar@ieee.org
SEQUENCE:9
SUMMARY:Technical session at Australasian Database Conference ADC 2025
URL;VALUE=URI:https://events.vtools.ieee.org/m/515205
X-ALT-DESC:Description: &lt;br /&gt;&lt;p&gt;Technical session - TBD&lt;/p&gt;
END:VEVENT
END:VCALENDAR

