BEGIN:VCALENDAR
VERSION:2.0
PRODID:IEEE vTools.Events//EN
CALSCALE:GREGORIAN
BEGIN:VTIMEZONE
TZID:Europe/Berlin
BEGIN:DAYLIGHT
DTSTART:20250330T030000
TZOFFSETFROM:+0100
TZOFFSETTO:+0200
RRULE:FREQ=YEARLY;BYDAY=-1SU;BYMONTH=3
TZNAME:CEST
END:DAYLIGHT
BEGIN:STANDARD
DTSTART:20251026T020000
TZOFFSETFROM:+0200
TZOFFSETTO:+0100
RRULE:FREQ=YEARLY;BYDAY=-1SU;BYMONTH=10
TZNAME:CET
END:STANDARD
END:VTIMEZONE
BEGIN:VEVENT
DTSTAMP:20251116T090103Z
UID:A09E46C5-FF0E-4DC6-83EF-E91C769F9C15
DTSTART;TZID=Europe/Berlin:20251018T090000
DTEND;TZID=Europe/Berlin:20251018T120000
DESCRIPTION:We are pleased to announce the second edition of our exclusive 
 Competitive Programming Workshop\, led by Ahmed Khalil Seddik\, former IEE
 E ENSIT CS SBC Project Manager and currently a Software Engineer at Cognir
 a.\n\nThis session provides participants with the opportunity to develop a
 dvanced problem-solving techniques\, practice real-world competitive progr
 amming strategies\, and strengthen their preparation for IEEEXtreme 19.0.\
 n\nHighlights\n\n-\nSolving real Codeforces-style problems\n\n-\nLearning 
 efficient problem-solving patterns and algorithms\n\n-\nImproving time man
 agement and coding accuracy under pressure\n\n-\nApplying competitive prog
 ramming techniques to real-life scenarios\n\n-\nGaining insights from an e
 xperienced engineer and former SBC project manager\n\nThis workshop is des
 igned to equip participants with both the theoretical understanding and pr
 actical skills required to excel in upcoming competitions.\n\n[May be an i
 mage of studying and text that says &#39;3 스 OT SOUTEY SOMTEY MI E752:0VTE C
 OMPETITIVE PROGRAMMING WORKSHOP IEEEXTREME19 IEEEX XTREME190 PROGRAMMING C
 OMPETITION EEEStudentBranch IEEE Student Branch ENSIT ensit IEEE COMPUTER 
 SOCIETY ENSIT TSTUDENT BRANCH&#39;]\n\nhttps://maps.app.goo.gl/ERTp4rYXQ6q2oNj
 bA\, Tunis\, Tunis\, Tunisia
LOCATION:https://maps.app.goo.gl/ERTp4rYXQ6q2oNjbA\, Tunis\, Tunis\, Tunisi
 a
ORGANIZER:sbc-ensit-cs@ieee.org
SEQUENCE:15
SUMMARY:Algorithmic Problem-Solving &amp; Competitive Programming- Pre-IEEEXtre
 me Workshop Second Session
URL;VALUE=URI:https://events.vtools.ieee.org/m/515221
X-ALT-DESC:Description: &lt;br /&gt;&lt;p data-start=&quot;129&quot; data-end=&quot;348&quot;&gt;We are ple
 ased to announce the second edition of our exclusive Competitive Programmi
 ng Workshop\, led by &lt;strong data-start=&quot;233&quot; data-end=&quot;256&quot;&gt;Ahmed Khalil 
 Seddik&lt;/strong&gt;\, former IEEE ENSIT CS SBC Project Manager and currently a
  &lt;strong data-start=&quot;315&quot; data-end=&quot;347&quot;&gt;Software Engineer at Cognira&lt;/str
 ong&gt;.&lt;/p&gt;\n&lt;p data-start=&quot;350&quot; data-end=&quot;567&quot;&gt;This session provides partic
 ipants with the opportunity to develop advanced problem-solving techniques
 \, practice real-world competitive programming strategies\, and strengthen
  their preparation for &lt;strong data-start=&quot;547&quot; data-end=&quot;566&quot;&gt;IEEEXtreme 
 19.0&lt;/strong&gt;.&lt;/p&gt;\n&lt;h3 data-start=&quot;569&quot; data-end=&quot;587&quot;&gt;&lt;strong data-start
 =&quot;573&quot; data-end=&quot;587&quot;&gt;Highlights&lt;/strong&gt;&lt;/h3&gt;\n&lt;ul data-start=&quot;588&quot; data-
 end=&quot;910&quot;&gt;\n&lt;li data-start=&quot;588&quot; data-end=&quot;630&quot;&gt;\n&lt;p data-start=&quot;590&quot; data
 -end=&quot;630&quot;&gt;Solving real Codeforces-style problems&lt;/p&gt;\n&lt;/li&gt;\n&lt;li data-sta
 rt=&quot;631&quot; data-end=&quot;693&quot;&gt;\n&lt;p data-start=&quot;633&quot; data-end=&quot;693&quot;&gt;Learning effi
 cient problem-solving patterns and algorithms&lt;/p&gt;\n&lt;/li&gt;\n&lt;li data-start=&quot;
 694&quot; data-end=&quot;758&quot;&gt;\n&lt;p data-start=&quot;696&quot; data-end=&quot;758&quot;&gt;Improving time ma
 nagement and coding accuracy under pressure&lt;/p&gt;\n&lt;/li&gt;\n&lt;li data-start=&quot;75
 9&quot; data-end=&quot;829&quot;&gt;\n&lt;p data-start=&quot;761&quot; data-end=&quot;829&quot;&gt;Applying competitiv
 e programming techniques to real-life scenarios&lt;/p&gt;\n&lt;/li&gt;\n&lt;li data-start
 =&quot;830&quot; data-end=&quot;910&quot;&gt;\n&lt;p data-start=&quot;832&quot; data-end=&quot;910&quot;&gt;Gaining insight
 s from an experienced engineer and former SBC project manager&lt;/p&gt;\n&lt;/li&gt;\n
 &lt;/ul&gt;\n&lt;p data-start=&quot;912&quot; data-end=&quot;1064&quot;&gt;This workshop is designed to eq
 uip participants with both the theoretical understanding and practical ski
 lls required to excel in upcoming competitions.&lt;/p&gt;\n&lt;p data-start=&quot;912&quot; d
 ata-end=&quot;1064&quot;&gt;&amp;nbsp\;&lt;/p&gt;\n&lt;p data-start=&quot;912&quot; data-end=&quot;1064&quot;&gt;&lt;img src=&quot;
 https://scontent.ftun16-1.fna.fbcdn.net/v/t39.30808-6/580989523_1221610070
 42757988_5888951802204968720_n.jpg?_nc_cat=111&amp;amp\;ccb=1-7&amp;amp\;_nc_sid=1
 27cfc&amp;amp\;_nc_ohc=iHfZ_F2vK1QQ7kNvwHzkSRH&amp;amp\;_nc_oc=AdmZzbebom7U9Q_dWhe
 vYMI-syydES8J_er_wHU3Dur49eJiKAgYm0aCgHMqECaftmk&amp;amp\;_nc_zt=23&amp;amp\;_nc_h
 t=scontent.ftun16-1.fna&amp;amp\;_nc_gid=1LOg9BRtN1SY04igqp4FTQ&amp;amp\;oh=00_Afi
 t788MjFFlUsk687mD2SoNyHEG-B4ay4KQkoOdAMuT0A&amp;amp\;oe=691F4DF8&quot; alt=&quot;May be 
 an image of studying and text that says &#39;3 스 OT SOUTEY SOMTEY MI E752:0V
 TE COMPETITIVE PROGRAMMING WORKSHOP IEEEXTREME19 IEEEX XTREME190 PROGRAMMI
 NG COMPETITION EEEStudentBranch IEEE Student Branch ENSIT ensit IEEE COMPU
 TER SOCIETY ENSIT TSTUDENT BRANCH&#39;&quot; width=&quot;662&quot; height=&quot;333&quot;&gt;&lt;/p&gt;
END:VEVENT
END:VCALENDAR

