BEGIN:VCALENDAR
VERSION:2.0
PRODID:IEEE vTools.Events//EN
CALSCALE:GREGORIAN
BEGIN:VTIMEZONE
TZID:Asia/Kolkata
BEGIN:STANDARD
DTSTART:19451014T230000
TZOFFSETFROM:+0630
TZOFFSETTO:+0530
TZNAME:IST
END:STANDARD
END:VTIMEZONE
BEGIN:VEVENT
DTSTAMP:20251116T171042Z
UID:EB60EB6F-4DB0-45D4-B955-F6519C125746
DTSTART;TZID=Asia/Kolkata:20251112T170000
DTEND;TZID=Asia/Kolkata:20251113T193000
DESCRIPTION:The IEEE SPS JUIT Student Branch successfully organized a highl
 y engaging and fully practical Hands-On Robotics Bootcamp\, designed to in
 troduce JUIT students to real-world engineering through direct interaction
  with modern robotic systems. The bootcamp featured two core modules — D
 rone Systems and Robo-Dog Robotics — each emphasizing practical learning
 \, hardware experimentation\, system behaviour analysis\, and real-time de
 bugging.\n\nThis initiative demonstrated the branch’s commitment to fost
 ering a strong engineering culture based on hands-on exposure\, technical 
 exploration\, and intuitive learning. By focusing on real hardware instead
  of purely theoretical instruction\, the bootcamp equipped participants wi
 th a deeper understanding of how robotic systems function under different 
 conditions and how to troubleshoot them effectively.\n\nModule 1: Drone Sy
 stems Bootcamp\n\n1. Drone Architecture and Control Systems\n\n2. Sensor I
 ntegration and Stability Management\n\n3. Practical Flight\, Tuning\, and 
 Troubleshooting\n\nModule 2: Robo-Dog Robotics Bootcamp\n\nThe second part
  of the Hands-On Robotics Bootcamp focused on quadruped robotic systems\, 
 offering an immersive introduction to mechanical locomotion and dynamic co
 ntrol.\n\n1. Understanding Locomotion Systems\n\n2. Sensor Feedback and Co
 ntrol Logic\n\n3. Stability Analysis\, Testing\, and Real-Time Debugging\n
 \nImages of Events\n\nBldg: Academic Block\, Jaypee University Of Informat
 ion Technology\, Solan\, Himachal Pradesh\, India\, 173234
LOCATION:Bldg: Academic Block\, Jaypee University Of Information Technology
 \, Solan\, Himachal Pradesh\, India\, 173234
ORGANIZER:ieee.juit@juitsolan.in
SEQUENCE:0
SUMMARY:Hands On Robotic Bootcamp
URL;VALUE=URI:https://events.vtools.ieee.org/m/515356
X-ALT-DESC:Description: &lt;br /&gt;&lt;p class=&quot;MsoNormal&quot; style=&quot;text-align: cente
 r\;&quot; align=&quot;center&quot;&gt;&lt;strong style=&quot;mso-bidi-font-weight: normal\;&quot;&gt;&lt;span s
 tyle=&quot;font-size: 22.0pt\; line-height: 107%\; font-family: &#39;Times New Roma
 n&#39;\,serif\; mso-no-proof: yes\;&quot;&gt;&lt;!-- [if gte vml 1]&gt;&lt;v:shapetype id=&quot;_x00
 00_t75&quot; coordsize=&quot;21600\,21600&quot;\n o:spt=&quot;75&quot; o:preferrelative=&quot;t&quot; path=&quot;m
 @4@5l@4@11@9@11@9@5xe&quot; filled=&quot;f&quot;\n stroked=&quot;f&quot;&gt;\n &lt;v:stroke joinstyle=&quot;mi
 ter&quot;/&gt;\n &lt;v:formulas&gt;\n  &lt;v:f eqn=&quot;if lineDrawn pixelLineWidth 0&quot;/&gt;\n  &lt;v:
 f eqn=&quot;sum @0 1 0&quot;/&gt;\n  &lt;v:f eqn=&quot;sum 0 0 @1&quot;/&gt;\n  &lt;v:f eqn=&quot;prod @2 1 2&quot;/
 &gt;\n  &lt;v:f eqn=&quot;prod @3 21600 pixelWidth&quot;/&gt;\n  &lt;v:f eqn=&quot;prod @3 21600 pixe
 lHeight&quot;/&gt;\n  &lt;v:f eqn=&quot;sum @0 0 1&quot;/&gt;\n  &lt;v:f eqn=&quot;prod @6 1 2&quot;/&gt;\n  &lt;v:f 
 eqn=&quot;prod @7 21600 pixelWidth&quot;/&gt;\n  &lt;v:f eqn=&quot;sum @8 21600 0&quot;/&gt;\n  &lt;v:f eq
 n=&quot;prod @7 21600 pixelHeight&quot;/&gt;\n  &lt;v:f eqn=&quot;sum @10 21600 0&quot;/&gt;\n &lt;/v:form
 ulas&gt;\n &lt;v:path o:extrusionok=&quot;f&quot; gradientshapeok=&quot;t&quot; o:connecttype=&quot;rect&quot;
 /&gt;\n &lt;o:lock v:ext=&quot;edit&quot; aspectratio=&quot;t&quot;/&gt;\n&lt;/v:shapetype&gt;&lt;v:shape id=&quot;Pi
 cture_x0020_2&quot; o:spid=&quot;_x0000_i1029&quot; type=&quot;#_x0000_t75&quot;\n style=&#39;width:187
 .8pt\;height:265.2pt\;visibility:visible\;mso-wrap-style:square&#39;&gt;\n &lt;v:ima
 gedata src=&quot;file:///C:/Users/harsh/AppData/Local/Packages/oice_16_974fa576
 _32c1d314_731/AC/Temp/msohtmlclip1/01/clip_image001.png&quot;\n  o:title=&quot;&quot;/&gt;\n
 &lt;/v:shape&gt;&lt;![endif]--&gt;&lt;!-- [if !vml]--&gt;&lt;img src=&quot;https://events.vtools.iee
 e.org/vtools_ui/media/display/b236af03-0925-4590-99bf-f5076a89ed11&quot; width=
 &quot;250&quot; height=&quot;354&quot;&gt;&lt;!--[endif]--&gt;&lt;/span&gt;&lt;/strong&gt;&lt;/p&gt;\n&lt;p class=&quot;MsoNormal
 &quot;&gt;&lt;span style=&quot;font-size: 12.0pt\; line-height: 107%\; font-family: &#39;Times
  New Roman&#39;\,serif\;&quot;&gt;The IEEE SPS JUIT Student Branch successfully organi
 zed a highly engaging and fully practical&amp;nbsp\;&lt;strong&gt;Hands-On Robotics 
 Bootcamp&lt;/strong&gt;\, designed to introduce JUIT students to real-world engi
 neering through direct interaction with modern robotic systems. The bootca
 mp featured two core modules &amp;mdash\; &lt;strong&gt;Drone Systems&lt;/strong&gt; and &lt;
 strong&gt;Robo-Dog Robotics&lt;/strong&gt; &amp;mdash\; each emphasizing practical lear
 ning\, hardware experimentation\, system behaviour analysis\, and real-tim
 e debugging.&lt;/span&gt;&lt;/p&gt;\n&lt;p class=&quot;MsoNormal&quot;&gt;&lt;span style=&quot;font-size: 12.0
 pt\; line-height: 107%\; font-family: &#39;Times New Roman&#39;\,serif\;&quot;&gt;This ini
 tiative demonstrated the branch&amp;rsquo\;s commitment to fostering a strong 
 engineering culture based on hands-on exposure\, technical exploration\, a
 nd intuitive learning. By focusing on real hardware instead of purely theo
 retical instruction\, the bootcamp equipped participants with a deeper und
 erstanding of how robotic systems function under different conditions and 
 how to troubleshoot them effectively.&lt;/span&gt;&lt;/p&gt;\n&lt;p class=&quot;MsoNormal&quot;&gt;&lt;st
 rong&gt;&lt;span style=&quot;font-size: 12.0pt\; line-height: 107%\; font-family: &#39;Ti
 mes New Roman&#39;\,serif\;&quot;&gt;Module 1: Drone Systems Bootcamp&lt;/span&gt;&lt;/strong&gt;&lt;
 /p&gt;\n&lt;p class=&quot;MsoNormal&quot;&gt;&lt;strong&gt;&lt;span style=&quot;font-size: 12.0pt\; line-he
 ight: 107%\; font-family: &#39;Times New Roman&#39;\,serif\;&quot;&gt;1. Drone Architectur
 e and Control Systems&lt;/span&gt;&lt;/strong&gt;&lt;/p&gt;\n&lt;p class=&quot;MsoNormal&quot;&gt;&lt;strong&gt;&lt;s
 pan style=&quot;font-size: 12.0pt\; line-height: 107%\; font-family: &#39;Times New
  Roman&#39;\,serif\;&quot;&gt;2. Sensor Integration and Stability Management&lt;/span&gt;&lt;/s
 trong&gt;&lt;/p&gt;\n&lt;p class=&quot;MsoNormal&quot;&gt;&lt;strong&gt;&lt;span style=&quot;font-size: 12.0pt\; 
 line-height: 107%\; font-family: &#39;Times New Roman&#39;\,serif\;&quot;&gt;3. Practical 
 Flight\, Tuning\, and Troubleshooting&lt;/span&gt;&lt;/strong&gt;&lt;/p&gt;\n&lt;p class=&quot;MsoNo
 rmal&quot;&gt;&lt;strong&gt;&lt;span style=&quot;font-size: 12.0pt\; line-height: 107%\; font-fa
 mily: &#39;Times New Roman&#39;\,serif\;&quot;&gt;Module 2: Robo-Dog Robotics Bootcamp&lt;/sp
 an&gt;&lt;/strong&gt;&lt;/p&gt;\n&lt;p class=&quot;MsoNormal&quot;&gt;&lt;span style=&quot;font-size: 12.0pt\; li
 ne-height: 107%\; font-family: &#39;Times New Roman&#39;\,serif\;&quot;&gt;The second part
  of the Hands-On Robotics Bootcamp focused on quadruped robotic systems\, 
 offering an immersive introduction to mechanical locomotion and dynamic co
 ntrol.&lt;/span&gt;&lt;/p&gt;\n&lt;p class=&quot;MsoNormal&quot;&gt;&lt;strong&gt;&lt;span style=&quot;font-size: 12
 .0pt\; line-height: 107%\; font-family: &#39;Times New Roman&#39;\,serif\;&quot;&gt;1. Und
 erstanding Locomotion Systems&lt;/span&gt;&lt;/strong&gt;&lt;/p&gt;\n&lt;p class=&quot;MsoNormal&quot;&gt;&lt;s
 trong&gt;&lt;span style=&quot;font-size: 12.0pt\; line-height: 107%\; font-family: &#39;T
 imes New Roman&#39;\,serif\;&quot;&gt;2. Sensor Feedback and Control Logic&lt;/span&gt;&lt;/str
 ong&gt;&lt;/p&gt;\n&lt;p class=&quot;MsoNormal&quot;&gt;&lt;strong&gt;&lt;span style=&quot;font-size: 12.0pt\; li
 ne-height: 107%\; font-family: &#39;Times New Roman&#39;\,serif\;&quot;&gt;3. Stability An
 alysis\, Testing\, and Real-Time Debugging&lt;/span&gt;&lt;/strong&gt;&lt;/p&gt;\n&lt;p class=&quot;
 MsoNormal&quot;&gt;&lt;strong&gt;&lt;span style=&quot;font-size: 12.0pt\; line-height: 107%\; fo
 nt-family: &#39;Times New Roman&#39;\,serif\;&quot;&gt;Images of Events&lt;/span&gt;&lt;/strong&gt;&lt;/p
 &gt;\n&lt;p class=&quot;MsoNormal&quot;&gt;&lt;strong&gt;&lt;span style=&quot;font-size: 12.0pt\; line-heig
 ht: 107%\; font-family: &#39;Times New Roman&#39;\,serif\;&quot;&gt;&amp;nbsp\;&lt;/span&gt;&lt;/strong
 &gt;&lt;/p&gt;\n&lt;p class=&quot;MsoNormal&quot; style=&quot;text-align: center\;&quot; align=&quot;center&quot;&gt;&lt;s
 pan style=&quot;mso-no-proof: yes\;&quot;&gt;&lt;!-- [if gte vml 1]&gt;&lt;v:shape id=&quot;image4.pn
 g&quot; o:spid=&quot;_x0000_i1028&quot;\n type=&quot;#_x0000_t75&quot; style=&#39;width:282.6pt\;height
 :160.8pt\;visibility:visible\;\n mso-wrap-style:square&#39;&gt;\n &lt;v:imagedata sr
 c=&quot;file:///C:/Users/harsh/AppData/Local/Packages/oice_16_974fa576_32c1d314
 _731/AC/Temp/msohtmlclip1/01/clip_image003.png&quot;\n  o:title=&quot;&quot;/&gt;\n&lt;/v:shape
 &gt;&lt;![endif]--&gt;&lt;!-- [if !vml]--&gt;&lt;img src=&quot;https://events.vtools.ieee.org/vto
 ols_ui/media/display/d2ef9c81-845b-4651-b5b5-9dea30961074&quot; width=&quot;377&quot; hei
 ght=&quot;214&quot;&gt;&amp;nbsp\; &amp;nbsp\; &amp;nbsp\; &amp;nbsp\; &amp;nbsp\; &amp;nbsp\;&lt;!--[endif]--&gt;&lt;!-
 - [if gte vml 1]&gt;&lt;v:shape id=&quot;_x0000_i1027&quot;\n type=&quot;#_x0000_t75&quot; style=&#39;wi
 dth:276.6pt\;height:189.6pt\;visibility:visible\;\n mso-wrap-style:square&#39;
 &gt;\n &lt;v:imagedata src=&quot;file:///C:/Users/harsh/AppData/Local/Packages/oice_1
 6_974fa576_32c1d314_731/AC/Temp/msohtmlclip1/01/clip_image005.png&quot;\n  o:ti
 tle=&quot;&quot;/&gt;\n&lt;/v:shape&gt;&lt;![endif]--&gt;&lt;!-- [if !vml]--&gt;&lt;img src=&quot;https://events.
 vtools.ieee.org/vtools_ui/media/display/178c686c-c526-4e59-a96d-1cb769b0a4
 2d&quot; width=&quot;369&quot; height=&quot;253&quot;&gt;&lt;!--[endif]--&gt;&lt;!-- [if gte vml 1]&gt;&lt;v:shape id
 =&quot;image5.png&quot;\n o:spid=&quot;_x0000_i1026&quot; type=&quot;#_x0000_t75&quot; style=&#39;width:273.
 6pt\;height:215.4pt\;\n visibility:visible\;mso-wrap-style:square&#39;&gt;\n &lt;v:i
 magedata src=&quot;file:///C:/Users/harsh/AppData/Local/Packages/oice_16_974fa5
 76_32c1d314_731/AC/Temp/msohtmlclip1/01/clip_image007.png&quot;\n  o:title=&quot;&quot;/&gt;
 \n&lt;/v:shape&gt;&lt;![endif]--&gt;&lt;!-- [if !vml]--&gt;&lt;img src=&quot;https://events.vtools.i
 eee.org/vtools_ui/media/display/a376402c-0223-4ae4-b0e1-0043ffab7b68&quot; widt
 h=&quot;365&quot; height=&quot;287&quot;&gt;&amp;nbsp\; &amp;nbsp\; &lt;img src=&quot;https://events.vtools.ieee.
 org/vtools_ui/media/display/ca9a520a-8cc3-4890-9de5-71ff098f7b4a&quot; width=&quot;4
 12&quot; height=&quot;285&quot;&gt;&lt;!--[endif]--&gt;&lt;/span&gt;&lt;/p&gt;
END:VEVENT
END:VCALENDAR

